BEGIN:VCALENDAR
VERSION:2.0
PRODID:-//jEvents 2.0 for Joomla//EN
CALSCALE:GREGORIAN
METHOD:PUBLISH
BEGIN:VTIMEZONE
TZID:Europe/Berlin
BEGIN:STANDARD
DTSTART:20121110T191500
RDATE:20130331T030000
TZOFFSETFROM:+0200
TZOFFSETTO:+0100
TZNAME:Europe/Berlin CET
END:STANDARD
BEGIN:STANDARD
DTSTART:20131027T020000
RDATE:20140330T030000
TZOFFSETFROM:+0200
TZOFFSETTO:+0100
TZNAME:Europe/Berlin CET
END:STANDARD
BEGIN:STANDARD
DTSTART:20141026T020000
RDATE:20150329T030000
TZOFFSETFROM:+0200
TZOFFSETTO:+0100
TZNAME:Europe/Berlin CET
END:STANDARD
BEGIN:STANDARD
DTSTART:20151025T020000
RDATE:20160327T030000
TZOFFSETFROM:+0200
TZOFFSETTO:+0100
TZNAME:Europe/Berlin CET
END:STANDARD
BEGIN:STANDARD
DTSTART:20161030T020000
RDATE:20170326T030000
TZOFFSETFROM:+0200
TZOFFSETTO:+0100
TZNAME:Europe/Berlin CET
END:STANDARD
BEGIN:STANDARD
DTSTART:20171029T020000
RDATE:20180325T030000
TZOFFSETFROM:+0200
TZOFFSETTO:+0100
TZNAME:Europe/Berlin CET
END:STANDARD
BEGIN:STANDARD
DTSTART:20181028T020000
RDATE:20190331T030000
TZOFFSETFROM:+0200
TZOFFSETTO:+0100
TZNAME:Europe/Berlin CET
END:STANDARD
BEGIN:STANDARD
DTSTART:20191027T020000
RDATE:20200329T030000
TZOFFSETFROM:+0200
TZOFFSETTO:+0100
TZNAME:Europe/Berlin CET
END:STANDARD
BEGIN:STANDARD
DTSTART:20201025T020000
RDATE:20210328T030000
TZOFFSETFROM:+0200
TZOFFSETTO:+0100
TZNAME:Europe/Berlin CET
END:STANDARD
BEGIN:STANDARD
DTSTART:20211031T020000
RDATE:20220327T030000
TZOFFSETFROM:+0200
TZOFFSETTO:+0100
TZNAME:Europe/Berlin CET
END:STANDARD
BEGIN:STANDARD
DTSTART:20221030T020000
RDATE:20230326T030000
TZOFFSETFROM:+0200
TZOFFSETTO:+0100
TZNAME:Europe/Berlin CET
END:STANDARD
BEGIN:STANDARD
DTSTART:20231029T020000
RDATE:20240331T030000
TZOFFSETFROM:+0200
TZOFFSETTO:+0100
TZNAME:Europe/Berlin CET
END:STANDARD
BEGIN:STANDARD
DTSTART:20241027T020000
RDATE:20250330T030000
TZOFFSETFROM:+0200
TZOFFSETTO:+0100
TZNAME:Europe/Berlin CET
END:STANDARD
BEGIN:STANDARD
DTSTART:20251026T020000
RDATE:20260329T030000
TZOFFSETFROM:+0200
TZOFFSETTO:+0100
TZNAME:Europe/Berlin CET
END:STANDARD
BEGIN:STANDARD
DTSTART:20261025T020000
RDATE:20270328T030000
TZOFFSETFROM:+0200
TZOFFSETTO:+0100
TZNAME:Europe/Berlin CET
END:STANDARD
BEGIN:STANDARD
DTSTART:20271031T020000
RDATE:20280326T030000
TZOFFSETFROM:+0200
TZOFFSETTO:+0100
TZNAME:Europe/Berlin CET
END:STANDARD
BEGIN:DAYLIGHT
DTSTART:20130331T030000
RDATE:20131027T020000
TZOFFSETFROM:+0100
TZOFFSETTO:+0200
TZNAME:Europe/Berlin CEST
END:DAYLIGHT
BEGIN:DAYLIGHT
DTSTART:20140330T030000
RDATE:20141026T020000
TZOFFSETFROM:+0100
TZOFFSETTO:+0200
TZNAME:Europe/Berlin CEST
END:DAYLIGHT
BEGIN:DAYLIGHT
DTSTART:20150329T030000
RDATE:20151025T020000
TZOFFSETFROM:+0100
TZOFFSETTO:+0200
TZNAME:Europe/Berlin CEST
END:DAYLIGHT
BEGIN:DAYLIGHT
DTSTART:20160327T030000
RDATE:20161030T020000
TZOFFSETFROM:+0100
TZOFFSETTO:+0200
TZNAME:Europe/Berlin CEST
END:DAYLIGHT
BEGIN:DAYLIGHT
DTSTART:20170326T030000
RDATE:20171029T020000
TZOFFSETFROM:+0100
TZOFFSETTO:+0200
TZNAME:Europe/Berlin CEST
END:DAYLIGHT
BEGIN:DAYLIGHT
DTSTART:20180325T030000
RDATE:20181028T020000
TZOFFSETFROM:+0100
TZOFFSETTO:+0200
TZNAME:Europe/Berlin CEST
END:DAYLIGHT
BEGIN:DAYLIGHT
DTSTART:20190331T030000
RDATE:20191027T020000
TZOFFSETFROM:+0100
TZOFFSETTO:+0200
TZNAME:Europe/Berlin CEST
END:DAYLIGHT
BEGIN:DAYLIGHT
DTSTART:20200329T030000
RDATE:20201025T020000
TZOFFSETFROM:+0100
TZOFFSETTO:+0200
TZNAME:Europe/Berlin CEST
END:DAYLIGHT
BEGIN:DAYLIGHT
DTSTART:20210328T030000
RDATE:20211031T020000
TZOFFSETFROM:+0100
TZOFFSETTO:+0200
TZNAME:Europe/Berlin CEST
END:DAYLIGHT
BEGIN:DAYLIGHT
DTSTART:20220327T030000
RDATE:20221030T020000
TZOFFSETFROM:+0100
TZOFFSETTO:+0200
TZNAME:Europe/Berlin CEST
END:DAYLIGHT
BEGIN:DAYLIGHT
DTSTART:20230326T030000
RDATE:20231029T020000
TZOFFSETFROM:+0100
TZOFFSETTO:+0200
TZNAME:Europe/Berlin CEST
END:DAYLIGHT
BEGIN:DAYLIGHT
DTSTART:20240331T030000
RDATE:20241027T020000
TZOFFSETFROM:+0100
TZOFFSETTO:+0200
TZNAME:Europe/Berlin CEST
END:DAYLIGHT
BEGIN:DAYLIGHT
DTSTART:20250330T030000
RDATE:20251026T020000
TZOFFSETFROM:+0100
TZOFFSETTO:+0200
TZNAME:Europe/Berlin CEST
END:DAYLIGHT
BEGIN:DAYLIGHT
DTSTART:20260329T030000
RDATE:20261025T020000
TZOFFSETFROM:+0100
TZOFFSETTO:+0200
TZNAME:Europe/Berlin CEST
END:DAYLIGHT
BEGIN:DAYLIGHT
DTSTART:20270328T030000
RDATE:20271031T020000
TZOFFSETFROM:+0100
TZOFFSETTO:+0200
TZNAME:Europe/Berlin CEST
END:DAYLIGHT
END:VTIMEZONE
BEGIN:VEVENT
UID:08c22004403eeb6da19b20bf89e330eb
CATEGORIES:Gruppen
CREATED:20130929T185458
SUMMARY:Männerselbsterfahrungsgruppe
LOCATION:ESG\, Grupenraum Obergeschoss
URL;VALUE=URI:https://www.esg-trier.de/veranstaltungskalender/eventeinzelheiten/1003/-/mä
 nnerselbsterfahrungsgruppe?tmpl=component
DESCRIPTION:Die Gruppe versteht sich als ein Raum, in dem sich Männer über ihre  Bedürf
 nisse und Nöte, Sorgen und Freuden austauschen können. Eigenverantwortung, 
 sowie ein ehrlicher und wertschätzender Umgang miteinander sind uns ebenso 
 wichtig, wie die Bereitschaft zur persönlichen Veränderung hin zu mehr Lebe
 nsfreude, unabhängig vom gesellschaftlich normierten Männerbild. Ziele sind
  die Stärkung des Selbstwertgefühls, die Unterstützung des persönlichen Wac
 hstums, aber auch die Bearbeitung persönlicher Konflikte. Wir erleben in un
 serem Zusammensein, bei gemeinsamen Aktivitäten und gegenseitiger Unterstüt
 zung über die wöchentlichen Treffen hinaus viel Freude und Spaß miteinander
 .\n \nDie Gruppe ist offen für Interessenten.\n     \nBei Interesse bitte K
 ontakt per Mail (Diese E-Mail-Adresse ist vor Spambots geschützt! Zur Anzei
 ge muss JavaScript eingeschaltet sein.) aufnehmen oder \nTel.: 0651 – 14904
 13.\n This event was imported from: https://www.esg-trier.de/veranstaltungs
 kalender/eventeinzelheiten/1003/-/männerselbsterfahrungsgruppe?tmpl=compone
 nt
X-ALT-DESC;FMTTYPE=text/html:<p>Die Gruppe versteht sich als ein Raum, in dem sich Männer über ihre  Bed
 ürfnisse und Nöte, Sorgen und Freuden austauschen können. Eigenverantwortun
 g, sowie ein ehrlicher und wertschätzender Umgang miteinander sind uns eben
 so wichtig, wie die Bereitschaft zur persönlichen Veränderung hin zu mehr L
 ebensfreude, unabhängig vom gesellschaftlich normierten Männerbild. Ziele s
 ind die Stärkung des Selbstwertgefühls, die Unterstützung des persönlichen 
 Wachstums, aber auch die Bearbeitung persönlicher Konflikte. Wir erleben in
  unserem Zusammensein, bei gemeinsamen Aktivitäten und gegenseitiger Unters
 tützung über die wöchentlichen Treffen hinaus viel Freude und Spaß miteinan
 der.<br /> <br />Die Gruppe ist offen für Interessenten.<br />     <br />Be
 i Interesse bitte Kontakt per Mail (<joomla-hidden-mail  is-link="1" is-ema
 il="1" first="TVJUX1RyaWVyXzI=" last="eWFob29ncm91cHMuZGU=" text="TVJUX1Rya
 WVyXzJAeWFob29ncm91cHMuZGU=" base="" >Diese E-Mail-Adresse ist vor Spambots
  geschützt! Zur Anzeige muss JavaScript eingeschaltet sein.</joomla-hidden-
 mail>) aufnehmen oder <br />Tel.: 0651 – 1490413.</p> <a href="https://www.
 esg-trier.de/veranstaltungskalender/eventeinzelheiten/1003/-/männerselbster
 fahrungsgruppe?tmpl=component">This event was imported from: https://www.es
 g-trier.de/veranstaltungskalender/eventeinzelheiten/1003/-/männerselbsterfa
 hrungsgruppe?tmpl=component</a>DTSTAMP:20260423T023238
DTSTART;TZID=Europe/Berlin:20131111T191500
SEQUENCE:0
TRANSP:OPAQUE
END:VEVENT
END:VCALENDAR