BEGIN:VCALENDAR
VERSION:2.0
PRODID:-//jEvents 2.0 for Joomla//EN
CALSCALE:GREGORIAN
METHOD:PUBLISH
BEGIN:VTIMEZONE
TZID:Europe/Berlin
BEGIN:STANDARD
DTSTART:20250328T230000
RDATE:20250330T030000
TZOFFSETFROM:+0200
TZOFFSETTO:+0100
TZNAME:Europe/Berlin CET
END:STANDARD
BEGIN:STANDARD
DTSTART:20251026T020000
RDATE:20260329T030000
TZOFFSETFROM:+0200
TZOFFSETTO:+0100
TZNAME:Europe/Berlin CET
END:STANDARD
BEGIN:STANDARD
DTSTART:20261025T020000
RDATE:20270328T030000
TZOFFSETFROM:+0200
TZOFFSETTO:+0100
TZNAME:Europe/Berlin CET
END:STANDARD
BEGIN:STANDARD
DTSTART:20271031T020000
RDATE:20280326T030000
TZOFFSETFROM:+0200
TZOFFSETTO:+0100
TZNAME:Europe/Berlin CET
END:STANDARD
BEGIN:DAYLIGHT
DTSTART:20250330T030000
RDATE:20251026T020000
TZOFFSETFROM:+0100
TZOFFSETTO:+0200
TZNAME:Europe/Berlin CEST
END:DAYLIGHT
BEGIN:DAYLIGHT
DTSTART:20260329T030000
RDATE:20261025T020000
TZOFFSETFROM:+0100
TZOFFSETTO:+0200
TZNAME:Europe/Berlin CEST
END:DAYLIGHT
BEGIN:DAYLIGHT
DTSTART:20270328T030000
RDATE:20271031T020000
TZOFFSETFROM:+0100
TZOFFSETTO:+0200
TZNAME:Europe/Berlin CEST
END:DAYLIGHT
END:VTIMEZONE
BEGIN:VEVENT
UID:f377ed9e05e71586e04f7236c7e8435e
CATEGORIES:Hinweise
CREATED:20250907T175005
SUMMARY:Schul-Osterferien RLP
URL;VALUE=URI:https://www.esg-trier.de/veranstaltungskalender/eventeinzelheiten/10373/-/s
 chul-osterferien-rlp?tmpl=component
DESCRIPTION: <a href="https://www.esg-trier.de/veranstaltungskalender/eventeinzelheiten
 /10373/-/schul-osterferien-rlp?tmpl=component">This event was imported from
 : https://www.esg-trier.de/veranstaltungskalender/eventeinzelheiten/10373/-
 /schul-osterferien-rlp?tmpl=component</a>DTSTAMP:20260423T024809
DTSTART;TZID=Europe/Berlin;VALUE=DATE:20260330
DTEND;TZID=Europe/Berlin;VALUE=DATE:20260411
SEQUENCE:0
TRANSP:OPAQUE
END:VEVENT
END:VCALENDAR