BEGIN:VCALENDAR
VERSION:2.0
PRODID:-//jEvents 2.0 for Joomla//EN
CALSCALE:GREGORIAN
METHOD:PUBLISH
BEGIN:VTIMEZONE
TZID:Europe/Berlin
BEGIN:STANDARD
DTSTART:20251026T020000
RDATE:20260329T030000
TZOFFSETFROM:+0200
TZOFFSETTO:+0100
TZNAME:Europe/Berlin CET
END:STANDARD
BEGIN:STANDARD
DTSTART:20261025T020000
RDATE:20270328T030000
TZOFFSETFROM:+0200
TZOFFSETTO:+0100
TZNAME:Europe/Berlin CET
END:STANDARD
BEGIN:STANDARD
DTSTART:20271031T020000
RDATE:20280326T030000
TZOFFSETFROM:+0200
TZOFFSETTO:+0100
TZNAME:Europe/Berlin CET
END:STANDARD
BEGIN:DAYLIGHT
DTSTART:20250430T000000
RDATE:20251026T020000
TZOFFSETFROM:+0100
TZOFFSETTO:+0200
TZNAME:Europe/Berlin CEST
END:DAYLIGHT
BEGIN:DAYLIGHT
DTSTART:20260329T030000
RDATE:20261025T020000
TZOFFSETFROM:+0100
TZOFFSETTO:+0200
TZNAME:Europe/Berlin CEST
END:DAYLIGHT
BEGIN:DAYLIGHT
DTSTART:20270328T030000
RDATE:20271031T020000
TZOFFSETFROM:+0100
TZOFFSETTO:+0200
TZNAME:Europe/Berlin CEST
END:DAYLIGHT
END:VTIMEZONE
BEGIN:VEVENT
UID:1a46f8e5fd9ade3e6dfac6830a51d63b
CATEGORIES:Hinweise
CREATED:20251223T172131
SUMMARY:Tag der Arbeit
URL;VALUE=URI:https://www.esg-trier.de/veranstaltungskalender/eventeinzelheiten/10635/-/t
 ag-der-arbeit?tmpl=component
DESCRIPTION: This event was imported from: https://www.esg-trier.de/veranstaltungskalen
 der/eventeinzelheiten/10635/-/tag-der-arbeit?tmpl=component
X-ALT-DESC;FMTTYPE=text/html: <a href="https://www.esg-trier.de/veranstaltungskalender/eventeinzelheiten
 /10635/-/tag-der-arbeit?tmpl=component">This event was imported from: https
 ://www.esg-trier.de/veranstaltungskalender/eventeinzelheiten/10635/-/tag-de
 r-arbeit?tmpl=component</a>DTSTAMP:20260419T194801
DTSTART;TZID=Europe/Berlin;VALUE=DATE:20260501
DTEND;TZID=Europe/Berlin;VALUE=DATE:20260502
SEQUENCE:0
TRANSP:OPAQUE
END:VEVENT
END:VCALENDAR