BEGIN:VCALENDAR
VERSION:2.0
PRODID:-//jEvents 2.0 for Joomla//EN
CALSCALE:GREGORIAN
METHOD:PUBLISH
BEGIN:VTIMEZONE
TZID:Europe/Berlin
BEGIN:STANDARD
DTSTART:20111108T193000
RDATE:20120325T030000
TZOFFSETFROM:+0200
TZOFFSETTO:+0100
TZNAME:Europe/Berlin CET
END:STANDARD
BEGIN:STANDARD
DTSTART:20121028T020000
RDATE:20130331T030000
TZOFFSETFROM:+0200
TZOFFSETTO:+0100
TZNAME:Europe/Berlin CET
END:STANDARD
BEGIN:STANDARD
DTSTART:20131027T020000
RDATE:20140330T030000
TZOFFSETFROM:+0200
TZOFFSETTO:+0100
TZNAME:Europe/Berlin CET
END:STANDARD
BEGIN:STANDARD
DTSTART:20141026T020000
RDATE:20150329T030000
TZOFFSETFROM:+0200
TZOFFSETTO:+0100
TZNAME:Europe/Berlin CET
END:STANDARD
BEGIN:STANDARD
DTSTART:20151025T020000
RDATE:20160327T030000
TZOFFSETFROM:+0200
TZOFFSETTO:+0100
TZNAME:Europe/Berlin CET
END:STANDARD
BEGIN:STANDARD
DTSTART:20161030T020000
RDATE:20170326T030000
TZOFFSETFROM:+0200
TZOFFSETTO:+0100
TZNAME:Europe/Berlin CET
END:STANDARD
BEGIN:STANDARD
DTSTART:20171029T020000
RDATE:20180325T030000
TZOFFSETFROM:+0200
TZOFFSETTO:+0100
TZNAME:Europe/Berlin CET
END:STANDARD
BEGIN:STANDARD
DTSTART:20181028T020000
RDATE:20190331T030000
TZOFFSETFROM:+0200
TZOFFSETTO:+0100
TZNAME:Europe/Berlin CET
END:STANDARD
BEGIN:STANDARD
DTSTART:20191027T020000
RDATE:20200329T030000
TZOFFSETFROM:+0200
TZOFFSETTO:+0100
TZNAME:Europe/Berlin CET
END:STANDARD
BEGIN:STANDARD
DTSTART:20201025T020000
RDATE:20210328T030000
TZOFFSETFROM:+0200
TZOFFSETTO:+0100
TZNAME:Europe/Berlin CET
END:STANDARD
BEGIN:STANDARD
DTSTART:20211031T020000
RDATE:20220327T030000
TZOFFSETFROM:+0200
TZOFFSETTO:+0100
TZNAME:Europe/Berlin CET
END:STANDARD
BEGIN:STANDARD
DTSTART:20221030T020000
RDATE:20230326T030000
TZOFFSETFROM:+0200
TZOFFSETTO:+0100
TZNAME:Europe/Berlin CET
END:STANDARD
BEGIN:STANDARD
DTSTART:20231029T020000
RDATE:20240331T030000
TZOFFSETFROM:+0200
TZOFFSETTO:+0100
TZNAME:Europe/Berlin CET
END:STANDARD
BEGIN:STANDARD
DTSTART:20241027T020000
RDATE:20250330T030000
TZOFFSETFROM:+0200
TZOFFSETTO:+0100
TZNAME:Europe/Berlin CET
END:STANDARD
BEGIN:STANDARD
DTSTART:20251026T020000
RDATE:20260329T030000
TZOFFSETFROM:+0200
TZOFFSETTO:+0100
TZNAME:Europe/Berlin CET
END:STANDARD
BEGIN:STANDARD
DTSTART:20261025T020000
RDATE:20270328T030000
TZOFFSETFROM:+0200
TZOFFSETTO:+0100
TZNAME:Europe/Berlin CET
END:STANDARD
BEGIN:STANDARD
DTSTART:20271031T020000
RDATE:20280326T030000
TZOFFSETFROM:+0200
TZOFFSETTO:+0100
TZNAME:Europe/Berlin CET
END:STANDARD
BEGIN:DAYLIGHT
DTSTART:20120325T030000
RDATE:20121028T020000
TZOFFSETFROM:+0100
TZOFFSETTO:+0200
TZNAME:Europe/Berlin CEST
END:DAYLIGHT
BEGIN:DAYLIGHT
DTSTART:20130331T030000
RDATE:20131027T020000
TZOFFSETFROM:+0100
TZOFFSETTO:+0200
TZNAME:Europe/Berlin CEST
END:DAYLIGHT
BEGIN:DAYLIGHT
DTSTART:20140330T030000
RDATE:20141026T020000
TZOFFSETFROM:+0100
TZOFFSETTO:+0200
TZNAME:Europe/Berlin CEST
END:DAYLIGHT
BEGIN:DAYLIGHT
DTSTART:20150329T030000
RDATE:20151025T020000
TZOFFSETFROM:+0100
TZOFFSETTO:+0200
TZNAME:Europe/Berlin CEST
END:DAYLIGHT
BEGIN:DAYLIGHT
DTSTART:20160327T030000
RDATE:20161030T020000
TZOFFSETFROM:+0100
TZOFFSETTO:+0200
TZNAME:Europe/Berlin CEST
END:DAYLIGHT
BEGIN:DAYLIGHT
DTSTART:20170326T030000
RDATE:20171029T020000
TZOFFSETFROM:+0100
TZOFFSETTO:+0200
TZNAME:Europe/Berlin CEST
END:DAYLIGHT
BEGIN:DAYLIGHT
DTSTART:20180325T030000
RDATE:20181028T020000
TZOFFSETFROM:+0100
TZOFFSETTO:+0200
TZNAME:Europe/Berlin CEST
END:DAYLIGHT
BEGIN:DAYLIGHT
DTSTART:20190331T030000
RDATE:20191027T020000
TZOFFSETFROM:+0100
TZOFFSETTO:+0200
TZNAME:Europe/Berlin CEST
END:DAYLIGHT
BEGIN:DAYLIGHT
DTSTART:20200329T030000
RDATE:20201025T020000
TZOFFSETFROM:+0100
TZOFFSETTO:+0200
TZNAME:Europe/Berlin CEST
END:DAYLIGHT
BEGIN:DAYLIGHT
DTSTART:20210328T030000
RDATE:20211031T020000
TZOFFSETFROM:+0100
TZOFFSETTO:+0200
TZNAME:Europe/Berlin CEST
END:DAYLIGHT
BEGIN:DAYLIGHT
DTSTART:20220327T030000
RDATE:20221030T020000
TZOFFSETFROM:+0100
TZOFFSETTO:+0200
TZNAME:Europe/Berlin CEST
END:DAYLIGHT
BEGIN:DAYLIGHT
DTSTART:20230326T030000
RDATE:20231029T020000
TZOFFSETFROM:+0100
TZOFFSETTO:+0200
TZNAME:Europe/Berlin CEST
END:DAYLIGHT
BEGIN:DAYLIGHT
DTSTART:20240331T030000
RDATE:20241027T020000
TZOFFSETFROM:+0100
TZOFFSETTO:+0200
TZNAME:Europe/Berlin CEST
END:DAYLIGHT
BEGIN:DAYLIGHT
DTSTART:20250330T030000
RDATE:20251026T020000
TZOFFSETFROM:+0100
TZOFFSETTO:+0200
TZNAME:Europe/Berlin CEST
END:DAYLIGHT
BEGIN:DAYLIGHT
DTSTART:20260329T030000
RDATE:20261025T020000
TZOFFSETFROM:+0100
TZOFFSETTO:+0200
TZNAME:Europe/Berlin CEST
END:DAYLIGHT
BEGIN:DAYLIGHT
DTSTART:20270328T030000
RDATE:20271031T020000
TZOFFSETFROM:+0100
TZOFFSETTO:+0200
TZNAME:Europe/Berlin CEST
END:DAYLIGHT
END:VTIMEZONE
BEGIN:VEVENT
UID:f3da5bcfb3733e5a2a4050b826d4425e
CATEGORIES:ESG
CREATED:20121022T123424
SUMMARY:Wenn es aufklart - Lesung - Kultur mit Stephanus
LOCATION:Buchhandlung Stephanus
URL;VALUE=URI:https://www.esg-trier.de/veranstaltungskalender/eventeinzelheiten/112/-/wen
 n-es-aufklart-lesung-kultur-mit-stephanus?tmpl=component
DESCRIPTION:Aus der Reihe: Kultur mit Stephanus:\nWenn es aufklar - Lesung mit Frauke V
 erlinden\n\n\nEine\n junge  Frau,  die  der\nLiebe begegnet, ein Paar in de
 r \nKrise,  ein alter Mann  an der Schwelle \ndes  Todes  - Frauke  Verlind
 en  erzählt  von \nMenschen an Wendepunkten des Lebens. Immer\n spielt dabe
 i  die Erinnerung  eine  besondere  Rolle. \nIn präziser und  zugleich  poe
 tischer  Sprache zeich-\nnet  Frauke Verlinden  ihre Figuren  und deren Kri
 sen. \nDoch  sie zeigt auch  –  der Titel des Bandes deutet es \nbereits  a
 n  -, wie sich solche beklemmenden Erfahrun-\ngen auflösen können. Eindruck
 svoll gelingt es Frauke \nVerlinden,   Naturwahrnehmung   sprachlich   umzu
 -\nsetzen,  ob  nun als  bedrohlich oder beglückend \nempfunden.  Gerade  h
 ierin  zeigt  sich  ihr\n schriftstellerisches Talent, ihr Gespür \nfür  Rh
 ythmus,  ihr  Sinn  für \nDetails.\n\nFrauke Birtsch, die unter dem Mädchen
 namen ihrer Großmutter veröffentlicht, war 2009 und 2010 als Quattropole-St
 adtschreiberin für Saarbrücken, Trier, Luxemburg und Metz tätig.\nVeranstal
 tungsort: Buchhandlung Stephanus, Im Treff 23\nEintritt frei!\n This event 
 was imported from: https://www.esg-trier.de/veranstaltungskalender/eventein
 zelheiten/112/-/wenn-es-aufklart-lesung-kultur-mit-stephanus?tmpl=component
X-ALT-DESC;FMTTYPE=text/html:<p style="text-align: center;">Aus der Reihe: <strong>Kultur mit Stephanus<
 /strong>:</p><p style="text-align: center;">Wenn es aufklar - Lesung mit Fr
 auke Verlinden<br /><br /><br />Eine<br /> junge  Frau,  die  der<br />Lieb
 e begegnet, ein Paar in der <br />Krise,  ein alter Mann  an der Schwelle <
 br />des  Todes  - Frauke  Verlinden  erzählt  von <br />Menschen an Wendep
 unkten des Lebens. Immer<br /> spielt dabei  die Erinnerung  eine  besonder
 e  Rolle. <br />In präziser und  zugleich  poetischer  Sprache zeich-<br />
 net  Frauke Verlinden  ihre Figuren  und deren Krisen. <br />Doch  sie zeig
 t auch  –  der Titel des Bandes deutet es <br />bereits  an  -, wie sich so
 lche beklemmenden Erfahrun-<br />gen auflösen können. Eindrucksvoll gelingt
  es Frauke <br />Verlinden,   Naturwahrnehmung   sprachlich   umzu-<br />se
 tzen,  ob  nun als  bedrohlich oder beglückend <br />empfunden.  Gerade  hi
 erin  zeigt  sich  ihr<br /> schriftstellerisches Talent, ihr Gespür <br />
 für  Rhythmus,  ihr  Sinn  für <br />Details.<br /><br />Frauke Birtsch, di
 e unter dem Mädchennamen ihrer Großmutter veröffentlicht, war 2009 und 2010
  als Quattropole-Stadtschreiberin für Saarbrücken, Trier, Luxemburg und Met
 z tätig.</p><p style="text-align: center;">Veranstaltungsort: Buchhandlung 
 Stephanus, Im Treff 23</p><p style="text-align: center;">Eintritt frei!</p>
  <a href="https://www.esg-trier.de/veranstaltungskalender/eventeinzelheiten
 /112/-/wenn-es-aufklart-lesung-kultur-mit-stephanus?tmpl=component">This ev
 ent was imported from: https://www.esg-trier.de/veranstaltungskalender/even
 teinzelheiten/112/-/wenn-es-aufklart-lesung-kultur-mit-stephanus?tmpl=compo
 nent</a>DTSTAMP:20260423T102901
DTSTART;TZID=Europe/Berlin:20121108T193000
DTEND;TZID=Europe/Berlin:20121108T213000
SEQUENCE:0
TRANSP:OPAQUE
END:VEVENT
END:VCALENDAR