BEGIN:VCALENDAR
VERSION:2.0
PRODID:-//jEvents 2.0 for Joomla//EN
CALSCALE:GREGORIAN
METHOD:PUBLISH
BEGIN:VTIMEZONE
TZID:Europe/Berlin
BEGIN:STANDARD
DTSTART:20130107T130000
RDATE:20130331T030000
TZOFFSETFROM:+0200
TZOFFSETTO:+0100
TZNAME:Europe/Berlin CET
END:STANDARD
BEGIN:STANDARD
DTSTART:20131027T020000
RDATE:20140330T030000
TZOFFSETFROM:+0200
TZOFFSETTO:+0100
TZNAME:Europe/Berlin CET
END:STANDARD
BEGIN:STANDARD
DTSTART:20141026T020000
RDATE:20150329T030000
TZOFFSETFROM:+0200
TZOFFSETTO:+0100
TZNAME:Europe/Berlin CET
END:STANDARD
BEGIN:STANDARD
DTSTART:20151025T020000
RDATE:20160327T030000
TZOFFSETFROM:+0200
TZOFFSETTO:+0100
TZNAME:Europe/Berlin CET
END:STANDARD
BEGIN:STANDARD
DTSTART:20161030T020000
RDATE:20170326T030000
TZOFFSETFROM:+0200
TZOFFSETTO:+0100
TZNAME:Europe/Berlin CET
END:STANDARD
BEGIN:STANDARD
DTSTART:20171029T020000
RDATE:20180325T030000
TZOFFSETFROM:+0200
TZOFFSETTO:+0100
TZNAME:Europe/Berlin CET
END:STANDARD
BEGIN:STANDARD
DTSTART:20181028T020000
RDATE:20190331T030000
TZOFFSETFROM:+0200
TZOFFSETTO:+0100
TZNAME:Europe/Berlin CET
END:STANDARD
BEGIN:STANDARD
DTSTART:20191027T020000
RDATE:20200329T030000
TZOFFSETFROM:+0200
TZOFFSETTO:+0100
TZNAME:Europe/Berlin CET
END:STANDARD
BEGIN:STANDARD
DTSTART:20201025T020000
RDATE:20210328T030000
TZOFFSETFROM:+0200
TZOFFSETTO:+0100
TZNAME:Europe/Berlin CET
END:STANDARD
BEGIN:STANDARD
DTSTART:20211031T020000
RDATE:20220327T030000
TZOFFSETFROM:+0200
TZOFFSETTO:+0100
TZNAME:Europe/Berlin CET
END:STANDARD
BEGIN:STANDARD
DTSTART:20221030T020000
RDATE:20230326T030000
TZOFFSETFROM:+0200
TZOFFSETTO:+0100
TZNAME:Europe/Berlin CET
END:STANDARD
BEGIN:STANDARD
DTSTART:20231029T020000
RDATE:20240331T030000
TZOFFSETFROM:+0200
TZOFFSETTO:+0100
TZNAME:Europe/Berlin CET
END:STANDARD
BEGIN:STANDARD
DTSTART:20241027T020000
RDATE:20250330T030000
TZOFFSETFROM:+0200
TZOFFSETTO:+0100
TZNAME:Europe/Berlin CET
END:STANDARD
BEGIN:STANDARD
DTSTART:20251026T020000
RDATE:20260329T030000
TZOFFSETFROM:+0200
TZOFFSETTO:+0100
TZNAME:Europe/Berlin CET
END:STANDARD
BEGIN:STANDARD
DTSTART:20261025T020000
RDATE:20270328T030000
TZOFFSETFROM:+0200
TZOFFSETTO:+0100
TZNAME:Europe/Berlin CET
END:STANDARD
BEGIN:STANDARD
DTSTART:20271031T020000
RDATE:20280326T030000
TZOFFSETFROM:+0200
TZOFFSETTO:+0100
TZNAME:Europe/Berlin CET
END:STANDARD
BEGIN:DAYLIGHT
DTSTART:20130331T030000
RDATE:20131027T020000
TZOFFSETFROM:+0100
TZOFFSETTO:+0200
TZNAME:Europe/Berlin CEST
END:DAYLIGHT
BEGIN:DAYLIGHT
DTSTART:20140330T030000
RDATE:20141026T020000
TZOFFSETFROM:+0100
TZOFFSETTO:+0200
TZNAME:Europe/Berlin CEST
END:DAYLIGHT
BEGIN:DAYLIGHT
DTSTART:20150329T030000
RDATE:20151025T020000
TZOFFSETFROM:+0100
TZOFFSETTO:+0200
TZNAME:Europe/Berlin CEST
END:DAYLIGHT
BEGIN:DAYLIGHT
DTSTART:20160327T030000
RDATE:20161030T020000
TZOFFSETFROM:+0100
TZOFFSETTO:+0200
TZNAME:Europe/Berlin CEST
END:DAYLIGHT
BEGIN:DAYLIGHT
DTSTART:20170326T030000
RDATE:20171029T020000
TZOFFSETFROM:+0100
TZOFFSETTO:+0200
TZNAME:Europe/Berlin CEST
END:DAYLIGHT
BEGIN:DAYLIGHT
DTSTART:20180325T030000
RDATE:20181028T020000
TZOFFSETFROM:+0100
TZOFFSETTO:+0200
TZNAME:Europe/Berlin CEST
END:DAYLIGHT
BEGIN:DAYLIGHT
DTSTART:20190331T030000
RDATE:20191027T020000
TZOFFSETFROM:+0100
TZOFFSETTO:+0200
TZNAME:Europe/Berlin CEST
END:DAYLIGHT
BEGIN:DAYLIGHT
DTSTART:20200329T030000
RDATE:20201025T020000
TZOFFSETFROM:+0100
TZOFFSETTO:+0200
TZNAME:Europe/Berlin CEST
END:DAYLIGHT
BEGIN:DAYLIGHT
DTSTART:20210328T030000
RDATE:20211031T020000
TZOFFSETFROM:+0100
TZOFFSETTO:+0200
TZNAME:Europe/Berlin CEST
END:DAYLIGHT
BEGIN:DAYLIGHT
DTSTART:20220327T030000
RDATE:20221030T020000
TZOFFSETFROM:+0100
TZOFFSETTO:+0200
TZNAME:Europe/Berlin CEST
END:DAYLIGHT
BEGIN:DAYLIGHT
DTSTART:20230326T030000
RDATE:20231029T020000
TZOFFSETFROM:+0100
TZOFFSETTO:+0200
TZNAME:Europe/Berlin CEST
END:DAYLIGHT
BEGIN:DAYLIGHT
DTSTART:20240331T030000
RDATE:20241027T020000
TZOFFSETFROM:+0100
TZOFFSETTO:+0200
TZNAME:Europe/Berlin CEST
END:DAYLIGHT
BEGIN:DAYLIGHT
DTSTART:20250330T030000
RDATE:20251026T020000
TZOFFSETFROM:+0100
TZOFFSETTO:+0200
TZNAME:Europe/Berlin CEST
END:DAYLIGHT
BEGIN:DAYLIGHT
DTSTART:20260329T030000
RDATE:20261025T020000
TZOFFSETFROM:+0100
TZOFFSETTO:+0200
TZNAME:Europe/Berlin CEST
END:DAYLIGHT
BEGIN:DAYLIGHT
DTSTART:20270328T030000
RDATE:20271031T020000
TZOFFSETFROM:+0100
TZOFFSETTO:+0200
TZNAME:Europe/Berlin CEST
END:DAYLIGHT
END:VTIMEZONE
BEGIN:VEVENT
UID:913d17b6007f90cc4bc086649caf9e3d
CATEGORIES:ESG
CREATED:19700101T010000
SUMMARY:MKE
URL;VALUE=URI:https://www.esg-trier.de/veranstaltungskalender/eventeinzelheiten/1157/-/mk
 e?tmpl=component
DESCRIPTION:Wer es kennt, weiß Bescheid.\nAlle anderen schauen in unserer Facebook-Grup
 pe (https://www.facebook.com/groups/179739165386283/) nach.\nWir wünschen: 
 Guten Appetit!\n This event was imported from: https://www.esg-trier.de/ver
 anstaltungskalender/eventeinzelheiten/1157/-/mke?tmpl=component
X-ALT-DESC;FMTTYPE=text/html:<p>Wer es kennt, weiß Bescheid.</p><p>Alle anderen schauen in unserer <a ta
 rget="_blank" title="Zur ESG-Facebook-Gruppe" href="https://www.facebook.co
 m/groups/179739165386283/">Facebook-Gruppe</a> nach.</p><p>Wir wünschen: Gu
 ten Appetit!</p> <a href="https://www.esg-trier.de/veranstaltungskalender/e
 venteinzelheiten/1157/-/mke?tmpl=component">This event was imported from: h
 ttps://www.esg-trier.de/veranstaltungskalender/eventeinzelheiten/1157/-/mke
 ?tmpl=component</a>DTSTAMP:20260423T192930
DTSTART;TZID=Europe/Berlin:20140108T130000
DTEND;TZID=Europe/Berlin:20140108T133000
SEQUENCE:0
RRULE:FREQ=WEEKLY;UNTIL=20140206T000000Z;INTERVAL=1;BYDAY=WE
TRANSP:OPAQUE
END:VEVENT
BEGIN:VEVENT
UID:913d17b6007f90cc4bc086649caf9e3d
CATEGORIES:ESG
CREATED:20140106T152204
SUMMARY:MKE -Gyros in Metaxasauce mit Reis und gem. Salat
DESCRIPTION:Wer es kennt, weiß Bescheid.\nAlle anderen schauen in unserer Facebook-Grup
 pe (https://www.facebook.com/groups/179739165386283/) nach.\nWir wünschen: 
 Guten Appetit!\n
X-ALT-DESC;FMTTYPE=text/html:<p>Wer es kennt, weiß Bescheid.</p><p>Alle anderen schauen in unserer <a ta
 rget="_blank" title="Zur ESG-Facebook-Gruppe" href="https://www.facebook.co
 m/groups/179739165386283/">Facebook-Gruppe</a> nach.</p><p>Wir wünschen: Gu
 ten Appetit!</p>
URL;VALUE=URI:https://www.esg-trier.de/veranstaltungskalender/eventeinzelheiten/1157/-/mk
 e-gyros-in-metaxasauce-mit-reis-und-gem-salat?tmpl=component

DTSTAMP:20260423T192930
DTSTART;TZID=Europe/Berlin:20140108T130000
DTEND;TZID=Europe/Berlin:20140108T133000
RECURRENCE-ID;TZID=Europe/Berlin:20140108T130000
SEQUENCE:0
TRANSP:OPAQUE
END:VEVENT
BEGIN:VEVENT
UID:913d17b6007f90cc4bc086649caf9e3d
CATEGORIES:ESG
CREATED:20140106T152204
SUMMARY:MKE - gefüllte Pfannkuchen
DESCRIPTION:Wer es kennt, weiß Bescheid.\nAlle anderen schauen in unserer Facebook-Grup
 pe (https://www.facebook.com/groups/179739165386283/) nach.\nWir wünschen: 
 Guten Appetit!\n
X-ALT-DESC;FMTTYPE=text/html:<p>Wer es kennt, weiß Bescheid.</p><p>Alle anderen schauen in unserer <a ta
 rget="_blank" title="Zur ESG-Facebook-Gruppe" href="https://www.facebook.co
 m/groups/179739165386283/">Facebook-Gruppe</a> nach.</p><p>Wir wünschen: Gu
 ten Appetit!</p>
URL;VALUE=URI:https://www.esg-trier.de/veranstaltungskalender/eventeinzelheiten/1158/-/mk
 e-gefüllte-pfannkuchen?tmpl=component

DTSTAMP:20260423T192930
DTSTART;TZID=Europe/Berlin:20140115T130000
DTEND;TZID=Europe/Berlin:20140115T133000
RECURRENCE-ID;TZID=Europe/Berlin:20140115T130000
SEQUENCE:0
TRANSP:OPAQUE
END:VEVENT
BEGIN:VEVENT
UID:913d17b6007f90cc4bc086649caf9e3d
CATEGORIES:ESG
CREATED:20140106T152204
SUMMARY:MKE - Lasagne
DESCRIPTION:Wer es kennt, weiß Bescheid.\nAlle anderen schauen in unserer Facebook-Grup
 pe (https://www.facebook.com/groups/179739165386283/) nach.\nWir wünschen: 
 Guten Appetit!\n
X-ALT-DESC;FMTTYPE=text/html:<p>Wer es kennt, weiß Bescheid.</p><p>Alle anderen schauen in unserer <a ta
 rget="_blank" title="Zur ESG-Facebook-Gruppe" href="https://www.facebook.co
 m/groups/179739165386283/">Facebook-Gruppe</a> nach.</p><p>Wir wünschen: Gu
 ten Appetit!</p>
URL;VALUE=URI:https://www.esg-trier.de/veranstaltungskalender/eventeinzelheiten/1159/-/mk
 e-lasagne?tmpl=component

DTSTAMP:20260423T192930
DTSTART;TZID=Europe/Berlin:20140122T130000
DTEND;TZID=Europe/Berlin:20140122T133000
RECURRENCE-ID;TZID=Europe/Berlin:20140122T130000
SEQUENCE:0
TRANSP:OPAQUE
END:VEVENT
BEGIN:VEVENT
UID:913d17b6007f90cc4bc086649caf9e3d
CATEGORIES:ESG
CREATED:20140106T152204
SUMMARY:MKE - Hackfleisch-Lauch-Suppe
DESCRIPTION:Wer es kennt, weiß Bescheid.\nAlle anderen schauen in unserer Facebook-Grup
 pe (https://www.facebook.com/groups/179739165386283/) nach.\nWir wünschen: 
 Guten Appetit!\n
X-ALT-DESC;FMTTYPE=text/html:<p>Wer es kennt, weiß Bescheid.</p><p>Alle anderen schauen in unserer <a ta
 rget="_blank" title="Zur ESG-Facebook-Gruppe" href="https://www.facebook.co
 m/groups/179739165386283/">Facebook-Gruppe</a> nach.</p><p>Wir wünschen: Gu
 ten Appetit!</p>
URL;VALUE=URI:https://www.esg-trier.de/veranstaltungskalender/eventeinzelheiten/1161/-/mk
 e-hackfleisch-lauch-suppe?tmpl=component

DTSTAMP:20260423T192930
DTSTART;TZID=Europe/Berlin:20140205T130000
DTEND;TZID=Europe/Berlin:20140205T133000
RECURRENCE-ID;TZID=Europe/Berlin:20140205T130000
SEQUENCE:0
TRANSP:OPAQUE
END:VEVENT
END:VCALENDAR