BEGIN:VCALENDAR
VERSION:2.0
PRODID:-//jEvents 2.0 for Joomla//EN
CALSCALE:GREGORIAN
METHOD:PUBLISH
BEGIN:VTIMEZONE
TZID:Europe/Berlin
BEGIN:STANDARD
DTSTART:20130128T161500
RDATE:20130331T030000
TZOFFSETFROM:+0200
TZOFFSETTO:+0100
TZNAME:Europe/Berlin CET
END:STANDARD
BEGIN:STANDARD
DTSTART:20131027T020000
RDATE:20140330T030000
TZOFFSETFROM:+0200
TZOFFSETTO:+0100
TZNAME:Europe/Berlin CET
END:STANDARD
BEGIN:STANDARD
DTSTART:20141026T020000
RDATE:20150329T030000
TZOFFSETFROM:+0200
TZOFFSETTO:+0100
TZNAME:Europe/Berlin CET
END:STANDARD
BEGIN:STANDARD
DTSTART:20151025T020000
RDATE:20160327T030000
TZOFFSETFROM:+0200
TZOFFSETTO:+0100
TZNAME:Europe/Berlin CET
END:STANDARD
BEGIN:STANDARD
DTSTART:20161030T020000
RDATE:20170326T030000
TZOFFSETFROM:+0200
TZOFFSETTO:+0100
TZNAME:Europe/Berlin CET
END:STANDARD
BEGIN:STANDARD
DTSTART:20171029T020000
RDATE:20180325T030000
TZOFFSETFROM:+0200
TZOFFSETTO:+0100
TZNAME:Europe/Berlin CET
END:STANDARD
BEGIN:STANDARD
DTSTART:20181028T020000
RDATE:20190331T030000
TZOFFSETFROM:+0200
TZOFFSETTO:+0100
TZNAME:Europe/Berlin CET
END:STANDARD
BEGIN:STANDARD
DTSTART:20191027T020000
RDATE:20200329T030000
TZOFFSETFROM:+0200
TZOFFSETTO:+0100
TZNAME:Europe/Berlin CET
END:STANDARD
BEGIN:STANDARD
DTSTART:20201025T020000
RDATE:20210328T030000
TZOFFSETFROM:+0200
TZOFFSETTO:+0100
TZNAME:Europe/Berlin CET
END:STANDARD
BEGIN:STANDARD
DTSTART:20211031T020000
RDATE:20220327T030000
TZOFFSETFROM:+0200
TZOFFSETTO:+0100
TZNAME:Europe/Berlin CET
END:STANDARD
BEGIN:STANDARD
DTSTART:20221030T020000
RDATE:20230326T030000
TZOFFSETFROM:+0200
TZOFFSETTO:+0100
TZNAME:Europe/Berlin CET
END:STANDARD
BEGIN:STANDARD
DTSTART:20231029T020000
RDATE:20240331T030000
TZOFFSETFROM:+0200
TZOFFSETTO:+0100
TZNAME:Europe/Berlin CET
END:STANDARD
BEGIN:STANDARD
DTSTART:20241027T020000
RDATE:20250330T030000
TZOFFSETFROM:+0200
TZOFFSETTO:+0100
TZNAME:Europe/Berlin CET
END:STANDARD
BEGIN:STANDARD
DTSTART:20251026T020000
RDATE:20260329T030000
TZOFFSETFROM:+0200
TZOFFSETTO:+0100
TZNAME:Europe/Berlin CET
END:STANDARD
BEGIN:STANDARD
DTSTART:20261025T020000
RDATE:20270328T030000
TZOFFSETFROM:+0200
TZOFFSETTO:+0100
TZNAME:Europe/Berlin CET
END:STANDARD
BEGIN:STANDARD
DTSTART:20271031T020000
RDATE:20280326T030000
TZOFFSETFROM:+0200
TZOFFSETTO:+0100
TZNAME:Europe/Berlin CET
END:STANDARD
BEGIN:DAYLIGHT
DTSTART:20130331T030000
RDATE:20131027T020000
TZOFFSETFROM:+0100
TZOFFSETTO:+0200
TZNAME:Europe/Berlin CEST
END:DAYLIGHT
BEGIN:DAYLIGHT
DTSTART:20140330T030000
RDATE:20141026T020000
TZOFFSETFROM:+0100
TZOFFSETTO:+0200
TZNAME:Europe/Berlin CEST
END:DAYLIGHT
BEGIN:DAYLIGHT
DTSTART:20150329T030000
RDATE:20151025T020000
TZOFFSETFROM:+0100
TZOFFSETTO:+0200
TZNAME:Europe/Berlin CEST
END:DAYLIGHT
BEGIN:DAYLIGHT
DTSTART:20160327T030000
RDATE:20161030T020000
TZOFFSETFROM:+0100
TZOFFSETTO:+0200
TZNAME:Europe/Berlin CEST
END:DAYLIGHT
BEGIN:DAYLIGHT
DTSTART:20170326T030000
RDATE:20171029T020000
TZOFFSETFROM:+0100
TZOFFSETTO:+0200
TZNAME:Europe/Berlin CEST
END:DAYLIGHT
BEGIN:DAYLIGHT
DTSTART:20180325T030000
RDATE:20181028T020000
TZOFFSETFROM:+0100
TZOFFSETTO:+0200
TZNAME:Europe/Berlin CEST
END:DAYLIGHT
BEGIN:DAYLIGHT
DTSTART:20190331T030000
RDATE:20191027T020000
TZOFFSETFROM:+0100
TZOFFSETTO:+0200
TZNAME:Europe/Berlin CEST
END:DAYLIGHT
BEGIN:DAYLIGHT
DTSTART:20200329T030000
RDATE:20201025T020000
TZOFFSETFROM:+0100
TZOFFSETTO:+0200
TZNAME:Europe/Berlin CEST
END:DAYLIGHT
BEGIN:DAYLIGHT
DTSTART:20210328T030000
RDATE:20211031T020000
TZOFFSETFROM:+0100
TZOFFSETTO:+0200
TZNAME:Europe/Berlin CEST
END:DAYLIGHT
BEGIN:DAYLIGHT
DTSTART:20220327T030000
RDATE:20221030T020000
TZOFFSETFROM:+0100
TZOFFSETTO:+0200
TZNAME:Europe/Berlin CEST
END:DAYLIGHT
BEGIN:DAYLIGHT
DTSTART:20230326T030000
RDATE:20231029T020000
TZOFFSETFROM:+0100
TZOFFSETTO:+0200
TZNAME:Europe/Berlin CEST
END:DAYLIGHT
BEGIN:DAYLIGHT
DTSTART:20240331T030000
RDATE:20241027T020000
TZOFFSETFROM:+0100
TZOFFSETTO:+0200
TZNAME:Europe/Berlin CEST
END:DAYLIGHT
BEGIN:DAYLIGHT
DTSTART:20250330T030000
RDATE:20251026T020000
TZOFFSETFROM:+0100
TZOFFSETTO:+0200
TZNAME:Europe/Berlin CEST
END:DAYLIGHT
BEGIN:DAYLIGHT
DTSTART:20260329T030000
RDATE:20261025T020000
TZOFFSETFROM:+0100
TZOFFSETTO:+0200
TZNAME:Europe/Berlin CEST
END:DAYLIGHT
BEGIN:DAYLIGHT
DTSTART:20270328T030000
RDATE:20271031T020000
TZOFFSETFROM:+0100
TZOFFSETTO:+0200
TZNAME:Europe/Berlin CEST
END:DAYLIGHT
END:VTIMEZONE
BEGIN:VEVENT
UID:ed9d28fe0758ad0a3d330e573577ebd1
CATEGORIES:ESG
CREATED:20140107T155600
SUMMARY:Philosophisches Café Spezial - Hannah Arendt - „Die Banalität des Bösen“ 2
URL;VALUE=URI:https://www.esg-trier.de/veranstaltungskalender/eventeinzelheiten/1165/-/ph
 ilosophisches-café-spezial-hannah-arendt-„die-banalität-des-bösen“-2?tmpl=c
 omponent
DESCRIPTION: \nReihe zu Hannah Arendt und der "Banalität des Bösen"\nLeben und Werk von
  Hannah Arendt sind gleichermaßen eng mit den politischen Katastrophen wie 
 mit den Entwicklungen des philosophisch-politischen Denkens des 20. Jahrhun
 derts verbunden. Vor den Nationalsozialisten flieht sie 1933 ins Exil nach 
 Frankreich, dann in die USA. Als Beobachterin berichtet sie 1961 über den E
 ichmann–Prozess in Jerusalem und löst eine internationale Kontroverse aus, 
 in deren Mittelpunkt der von ihr geprägte Begriff der „Banalität des Bösen“
  steht. Das „Problem des Bösen“ beschäftigt sie weiterhin; eines der spanne
 ndsten Zeugnisse aus diesem Prozess findet sich in einer Vorlesung über Fra
 gen der Ethik aus dem Jahre 1965.\n \nPhilosophisches Café Spezial II \nÜbu
 ng:\nInterpretationsübung zu Hannah Arendt „Über das Böse. Eine Vorlesung z
 u Fragen der Ethik“.\n \nInfos über die anderen Veranstaltungen der Reihe z
 um 27. Januar 2014 gibt es hier: (Seite 1, Seite 2 (images/ESG_Folder_2014-
 2web.pdf))\n This event was imported from: https://www.esg-trier.de/veranst
 altungskalender/eventeinzelheiten/1165/-/philosophisches-café-spezial-hanna
 h-arendt-„die-banalität-des-bösen“-2?tmpl=component
X-ALT-DESC;FMTTYPE=text/html:<p> </p><p class="MsoNormal" style="text-align: justify;"><strong>Reihe zu 
 Hannah Arendt und der "Banalität des Bösen"</strong></p><p class="MsoNormal
 " style="text-align: justify;">Leben und Werk von Hannah Arendt sind gleich
 ermaßen eng mit den politischen Katastrophen wie mit den Entwicklungen des 
 philosophisch-politischen Denkens des 20. Jahrhunderts verbunden. Vor den N
 ationalsozialisten flieht sie 1933 ins Exil nach Frankreich, dann in die US
 A. Als Beobachterin berichtet sie 1961 über den Eichmann–Prozess in Jerusal
 em und löst eine internationale Kontroverse aus, in deren Mittelpunkt der v
 on ihr geprägte Begriff der „Banalität des Bösen“ steht. Das „Problem des B
 ösen“ beschäftigt sie weiterhin; eines der spannendsten Zeugnisse aus diese
 m Prozess findet sich in einer Vorlesung über Fragen der Ethik aus dem Jahr
 e 1965.</p><p class="MsoNormal" style="text-align: justify;"> </p><p class=
 "MsoNormal"><b class="MsoNormal">Philosophisches Café Spezial II </b></p><p
  class="MsoNormal">Übung:</p><p class="MsoNormal"><b style="mso-bidi-font-w
 eight: normal;">Interpretationsübung zu Hannah Arendt <i style="mso-bidi-fo
 nt-style: normal;">„Über das Böse. Eine Vorlesung zu Fragen der Ethik“</i>.
 </b></p><p class="MsoNormal"><b style="mso-bidi-font-weight: normal;"><i st
 yle="mso-bidi-font-style: normal;"> </i></b></p><p>Infos über die anderen <
 em>Veranstaltungen der Reihe zum 27. Januar 2014</em> gibt es hier: (<a tar
 get="_blank" href="https://www.esg-trier.de/images/ESG_Folder_2014-1web.pdf
 ">Seite 1</a>, <a target="_blank" href="https://www.esg-trier.de/images/ESG
 _Folder_2014-2web.pdf">Seite 2</a>)</p> <a href="https://www.esg-trier.de/v
 eranstaltungskalender/eventeinzelheiten/1165/-/philosophisches-café-spezial
 -hannah-arendt-„die-banalität-des-bösen“-2?tmpl=component">This event was i
 mported from: https://www.esg-trier.de/veranstaltungskalender/eventeinzelhe
 iten/1165/-/philosophisches-café-spezial-hannah-arendt-„die-banalität-des-b
 ösen“-2?tmpl=component</a>DTSTAMP:20260425T024046
DTSTART;TZID=Europe/Berlin:20140129T161500
DTEND;TZID=Europe/Berlin:20140129T174500
SEQUENCE:0
TRANSP:OPAQUE
END:VEVENT
END:VCALENDAR