BEGIN:VCALENDAR
VERSION:2.0
PRODID:-//jEvents 2.0 for Joomla//EN
CALSCALE:GREGORIAN
METHOD:PUBLISH
BEGIN:VTIMEZONE
TZID:Europe/Berlin
BEGIN:STANDARD
DTSTART:20130115T190000
RDATE:20130331T030000
TZOFFSETFROM:+0200
TZOFFSETTO:+0100
TZNAME:Europe/Berlin CET
END:STANDARD
BEGIN:STANDARD
DTSTART:20131027T020000
RDATE:20140330T030000
TZOFFSETFROM:+0200
TZOFFSETTO:+0100
TZNAME:Europe/Berlin CET
END:STANDARD
BEGIN:STANDARD
DTSTART:20141026T020000
RDATE:20150329T030000
TZOFFSETFROM:+0200
TZOFFSETTO:+0100
TZNAME:Europe/Berlin CET
END:STANDARD
BEGIN:STANDARD
DTSTART:20151025T020000
RDATE:20160327T030000
TZOFFSETFROM:+0200
TZOFFSETTO:+0100
TZNAME:Europe/Berlin CET
END:STANDARD
BEGIN:STANDARD
DTSTART:20161030T020000
RDATE:20170326T030000
TZOFFSETFROM:+0200
TZOFFSETTO:+0100
TZNAME:Europe/Berlin CET
END:STANDARD
BEGIN:STANDARD
DTSTART:20171029T020000
RDATE:20180325T030000
TZOFFSETFROM:+0200
TZOFFSETTO:+0100
TZNAME:Europe/Berlin CET
END:STANDARD
BEGIN:STANDARD
DTSTART:20181028T020000
RDATE:20190331T030000
TZOFFSETFROM:+0200
TZOFFSETTO:+0100
TZNAME:Europe/Berlin CET
END:STANDARD
BEGIN:STANDARD
DTSTART:20191027T020000
RDATE:20200329T030000
TZOFFSETFROM:+0200
TZOFFSETTO:+0100
TZNAME:Europe/Berlin CET
END:STANDARD
BEGIN:STANDARD
DTSTART:20201025T020000
RDATE:20210328T030000
TZOFFSETFROM:+0200
TZOFFSETTO:+0100
TZNAME:Europe/Berlin CET
END:STANDARD
BEGIN:STANDARD
DTSTART:20211031T020000
RDATE:20220327T030000
TZOFFSETFROM:+0200
TZOFFSETTO:+0100
TZNAME:Europe/Berlin CET
END:STANDARD
BEGIN:STANDARD
DTSTART:20221030T020000
RDATE:20230326T030000
TZOFFSETFROM:+0200
TZOFFSETTO:+0100
TZNAME:Europe/Berlin CET
END:STANDARD
BEGIN:STANDARD
DTSTART:20231029T020000
RDATE:20240331T030000
TZOFFSETFROM:+0200
TZOFFSETTO:+0100
TZNAME:Europe/Berlin CET
END:STANDARD
BEGIN:STANDARD
DTSTART:20241027T020000
RDATE:20250330T030000
TZOFFSETFROM:+0200
TZOFFSETTO:+0100
TZNAME:Europe/Berlin CET
END:STANDARD
BEGIN:STANDARD
DTSTART:20251026T020000
RDATE:20260329T030000
TZOFFSETFROM:+0200
TZOFFSETTO:+0100
TZNAME:Europe/Berlin CET
END:STANDARD
BEGIN:STANDARD
DTSTART:20261025T020000
RDATE:20270328T030000
TZOFFSETFROM:+0200
TZOFFSETTO:+0100
TZNAME:Europe/Berlin CET
END:STANDARD
BEGIN:STANDARD
DTSTART:20271031T020000
RDATE:20280326T030000
TZOFFSETFROM:+0200
TZOFFSETTO:+0100
TZNAME:Europe/Berlin CET
END:STANDARD
BEGIN:DAYLIGHT
DTSTART:20130331T030000
RDATE:20131027T020000
TZOFFSETFROM:+0100
TZOFFSETTO:+0200
TZNAME:Europe/Berlin CEST
END:DAYLIGHT
BEGIN:DAYLIGHT
DTSTART:20140330T030000
RDATE:20141026T020000
TZOFFSETFROM:+0100
TZOFFSETTO:+0200
TZNAME:Europe/Berlin CEST
END:DAYLIGHT
BEGIN:DAYLIGHT
DTSTART:20150329T030000
RDATE:20151025T020000
TZOFFSETFROM:+0100
TZOFFSETTO:+0200
TZNAME:Europe/Berlin CEST
END:DAYLIGHT
BEGIN:DAYLIGHT
DTSTART:20160327T030000
RDATE:20161030T020000
TZOFFSETFROM:+0100
TZOFFSETTO:+0200
TZNAME:Europe/Berlin CEST
END:DAYLIGHT
BEGIN:DAYLIGHT
DTSTART:20170326T030000
RDATE:20171029T020000
TZOFFSETFROM:+0100
TZOFFSETTO:+0200
TZNAME:Europe/Berlin CEST
END:DAYLIGHT
BEGIN:DAYLIGHT
DTSTART:20180325T030000
RDATE:20181028T020000
TZOFFSETFROM:+0100
TZOFFSETTO:+0200
TZNAME:Europe/Berlin CEST
END:DAYLIGHT
BEGIN:DAYLIGHT
DTSTART:20190331T030000
RDATE:20191027T020000
TZOFFSETFROM:+0100
TZOFFSETTO:+0200
TZNAME:Europe/Berlin CEST
END:DAYLIGHT
BEGIN:DAYLIGHT
DTSTART:20200329T030000
RDATE:20201025T020000
TZOFFSETFROM:+0100
TZOFFSETTO:+0200
TZNAME:Europe/Berlin CEST
END:DAYLIGHT
BEGIN:DAYLIGHT
DTSTART:20210328T030000
RDATE:20211031T020000
TZOFFSETFROM:+0100
TZOFFSETTO:+0200
TZNAME:Europe/Berlin CEST
END:DAYLIGHT
BEGIN:DAYLIGHT
DTSTART:20220327T030000
RDATE:20221030T020000
TZOFFSETFROM:+0100
TZOFFSETTO:+0200
TZNAME:Europe/Berlin CEST
END:DAYLIGHT
BEGIN:DAYLIGHT
DTSTART:20230326T030000
RDATE:20231029T020000
TZOFFSETFROM:+0100
TZOFFSETTO:+0200
TZNAME:Europe/Berlin CEST
END:DAYLIGHT
BEGIN:DAYLIGHT
DTSTART:20240331T030000
RDATE:20241027T020000
TZOFFSETFROM:+0100
TZOFFSETTO:+0200
TZNAME:Europe/Berlin CEST
END:DAYLIGHT
BEGIN:DAYLIGHT
DTSTART:20250330T030000
RDATE:20251026T020000
TZOFFSETFROM:+0100
TZOFFSETTO:+0200
TZNAME:Europe/Berlin CEST
END:DAYLIGHT
BEGIN:DAYLIGHT
DTSTART:20260329T030000
RDATE:20261025T020000
TZOFFSETFROM:+0100
TZOFFSETTO:+0200
TZNAME:Europe/Berlin CEST
END:DAYLIGHT
BEGIN:DAYLIGHT
DTSTART:20270328T030000
RDATE:20271031T020000
TZOFFSETFROM:+0100
TZOFFSETTO:+0200
TZNAME:Europe/Berlin CEST
END:DAYLIGHT
END:VTIMEZONE
BEGIN:VEVENT
UID:18923bab453ca35abb4927d534b72243
CATEGORIES:ESG
CREATED:20140107T160441
SUMMARY:Ausstellungseröffnung: "Es lebe die Freiheit!"
LOCATION:vhs Trier\, Domfreihof 1\, 54296 Trier\, Raum 5
URL;VALUE=URI:https://www.esg-trier.de/veranstaltungskalender/eventeinzelheiten/1166/-/au
 sstellungseröffnung-es-lebe-die-freiheit?tmpl=component
DESCRIPTION:Junge Menschen gegen den Nationalsozialismus \nViele junge Menschen verfiel
 en den Ideen des NS-Regimes. Nur eine Minderheit zeigte den Mut an bestimmt
 en Punkten "Nein" zu sagen und/oder Widerstand zu leisten. Diesen jungen Me
 nschen, die aus verschiedenen sozialen und politischen Milieus entstammen, 
 die in unterschiedlichster Form den Vorgaben des Regimes nicht folgten oder
  in ganz verschiedenen Formen Widerstand leisteten, widmet sich diese Ausst
 ellung.\nIn einer leicht verständlichen Sprache werden die Motive und die A
 ktionen der Jugendlichen auf 32 Tafeln dargestellt. Einzelne Biographien br
 ingen den Betrachtern die Lebensläufe von jungen Kommunisten, Sozialdemokra
 ten, Zeugen Jehovas, Juden oder ursprünglich unpolitischen jungen Menschen 
 näher. Als Gruppen des Widerstands sind unter anderem die Edelweißpiraten, 
 die weiße Rose und die Rote Kapelle vertreten.\nAusstellungseröffnung durch
  den Oberbürgermeister der Stadt Trier, Klaus Jensen in der vhs Trier\n\n \
 n This event was imported from: https://www.esg-trier.de/veranstaltungskale
 nder/eventeinzelheiten/1166/-/ausstellungseröffnung-es-lebe-die-freiheit?tm
 pl=component
X-ALT-DESC;FMTTYPE=text/html:<p class="MsoNormal" style="mso-margin-top-alt: auto; mso-margin-bottom-alt
 : auto; line-height: normal; mso-outline-level: 1;"><b><span style="font-si
 ze: 24.0pt; font-family: 'Times New Roman','serif'; mso-fareast-font-family
 : 'Times New Roman'; mso-font-kerning: 18.0pt; mso-fareast-language: DE;">J
 unge Menschen gegen den Nationalsozialismus </span></b></p><p class="MsoNor
 mal" style="mso-margin-top-alt: auto; mso-margin-bottom-alt: auto; line-hei
 ght: normal;"><span style="font-size: 12.0pt; font-family: 'Times New Roman
 ','serif'; mso-fareast-font-family: 'Times New Roman'; mso-fareast-language
 : DE;">Viele junge Menschen verfielen den Ideen des NS-Regimes. Nur eine Mi
 nderheit zeigte den Mut an bestimmten Punkten "Nein" zu sagen und/oder Wide
 rstand zu leisten. Diesen jungen Menschen, die aus verschiedenen sozialen u
 nd politischen Milieus entstammen, die in unterschiedlichster Form den Vorg
 aben des Regimes nicht folgten oder in ganz verschiedenen Formen Widerstand
  leisteten, widmet sich diese Ausstellung.</span></p><p class="MsoNormal" s
 tyle="mso-margin-top-alt: auto; mso-margin-bottom-alt: auto; line-height: n
 ormal;"><span style="font-size: 12.0pt; font-family: 'Times New Roman','ser
 if'; mso-fareast-font-family: 'Times New Roman'; mso-fareast-language: DE;"
 >In einer leicht verständlichen Sprache werden die Motive und die Aktionen 
 der Jugendlichen auf 32 Tafeln dargestellt. Einzelne Biographien bringen de
 n Betrachtern die Lebensläufe von jungen Kommunisten, Sozialdemokraten, Zeu
 gen Jehovas, Juden oder ursprünglich unpolitischen jungen Menschen näher. A
 ls Gruppen des Widerstands sind unter anderem die Edelweißpiraten, die weiß
 e Rose und die Rote Kapelle vertreten.</span></p><p class="MsoNormal" style
 ="mso-margin-top-alt: auto; mso-margin-bottom-alt: auto; line-height: norma
 l;"><span style="font-size: 12.0pt; font-family: 'Times New Roman','serif';
  mso-fareast-font-family: 'Times New Roman'; mso-fareast-language: DE;"><st
 rong>Ausstellungseröffnung durch den Oberbürgermeister der Stadt Trier, Kla
 us Jensen in der vhs Trier</strong><br /></span></p><p class="MsoNormal" st
 yle="mso-margin-top-alt: auto; mso-margin-bottom-alt: auto; line-height: no
 rmal;"><span style="font-size: 12.0pt; font-family: 'Times New Roman','seri
 f'; mso-fareast-font-family: 'Times New Roman'; mso-fareast-language: DE;">
  </span></p> <a href="https://www.esg-trier.de/veranstaltungskalender/event
 einzelheiten/1166/-/ausstellungseröffnung-es-lebe-die-freiheit?tmpl=compone
 nt">This event was imported from: https://www.esg-trier.de/veranstaltungska
 lender/eventeinzelheiten/1166/-/ausstellungseröffnung-es-lebe-die-freiheit?
 tmpl=component</a>DTSTAMP:20260425T134258
DTSTART;TZID=Europe/Berlin:20140116T190000
DTEND;TZID=Europe/Berlin:20140116T210000
SEQUENCE:0
TRANSP:OPAQUE
END:VEVENT
END:VCALENDAR