BEGIN:VCALENDAR
VERSION:2.0
PRODID:-//jEvents 2.0 for Joomla//EN
CALSCALE:GREGORIAN
METHOD:PUBLISH
BEGIN:VTIMEZONE
TZID:Europe/Berlin
BEGIN:STANDARD
DTSTART:20121028T020000
RDATE:20130331T030000
TZOFFSETFROM:+0200
TZOFFSETTO:+0100
TZNAME:Europe/Berlin CET
END:STANDARD
BEGIN:STANDARD
DTSTART:20131027T020000
RDATE:20140330T030000
TZOFFSETFROM:+0200
TZOFFSETTO:+0100
TZNAME:Europe/Berlin CET
END:STANDARD
BEGIN:STANDARD
DTSTART:20141026T020000
RDATE:20150329T030000
TZOFFSETFROM:+0200
TZOFFSETTO:+0100
TZNAME:Europe/Berlin CET
END:STANDARD
BEGIN:STANDARD
DTSTART:20151025T020000
RDATE:20160327T030000
TZOFFSETFROM:+0200
TZOFFSETTO:+0100
TZNAME:Europe/Berlin CET
END:STANDARD
BEGIN:STANDARD
DTSTART:20161030T020000
RDATE:20170326T030000
TZOFFSETFROM:+0200
TZOFFSETTO:+0100
TZNAME:Europe/Berlin CET
END:STANDARD
BEGIN:STANDARD
DTSTART:20171029T020000
RDATE:20180325T030000
TZOFFSETFROM:+0200
TZOFFSETTO:+0100
TZNAME:Europe/Berlin CET
END:STANDARD
BEGIN:STANDARD
DTSTART:20181028T020000
RDATE:20190331T030000
TZOFFSETFROM:+0200
TZOFFSETTO:+0100
TZNAME:Europe/Berlin CET
END:STANDARD
BEGIN:STANDARD
DTSTART:20191027T020000
RDATE:20200329T030000
TZOFFSETFROM:+0200
TZOFFSETTO:+0100
TZNAME:Europe/Berlin CET
END:STANDARD
BEGIN:STANDARD
DTSTART:20201025T020000
RDATE:20210328T030000
TZOFFSETFROM:+0200
TZOFFSETTO:+0100
TZNAME:Europe/Berlin CET
END:STANDARD
BEGIN:STANDARD
DTSTART:20211031T020000
RDATE:20220327T030000
TZOFFSETFROM:+0200
TZOFFSETTO:+0100
TZNAME:Europe/Berlin CET
END:STANDARD
BEGIN:STANDARD
DTSTART:20221030T020000
RDATE:20230326T030000
TZOFFSETFROM:+0200
TZOFFSETTO:+0100
TZNAME:Europe/Berlin CET
END:STANDARD
BEGIN:STANDARD
DTSTART:20231029T020000
RDATE:20240331T030000
TZOFFSETFROM:+0200
TZOFFSETTO:+0100
TZNAME:Europe/Berlin CET
END:STANDARD
BEGIN:STANDARD
DTSTART:20241027T020000
RDATE:20250330T030000
TZOFFSETFROM:+0200
TZOFFSETTO:+0100
TZNAME:Europe/Berlin CET
END:STANDARD
BEGIN:STANDARD
DTSTART:20251026T020000
RDATE:20260329T030000
TZOFFSETFROM:+0200
TZOFFSETTO:+0100
TZNAME:Europe/Berlin CET
END:STANDARD
BEGIN:STANDARD
DTSTART:20261025T020000
RDATE:20270328T030000
TZOFFSETFROM:+0200
TZOFFSETTO:+0100
TZNAME:Europe/Berlin CET
END:STANDARD
BEGIN:STANDARD
DTSTART:20271031T020000
RDATE:20280326T030000
TZOFFSETFROM:+0200
TZOFFSETTO:+0100
TZNAME:Europe/Berlin CET
END:STANDARD
BEGIN:DAYLIGHT
DTSTART:20120415T140000
RDATE:20121028T020000
TZOFFSETFROM:+0100
TZOFFSETTO:+0200
TZNAME:Europe/Berlin CEST
END:DAYLIGHT
BEGIN:DAYLIGHT
DTSTART:20130331T030000
RDATE:20131027T020000
TZOFFSETFROM:+0100
TZOFFSETTO:+0200
TZNAME:Europe/Berlin CEST
END:DAYLIGHT
BEGIN:DAYLIGHT
DTSTART:20140330T030000
RDATE:20141026T020000
TZOFFSETFROM:+0100
TZOFFSETTO:+0200
TZNAME:Europe/Berlin CEST
END:DAYLIGHT
BEGIN:DAYLIGHT
DTSTART:20150329T030000
RDATE:20151025T020000
TZOFFSETFROM:+0100
TZOFFSETTO:+0200
TZNAME:Europe/Berlin CEST
END:DAYLIGHT
BEGIN:DAYLIGHT
DTSTART:20160327T030000
RDATE:20161030T020000
TZOFFSETFROM:+0100
TZOFFSETTO:+0200
TZNAME:Europe/Berlin CEST
END:DAYLIGHT
BEGIN:DAYLIGHT
DTSTART:20170326T030000
RDATE:20171029T020000
TZOFFSETFROM:+0100
TZOFFSETTO:+0200
TZNAME:Europe/Berlin CEST
END:DAYLIGHT
BEGIN:DAYLIGHT
DTSTART:20180325T030000
RDATE:20181028T020000
TZOFFSETFROM:+0100
TZOFFSETTO:+0200
TZNAME:Europe/Berlin CEST
END:DAYLIGHT
BEGIN:DAYLIGHT
DTSTART:20190331T030000
RDATE:20191027T020000
TZOFFSETFROM:+0100
TZOFFSETTO:+0200
TZNAME:Europe/Berlin CEST
END:DAYLIGHT
BEGIN:DAYLIGHT
DTSTART:20200329T030000
RDATE:20201025T020000
TZOFFSETFROM:+0100
TZOFFSETTO:+0200
TZNAME:Europe/Berlin CEST
END:DAYLIGHT
BEGIN:DAYLIGHT
DTSTART:20210328T030000
RDATE:20211031T020000
TZOFFSETFROM:+0100
TZOFFSETTO:+0200
TZNAME:Europe/Berlin CEST
END:DAYLIGHT
BEGIN:DAYLIGHT
DTSTART:20220327T030000
RDATE:20221030T020000
TZOFFSETFROM:+0100
TZOFFSETTO:+0200
TZNAME:Europe/Berlin CEST
END:DAYLIGHT
BEGIN:DAYLIGHT
DTSTART:20230326T030000
RDATE:20231029T020000
TZOFFSETFROM:+0100
TZOFFSETTO:+0200
TZNAME:Europe/Berlin CEST
END:DAYLIGHT
BEGIN:DAYLIGHT
DTSTART:20240331T030000
RDATE:20241027T020000
TZOFFSETFROM:+0100
TZOFFSETTO:+0200
TZNAME:Europe/Berlin CEST
END:DAYLIGHT
BEGIN:DAYLIGHT
DTSTART:20250330T030000
RDATE:20251026T020000
TZOFFSETFROM:+0100
TZOFFSETTO:+0200
TZNAME:Europe/Berlin CEST
END:DAYLIGHT
BEGIN:DAYLIGHT
DTSTART:20260329T030000
RDATE:20261025T020000
TZOFFSETFROM:+0100
TZOFFSETTO:+0200
TZNAME:Europe/Berlin CEST
END:DAYLIGHT
BEGIN:DAYLIGHT
DTSTART:20270328T030000
RDATE:20271031T020000
TZOFFSETFROM:+0100
TZOFFSETTO:+0200
TZNAME:Europe/Berlin CEST
END:DAYLIGHT
END:VTIMEZONE
BEGIN:VEVENT
UID:9234571f78fd2a2029fa1fbd7dfec9fc
CATEGORIES:Gruppen
CREATED:19700101T010000
SUMMARY:Martin Luthers reformatorische Hauptschriften - Übung
LOCATION:Universität\, A 7
URL;VALUE=URI:https://www.esg-trier.de/veranstaltungskalender/eventeinzelheiten/180/-/mar
 tin-luthers-reformatorische-hauptschriften-übung?tmpl=component
DESCRIPTION:„Reformation und Toleranz“ heißt das Jahr 2013 in der Lutherdekade. \nGrund
  genug, einmal in drei der wichtigsten Schriften Luthers - „An den christli
 chen Adel deutscher \nNation“, „Von der Freiheit eines Christenmenschen“ un
 d „Sendbrief vom Dolmetschen“ – hineinzuschauen und diese auf ihre politisc
 he Aussagekraft und Wirkung hin quellenkritisch zu betrachten. \n\nDie Teil
 nehmenden erhalten in der Übung die Möglichkeit ihr Wissen rund um das Them
 a Reformation zu repetieren und sich in der Methodik der Quellenanalyse und
  –kritik  zu üben.\nLiteratur: \nHelga Schnabel-Schüle: Die Reformation 149
 5-1555. Politik mit Theologie und Religion. Ditzingen 2006\nMartin Brecht: 
 Martin Luther. 3 Bde., Stuttgart 1981\nKarl Heussi:    Kompendium der Kirch
 engeschichte, Tübingen 1981\n(Siehe auch Seite 8) (images/flippingbook/Prog
 rammSoSe2013/SoSe%2013%20web%20007.jpg)\n This event was imported from: htt
 ps://www.esg-trier.de/veranstaltungskalender/eventeinzelheiten/180/-/martin
 -luthers-reformatorische-hauptschriften-übung?tmpl=component
X-ALT-DESC;FMTTYPE=text/html:<p>„Reformation und Toleranz“ heißt das Jahr 2013 in der Lutherdekade. <br 
 />Grund genug, einmal in drei der wichtigsten Schriften Luthers -<em> „An d
 en christlichen Adel deutscher </em><br /><em>Nation“</em>, <em>„Von der Fr
 eiheit eines Christenmenschen“</em> und <em>„Sendbrief vom Dolmetschen“</em
 > – hineinzuschauen und diese auf ihre politische Aussagekraft und Wirkung 
 hin quellenkritisch zu betrachten. <br /><br />Die Teilnehmenden erhalten i
 n der Übung die Möglichkeit ihr Wissen rund um das Thema Reformation zu rep
 etieren und sich in der Methodik der Quellenanalyse und –kritik  zu üben.</
 p><p>Literatur: <br />Helga Schnabel-Schüle: Die Reformation 1495-1555. Pol
 itik mit Theologie und Religion. Ditzingen 2006<br />Martin Brecht: Martin 
 Luther. 3 Bde., Stuttgart 1981<br />Karl Heussi:    Kompendium der Kircheng
 eschichte, Tübingen 1981</p><p><a target="_blank" href="https://www.esg-tri
 er.de/images/flippingbook/ProgrammSoSe2013/SoSe%2013%20web%20007.jpg">(Sieh
 e auch Seite 8)</a></p> <a href="https://www.esg-trier.de/veranstaltungskal
 ender/eventeinzelheiten/180/-/martin-luthers-reformatorische-hauptschriften
 -übung?tmpl=component">This event was imported from: https://www.esg-trier.
 de/veranstaltungskalender/eventeinzelheiten/180/-/martin-luthers-reformator
 ische-hauptschriften-übung?tmpl=component</a>DTSTAMP:20260423T044425
DTSTART;TZID=Europe/Berlin:20130416T140000
DTEND;TZID=Europe/Berlin:20130416T154500
SEQUENCE:0
RRULE:FREQ=WEEKLY;UNTIL=20130717T000000Z;INTERVAL=1;BYDAY=TU
TRANSP:OPAQUE
END:VEVENT
END:VCALENDAR