BEGIN:VCALENDAR
VERSION:2.0
PRODID:-//jEvents 2.0 for Joomla//EN
CALSCALE:GREGORIAN
METHOD:PUBLISH
BEGIN:VTIMEZONE
TZID:Europe/Berlin
BEGIN:STANDARD
DTSTART:20121028T020000
RDATE:20130331T030000
TZOFFSETFROM:+0200
TZOFFSETTO:+0100
TZNAME:Europe/Berlin CET
END:STANDARD
BEGIN:STANDARD
DTSTART:20131027T020000
RDATE:20140330T030000
TZOFFSETFROM:+0200
TZOFFSETTO:+0100
TZNAME:Europe/Berlin CET
END:STANDARD
BEGIN:STANDARD
DTSTART:20141026T020000
RDATE:20150329T030000
TZOFFSETFROM:+0200
TZOFFSETTO:+0100
TZNAME:Europe/Berlin CET
END:STANDARD
BEGIN:STANDARD
DTSTART:20151025T020000
RDATE:20160327T030000
TZOFFSETFROM:+0200
TZOFFSETTO:+0100
TZNAME:Europe/Berlin CET
END:STANDARD
BEGIN:STANDARD
DTSTART:20161030T020000
RDATE:20170326T030000
TZOFFSETFROM:+0200
TZOFFSETTO:+0100
TZNAME:Europe/Berlin CET
END:STANDARD
BEGIN:STANDARD
DTSTART:20171029T020000
RDATE:20180325T030000
TZOFFSETFROM:+0200
TZOFFSETTO:+0100
TZNAME:Europe/Berlin CET
END:STANDARD
BEGIN:STANDARD
DTSTART:20181028T020000
RDATE:20190331T030000
TZOFFSETFROM:+0200
TZOFFSETTO:+0100
TZNAME:Europe/Berlin CET
END:STANDARD
BEGIN:STANDARD
DTSTART:20191027T020000
RDATE:20200329T030000
TZOFFSETFROM:+0200
TZOFFSETTO:+0100
TZNAME:Europe/Berlin CET
END:STANDARD
BEGIN:STANDARD
DTSTART:20201025T020000
RDATE:20210328T030000
TZOFFSETFROM:+0200
TZOFFSETTO:+0100
TZNAME:Europe/Berlin CET
END:STANDARD
BEGIN:STANDARD
DTSTART:20211031T020000
RDATE:20220327T030000
TZOFFSETFROM:+0200
TZOFFSETTO:+0100
TZNAME:Europe/Berlin CET
END:STANDARD
BEGIN:STANDARD
DTSTART:20221030T020000
RDATE:20230326T030000
TZOFFSETFROM:+0200
TZOFFSETTO:+0100
TZNAME:Europe/Berlin CET
END:STANDARD
BEGIN:STANDARD
DTSTART:20231029T020000
RDATE:20240331T030000
TZOFFSETFROM:+0200
TZOFFSETTO:+0100
TZNAME:Europe/Berlin CET
END:STANDARD
BEGIN:STANDARD
DTSTART:20241027T020000
RDATE:20250330T030000
TZOFFSETFROM:+0200
TZOFFSETTO:+0100
TZNAME:Europe/Berlin CET
END:STANDARD
BEGIN:STANDARD
DTSTART:20251026T020000
RDATE:20260329T030000
TZOFFSETFROM:+0200
TZOFFSETTO:+0100
TZNAME:Europe/Berlin CET
END:STANDARD
BEGIN:STANDARD
DTSTART:20261025T020000
RDATE:20270328T030000
TZOFFSETFROM:+0200
TZOFFSETTO:+0100
TZNAME:Europe/Berlin CET
END:STANDARD
BEGIN:STANDARD
DTSTART:20271031T020000
RDATE:20280326T030000
TZOFFSETFROM:+0200
TZOFFSETTO:+0100
TZNAME:Europe/Berlin CET
END:STANDARD
BEGIN:DAYLIGHT
DTSTART:20120506T161500
RDATE:20121028T020000
TZOFFSETFROM:+0100
TZOFFSETTO:+0200
TZNAME:Europe/Berlin CEST
END:DAYLIGHT
BEGIN:DAYLIGHT
DTSTART:20130331T030000
RDATE:20131027T020000
TZOFFSETFROM:+0100
TZOFFSETTO:+0200
TZNAME:Europe/Berlin CEST
END:DAYLIGHT
BEGIN:DAYLIGHT
DTSTART:20140330T030000
RDATE:20141026T020000
TZOFFSETFROM:+0100
TZOFFSETTO:+0200
TZNAME:Europe/Berlin CEST
END:DAYLIGHT
BEGIN:DAYLIGHT
DTSTART:20150329T030000
RDATE:20151025T020000
TZOFFSETFROM:+0100
TZOFFSETTO:+0200
TZNAME:Europe/Berlin CEST
END:DAYLIGHT
BEGIN:DAYLIGHT
DTSTART:20160327T030000
RDATE:20161030T020000
TZOFFSETFROM:+0100
TZOFFSETTO:+0200
TZNAME:Europe/Berlin CEST
END:DAYLIGHT
BEGIN:DAYLIGHT
DTSTART:20170326T030000
RDATE:20171029T020000
TZOFFSETFROM:+0100
TZOFFSETTO:+0200
TZNAME:Europe/Berlin CEST
END:DAYLIGHT
BEGIN:DAYLIGHT
DTSTART:20180325T030000
RDATE:20181028T020000
TZOFFSETFROM:+0100
TZOFFSETTO:+0200
TZNAME:Europe/Berlin CEST
END:DAYLIGHT
BEGIN:DAYLIGHT
DTSTART:20190331T030000
RDATE:20191027T020000
TZOFFSETFROM:+0100
TZOFFSETTO:+0200
TZNAME:Europe/Berlin CEST
END:DAYLIGHT
BEGIN:DAYLIGHT
DTSTART:20200329T030000
RDATE:20201025T020000
TZOFFSETFROM:+0100
TZOFFSETTO:+0200
TZNAME:Europe/Berlin CEST
END:DAYLIGHT
BEGIN:DAYLIGHT
DTSTART:20210328T030000
RDATE:20211031T020000
TZOFFSETFROM:+0100
TZOFFSETTO:+0200
TZNAME:Europe/Berlin CEST
END:DAYLIGHT
BEGIN:DAYLIGHT
DTSTART:20220327T030000
RDATE:20221030T020000
TZOFFSETFROM:+0100
TZOFFSETTO:+0200
TZNAME:Europe/Berlin CEST
END:DAYLIGHT
BEGIN:DAYLIGHT
DTSTART:20230326T030000
RDATE:20231029T020000
TZOFFSETFROM:+0100
TZOFFSETTO:+0200
TZNAME:Europe/Berlin CEST
END:DAYLIGHT
BEGIN:DAYLIGHT
DTSTART:20240331T030000
RDATE:20241027T020000
TZOFFSETFROM:+0100
TZOFFSETTO:+0200
TZNAME:Europe/Berlin CEST
END:DAYLIGHT
BEGIN:DAYLIGHT
DTSTART:20250330T030000
RDATE:20251026T020000
TZOFFSETFROM:+0100
TZOFFSETTO:+0200
TZNAME:Europe/Berlin CEST
END:DAYLIGHT
BEGIN:DAYLIGHT
DTSTART:20260329T030000
RDATE:20261025T020000
TZOFFSETFROM:+0100
TZOFFSETTO:+0200
TZNAME:Europe/Berlin CEST
END:DAYLIGHT
BEGIN:DAYLIGHT
DTSTART:20270328T030000
RDATE:20271031T020000
TZOFFSETFROM:+0100
TZOFFSETTO:+0200
TZNAME:Europe/Berlin CEST
END:DAYLIGHT
END:VTIMEZONE
BEGIN:VEVENT
UID:89bb05be2a26e3f9ec6dd6b6a77e33be
CATEGORIES:ESG
CREATED:20130326T195814
SUMMARY:Christentum Kompakt
LOCATION:ESG\, Pfarrbüro
URL;VALUE=URI:https://www.esg-trier.de/veranstaltungskalender/eventeinzelheiten/194/-/chr
 istentum-kompakt?tmpl=component
DESCRIPTION:<h2><strong>Der Tod des Todes</strong><br />Eberhard Jüngel</h2><div>Zur me
 nschlichen Existenz gehört die Reflexion über das Ende des menschlichen Leb
 ens. Doch welchen Stellenwert  hat dieses Nachdenken in unserer heutigen Ge
 sellschaft? Und für uns selber? Welche Antworten lassen sich aus dem christ
 lichen Glauben heraus auf den Tod geben?</div><p>Der bekannte Theologe Eber
 hard Jüngel hat vor rund 30 Jahren ein kleines Taschenbuch zum Thema „Tod“ 
 geschrieben. Es lohnt noch immer, sich mit dieser bahnbrechenden Arbeit zu 
 befassen. <br /><br />In unserer wie immer kleinen, feinen und kompakten Re
 ihe wollen wir uns daher in diesem Semester mit diesem Text beschäftigen.  
 Und dabei  - letztlich – neue Einsichten über das Leben finden und diskutie
 ren. <br /><br />„Christentum Kompakt“ findet im Sommer-Semester insgesamt 
 dreimal, immer dienstags um 16.15 Uhr statt:  7. Mai,  4. Juni,  2. Juli. <
 br /><br />Der Text wird beim ersten Treffen zur Verfügung gestellt.</p><p>
 <a target="_blank" href="images/flippingbook/ProgrammSoSe2013/SoSe%2013%20w
 eb%20008.jpg">(Siehe auch Seite 9)</a></p> <a href="https://www.esg-trier.d
 e/veranstaltungskalender/eventeinzelheiten/194/-/christentum-kompakt?tmpl=c
 omponent">This event was imported from: https://www.esg-trier.de/veranstalt
 ungskalender/eventeinzelheiten/194/-/christentum-kompakt?tmpl=component</a>
X-ALT-DESC;FMTTYPE=text/html:<h2><strong>Der Tod des Todes</strong><br />Eberhard Jüngel</h2><div>Zur me
 nschlichen Existenz gehört die Reflexion über das Ende des menschlichen Leb
 ens. Doch welchen Stellenwert  hat dieses Nachdenken in unserer heutigen Ge
 sellschaft? Und für uns selber? Welche Antworten lassen sich aus dem christ
 lichen Glauben heraus auf den Tod geben?</div><p>Der bekannte Theologe Eber
 hard Jüngel hat vor rund 30 Jahren ein kleines Taschenbuch zum Thema „Tod“ 
 geschrieben. Es lohnt noch immer, sich mit dieser bahnbrechenden Arbeit zu 
 befassen. <br /><br />In unserer wie immer kleinen, feinen und kompakten Re
 ihe wollen wir uns daher in diesem Semester mit diesem Text beschäftigen.  
 Und dabei  - letztlich – neue Einsichten über das Leben finden und diskutie
 ren. <br /><br />„Christentum Kompakt“ findet im Sommer-Semester insgesamt 
 dreimal, immer dienstags um 16.15 Uhr statt:  7. Mai,  4. Juni,  2. Juli. <
 br /><br />Der Text wird beim ersten Treffen zur Verfügung gestellt.</p><p>
 <a target="_blank" href="https://www.esg-trier.de/images/flippingbook/Progr
 ammSoSe2013/SoSe%2013%20web%20008.jpg">(Siehe auch Seite 9)</a></p> <a href
 ="https://www.esg-trier.de/veranstaltungskalender/eventeinzelheiten/194/-/c
 hristentum-kompakt?tmpl=component">This event was imported from: https://ww
 w.esg-trier.de/veranstaltungskalender/eventeinzelheiten/194/-/christentum-k
 ompakt?tmpl=component</a>DTSTAMP:20260422T230708
DTSTART;TZID=Europe/Berlin:20130507T161500
DTEND;TZID=Europe/Berlin:20130507T174500
SEQUENCE:0
TRANSP:OPAQUE
END:VEVENT
END:VCALENDAR