BEGIN:VCALENDAR
VERSION:2.0
PRODID:-//jEvents 2.0 for Joomla//EN
CALSCALE:GREGORIAN
METHOD:PUBLISH
BEGIN:VTIMEZONE
TZID:Europe/Berlin
BEGIN:STANDARD
DTSTART:20130115T093000
RDATE:20130331T030000
TZOFFSETFROM:+0200
TZOFFSETTO:+0100
TZNAME:Europe/Berlin CET
END:STANDARD
BEGIN:STANDARD
DTSTART:20131027T020000
RDATE:20140330T030000
TZOFFSETFROM:+0200
TZOFFSETTO:+0100
TZNAME:Europe/Berlin CET
END:STANDARD
BEGIN:STANDARD
DTSTART:20141026T020000
RDATE:20150329T030000
TZOFFSETFROM:+0200
TZOFFSETTO:+0100
TZNAME:Europe/Berlin CET
END:STANDARD
BEGIN:STANDARD
DTSTART:20151025T020000
RDATE:20160327T030000
TZOFFSETFROM:+0200
TZOFFSETTO:+0100
TZNAME:Europe/Berlin CET
END:STANDARD
BEGIN:STANDARD
DTSTART:20161030T020000
RDATE:20170326T030000
TZOFFSETFROM:+0200
TZOFFSETTO:+0100
TZNAME:Europe/Berlin CET
END:STANDARD
BEGIN:STANDARD
DTSTART:20171029T020000
RDATE:20180325T030000
TZOFFSETFROM:+0200
TZOFFSETTO:+0100
TZNAME:Europe/Berlin CET
END:STANDARD
BEGIN:STANDARD
DTSTART:20181028T020000
RDATE:20190331T030000
TZOFFSETFROM:+0200
TZOFFSETTO:+0100
TZNAME:Europe/Berlin CET
END:STANDARD
BEGIN:STANDARD
DTSTART:20191027T020000
RDATE:20200329T030000
TZOFFSETFROM:+0200
TZOFFSETTO:+0100
TZNAME:Europe/Berlin CET
END:STANDARD
BEGIN:STANDARD
DTSTART:20201025T020000
RDATE:20210328T030000
TZOFFSETFROM:+0200
TZOFFSETTO:+0100
TZNAME:Europe/Berlin CET
END:STANDARD
BEGIN:STANDARD
DTSTART:20211031T020000
RDATE:20220327T030000
TZOFFSETFROM:+0200
TZOFFSETTO:+0100
TZNAME:Europe/Berlin CET
END:STANDARD
BEGIN:STANDARD
DTSTART:20221030T020000
RDATE:20230326T030000
TZOFFSETFROM:+0200
TZOFFSETTO:+0100
TZNAME:Europe/Berlin CET
END:STANDARD
BEGIN:STANDARD
DTSTART:20231029T020000
RDATE:20240331T030000
TZOFFSETFROM:+0200
TZOFFSETTO:+0100
TZNAME:Europe/Berlin CET
END:STANDARD
BEGIN:STANDARD
DTSTART:20241027T020000
RDATE:20250330T030000
TZOFFSETFROM:+0200
TZOFFSETTO:+0100
TZNAME:Europe/Berlin CET
END:STANDARD
BEGIN:STANDARD
DTSTART:20251026T020000
RDATE:20260329T030000
TZOFFSETFROM:+0200
TZOFFSETTO:+0100
TZNAME:Europe/Berlin CET
END:STANDARD
BEGIN:STANDARD
DTSTART:20261025T020000
RDATE:20270328T030000
TZOFFSETFROM:+0200
TZOFFSETTO:+0100
TZNAME:Europe/Berlin CET
END:STANDARD
BEGIN:STANDARD
DTSTART:20271031T020000
RDATE:20280326T030000
TZOFFSETFROM:+0200
TZOFFSETTO:+0100
TZNAME:Europe/Berlin CET
END:STANDARD
BEGIN:DAYLIGHT
DTSTART:20130331T030000
RDATE:20131027T020000
TZOFFSETFROM:+0100
TZOFFSETTO:+0200
TZNAME:Europe/Berlin CEST
END:DAYLIGHT
BEGIN:DAYLIGHT
DTSTART:20140330T030000
RDATE:20141026T020000
TZOFFSETFROM:+0100
TZOFFSETTO:+0200
TZNAME:Europe/Berlin CEST
END:DAYLIGHT
BEGIN:DAYLIGHT
DTSTART:20150329T030000
RDATE:20151025T020000
TZOFFSETFROM:+0100
TZOFFSETTO:+0200
TZNAME:Europe/Berlin CEST
END:DAYLIGHT
BEGIN:DAYLIGHT
DTSTART:20160327T030000
RDATE:20161030T020000
TZOFFSETFROM:+0100
TZOFFSETTO:+0200
TZNAME:Europe/Berlin CEST
END:DAYLIGHT
BEGIN:DAYLIGHT
DTSTART:20170326T030000
RDATE:20171029T020000
TZOFFSETFROM:+0100
TZOFFSETTO:+0200
TZNAME:Europe/Berlin CEST
END:DAYLIGHT
BEGIN:DAYLIGHT
DTSTART:20180325T030000
RDATE:20181028T020000
TZOFFSETFROM:+0100
TZOFFSETTO:+0200
TZNAME:Europe/Berlin CEST
END:DAYLIGHT
BEGIN:DAYLIGHT
DTSTART:20190331T030000
RDATE:20191027T020000
TZOFFSETFROM:+0100
TZOFFSETTO:+0200
TZNAME:Europe/Berlin CEST
END:DAYLIGHT
BEGIN:DAYLIGHT
DTSTART:20200329T030000
RDATE:20201025T020000
TZOFFSETFROM:+0100
TZOFFSETTO:+0200
TZNAME:Europe/Berlin CEST
END:DAYLIGHT
BEGIN:DAYLIGHT
DTSTART:20210328T030000
RDATE:20211031T020000
TZOFFSETFROM:+0100
TZOFFSETTO:+0200
TZNAME:Europe/Berlin CEST
END:DAYLIGHT
BEGIN:DAYLIGHT
DTSTART:20220327T030000
RDATE:20221030T020000
TZOFFSETFROM:+0100
TZOFFSETTO:+0200
TZNAME:Europe/Berlin CEST
END:DAYLIGHT
BEGIN:DAYLIGHT
DTSTART:20230326T030000
RDATE:20231029T020000
TZOFFSETFROM:+0100
TZOFFSETTO:+0200
TZNAME:Europe/Berlin CEST
END:DAYLIGHT
BEGIN:DAYLIGHT
DTSTART:20240331T030000
RDATE:20241027T020000
TZOFFSETFROM:+0100
TZOFFSETTO:+0200
TZNAME:Europe/Berlin CEST
END:DAYLIGHT
BEGIN:DAYLIGHT
DTSTART:20250330T030000
RDATE:20251026T020000
TZOFFSETFROM:+0100
TZOFFSETTO:+0200
TZNAME:Europe/Berlin CEST
END:DAYLIGHT
BEGIN:DAYLIGHT
DTSTART:20260329T030000
RDATE:20261025T020000
TZOFFSETFROM:+0100
TZOFFSETTO:+0200
TZNAME:Europe/Berlin CEST
END:DAYLIGHT
BEGIN:DAYLIGHT
DTSTART:20270328T030000
RDATE:20271031T020000
TZOFFSETFROM:+0100
TZOFFSETTO:+0200
TZNAME:Europe/Berlin CEST
END:DAYLIGHT
END:VTIMEZONE
BEGIN:VEVENT
UID:141ab4b7a1d11bdcb09a0f8c868683e2
CATEGORIES:ESG
CREATED:19700101T010000
SUMMARY:Ausstellung: "Es lebe die Freiheit!"
LOCATION:vhs Trier\, Domfreihof 1\, 54290 Trier
URL;VALUE=URI:https://www.esg-trier.de/veranstaltungskalender/eventeinzelheiten/1167/-/au
 sstellung-es-lebe-die-freiheit?tmpl=component
DESCRIPTION:Junge Menschen gegen den Nationalsozialismus\n\n \nViele junge Menschen ver
 fielen den Ideen des NS-Regimes. Nur eine Minderheit zeigte den Mut an best
 immten Punkten "Nein" zu sagen und/oder Widerstand zu leisten. Diesen junge
 n Menschen, die aus verschiedenen sozialen und politischen Milieus entstamm
 en, die in unterschiedlichster Form den Vorgaben des Regimes nicht folgten 
 oder in ganz verschiedenen Formen Widerstand leisteten, widmet sich diese A
 usstellung.\n\n\nIn einer leicht verständlichen Sprache werden die Motive u
 nd die Aktionen der Jugendlichen auf 32 Tafeln dargestellt. Einzelne Biogra
 phien bringen den Betrachtern die Lebensläufe von jungen Kommunisten, Sozia
 ldemokraten, Zeugen Jehovas, Juden oder ursprünglich unpolitischen jungen M
 enschen näher. Als Gruppen des Widerstands sind unter anderem die Edelweißp
 iraten, die weiße Rose und die Rote Kapelle vertreten.\n\n\nÖffnungszeiten:
  Mo - Fr 9:30 - 17:30\n\n \n\nInfos über die anderen Veranstaltungen der Re
 ihe zum 27. Januar 2014 gibt es hier: (Seite 1, Seite 2 (images/ESG_Folder_
 2014-2web.pdf))\n This event was imported from: https://www.esg-trier.de/ve
 ranstaltungskalender/eventeinzelheiten/1167/-/ausstellung-es-lebe-die-freih
 eit?tmpl=component
X-ALT-DESC;FMTTYPE=text/html:<p><span style="font-size: 24.0pt; font-family: 'Times New Roman','serif'; 
 mso-fareast-font-family: 'Times New Roman'; mso-font-kerning: 18.0pt; mso-f
 areast-language: DE;">Junge Menschen gegen den Nationalsozialismus<br /><br
  /></span><b><span style="font-size: 24.0pt; font-family: 'Times New Roman'
 ,'serif'; mso-fareast-font-family: 'Times New Roman'; mso-font-kerning: 18.
 0pt; mso-fareast-language: DE;"> </span></b></p><p class="MsoNormal" style=
 "mso-margin-top-alt: auto; mso-margin-bottom-alt: auto; line-height: normal
 ;"><span style="font-size: 12.0pt; font-family: 'Times New Roman','serif'; 
 mso-fareast-font-family: 'Times New Roman'; mso-fareast-language: DE;">Viel
 e junge Menschen verfielen den Ideen des NS-Regimes. Nur eine Minderheit ze
 igte den Mut an bestimmten Punkten "Nein" zu sagen und/oder Widerstand zu l
 eisten. Diesen jungen Menschen, die aus verschiedenen sozialen und politisc
 hen Milieus entstammen, die in unterschiedlichster Form den Vorgaben des Re
 gimes nicht folgten oder in ganz verschiedenen Formen Widerstand leisteten,
  widmet sich diese Ausstellung.<br /><br /></span></p><p class="MsoNormal" 
 style="mso-margin-top-alt: auto; mso-margin-bottom-alt: auto; line-height: 
 normal;"><span style="font-size: 12.0pt; font-family: 'Times New Roman','se
 rif'; mso-fareast-font-family: 'Times New Roman'; mso-fareast-language: DE;
 ">In einer leicht verständlichen Sprache werden die Motive und die Aktionen
  der Jugendlichen auf 32 Tafeln dargestellt. Einzelne Biographien bringen d
 en Betrachtern die Lebensläufe von jungen Kommunisten, Sozialdemokraten, Ze
 ugen Jehovas, Juden oder ursprünglich unpolitischen jungen Menschen näher. 
 Als Gruppen des Widerstands sind unter anderem die Edelweißpiraten, die wei
 ße Rose und die Rote Kapelle vertreten.<br /><br /></span></p><p class="Mso
 Normal" style="mso-margin-top-alt: auto; mso-margin-bottom-alt: auto; line-
 height: normal;"><span style="font-size: 12.0pt; font-family: 'Times New Ro
 man','serif'; mso-fareast-font-family: 'Times New Roman'; mso-fareast-langu
 age: DE;">Öffnungszeiten: Mo - Fr 9:30 - 17:30<br /></span></p><p class="Ms
 oNormal" style="mso-margin-top-alt: auto; mso-margin-bottom-alt: auto; line
 -height: normal;"><span style="font-size: 12.0pt; font-family: 'Times New R
 oman','serif'; mso-fareast-font-family: 'Times New Roman'; mso-fareast-lang
 uage: DE;"> </span></p><p class="MsoNormal" style="mso-margin-top-alt: auto
 ; mso-margin-bottom-alt: auto; line-height: normal;"><br />Infos über die a
 nderen <em>Veranstaltungen der Reihe zum 27. Januar 2014</em> gibt es hier:
  (<a target="_blank" href="https://www.esg-trier.de/images/ESG_Folder_2014-
 1web.pdf">Seite 1</a>, <a target="_blank" href="https://www.esg-trier.de/im
 ages/ESG_Folder_2014-2web.pdf">Seite 2</a>)</p> <a href="https://www.esg-tr
 ier.de/veranstaltungskalender/eventeinzelheiten/1167/-/ausstellung-es-lebe-
 die-freiheit?tmpl=component">This event was imported from: https://www.esg-
 trier.de/veranstaltungskalender/eventeinzelheiten/1167/-/ausstellung-es-leb
 e-die-freiheit?tmpl=component</a>DTSTAMP:20260423T150625
DTSTART;TZID=Europe/Berlin:20140116T093000
DTEND;TZID=Europe/Berlin:20140116T173000
SEQUENCE:0
RRULE:FREQ=DAILY;UNTIL=20140201T000000Z;INTERVAL=1
EXDATE;TZID=Europe/Berlin:20140118T093000,20140119T093000,20140125T093000,20140126T093000
TRANSP:OPAQUE
END:VEVENT
END:VCALENDAR