BEGIN:VCALENDAR
VERSION:2.0
PRODID:-//jEvents 2.0 for Joomla//EN
CALSCALE:GREGORIAN
METHOD:PUBLISH
BEGIN:VTIMEZONE
TZID:Europe/Berlin
BEGIN:STANDARD
DTSTART:20130125T140000
RDATE:20130331T030000
TZOFFSETFROM:+0200
TZOFFSETTO:+0100
TZNAME:Europe/Berlin CET
END:STANDARD
BEGIN:STANDARD
DTSTART:20131027T020000
RDATE:20140330T030000
TZOFFSETFROM:+0200
TZOFFSETTO:+0100
TZNAME:Europe/Berlin CET
END:STANDARD
BEGIN:STANDARD
DTSTART:20141026T020000
RDATE:20150329T030000
TZOFFSETFROM:+0200
TZOFFSETTO:+0100
TZNAME:Europe/Berlin CET
END:STANDARD
BEGIN:STANDARD
DTSTART:20151025T020000
RDATE:20160327T030000
TZOFFSETFROM:+0200
TZOFFSETTO:+0100
TZNAME:Europe/Berlin CET
END:STANDARD
BEGIN:STANDARD
DTSTART:20161030T020000
RDATE:20170326T030000
TZOFFSETFROM:+0200
TZOFFSETTO:+0100
TZNAME:Europe/Berlin CET
END:STANDARD
BEGIN:STANDARD
DTSTART:20171029T020000
RDATE:20180325T030000
TZOFFSETFROM:+0200
TZOFFSETTO:+0100
TZNAME:Europe/Berlin CET
END:STANDARD
BEGIN:STANDARD
DTSTART:20181028T020000
RDATE:20190331T030000
TZOFFSETFROM:+0200
TZOFFSETTO:+0100
TZNAME:Europe/Berlin CET
END:STANDARD
BEGIN:STANDARD
DTSTART:20191027T020000
RDATE:20200329T030000
TZOFFSETFROM:+0200
TZOFFSETTO:+0100
TZNAME:Europe/Berlin CET
END:STANDARD
BEGIN:STANDARD
DTSTART:20201025T020000
RDATE:20210328T030000
TZOFFSETFROM:+0200
TZOFFSETTO:+0100
TZNAME:Europe/Berlin CET
END:STANDARD
BEGIN:STANDARD
DTSTART:20211031T020000
RDATE:20220327T030000
TZOFFSETFROM:+0200
TZOFFSETTO:+0100
TZNAME:Europe/Berlin CET
END:STANDARD
BEGIN:STANDARD
DTSTART:20221030T020000
RDATE:20230326T030000
TZOFFSETFROM:+0200
TZOFFSETTO:+0100
TZNAME:Europe/Berlin CET
END:STANDARD
BEGIN:STANDARD
DTSTART:20231029T020000
RDATE:20240331T030000
TZOFFSETFROM:+0200
TZOFFSETTO:+0100
TZNAME:Europe/Berlin CET
END:STANDARD
BEGIN:STANDARD
DTSTART:20241027T020000
RDATE:20250330T030000
TZOFFSETFROM:+0200
TZOFFSETTO:+0100
TZNAME:Europe/Berlin CET
END:STANDARD
BEGIN:STANDARD
DTSTART:20251026T020000
RDATE:20260329T030000
TZOFFSETFROM:+0200
TZOFFSETTO:+0100
TZNAME:Europe/Berlin CET
END:STANDARD
BEGIN:STANDARD
DTSTART:20261025T020000
RDATE:20270328T030000
TZOFFSETFROM:+0200
TZOFFSETTO:+0100
TZNAME:Europe/Berlin CET
END:STANDARD
BEGIN:STANDARD
DTSTART:20271031T020000
RDATE:20280326T030000
TZOFFSETFROM:+0200
TZOFFSETTO:+0100
TZNAME:Europe/Berlin CET
END:STANDARD
BEGIN:DAYLIGHT
DTSTART:20130331T030000
RDATE:20131027T020000
TZOFFSETFROM:+0100
TZOFFSETTO:+0200
TZNAME:Europe/Berlin CEST
END:DAYLIGHT
BEGIN:DAYLIGHT
DTSTART:20140330T030000
RDATE:20141026T020000
TZOFFSETFROM:+0100
TZOFFSETTO:+0200
TZNAME:Europe/Berlin CEST
END:DAYLIGHT
BEGIN:DAYLIGHT
DTSTART:20150329T030000
RDATE:20151025T020000
TZOFFSETFROM:+0100
TZOFFSETTO:+0200
TZNAME:Europe/Berlin CEST
END:DAYLIGHT
BEGIN:DAYLIGHT
DTSTART:20160327T030000
RDATE:20161030T020000
TZOFFSETFROM:+0100
TZOFFSETTO:+0200
TZNAME:Europe/Berlin CEST
END:DAYLIGHT
BEGIN:DAYLIGHT
DTSTART:20170326T030000
RDATE:20171029T020000
TZOFFSETFROM:+0100
TZOFFSETTO:+0200
TZNAME:Europe/Berlin CEST
END:DAYLIGHT
BEGIN:DAYLIGHT
DTSTART:20180325T030000
RDATE:20181028T020000
TZOFFSETFROM:+0100
TZOFFSETTO:+0200
TZNAME:Europe/Berlin CEST
END:DAYLIGHT
BEGIN:DAYLIGHT
DTSTART:20190331T030000
RDATE:20191027T020000
TZOFFSETFROM:+0100
TZOFFSETTO:+0200
TZNAME:Europe/Berlin CEST
END:DAYLIGHT
BEGIN:DAYLIGHT
DTSTART:20200329T030000
RDATE:20201025T020000
TZOFFSETFROM:+0100
TZOFFSETTO:+0200
TZNAME:Europe/Berlin CEST
END:DAYLIGHT
BEGIN:DAYLIGHT
DTSTART:20210328T030000
RDATE:20211031T020000
TZOFFSETFROM:+0100
TZOFFSETTO:+0200
TZNAME:Europe/Berlin CEST
END:DAYLIGHT
BEGIN:DAYLIGHT
DTSTART:20220327T030000
RDATE:20221030T020000
TZOFFSETFROM:+0100
TZOFFSETTO:+0200
TZNAME:Europe/Berlin CEST
END:DAYLIGHT
BEGIN:DAYLIGHT
DTSTART:20230326T030000
RDATE:20231029T020000
TZOFFSETFROM:+0100
TZOFFSETTO:+0200
TZNAME:Europe/Berlin CEST
END:DAYLIGHT
BEGIN:DAYLIGHT
DTSTART:20240331T030000
RDATE:20241027T020000
TZOFFSETFROM:+0100
TZOFFSETTO:+0200
TZNAME:Europe/Berlin CEST
END:DAYLIGHT
BEGIN:DAYLIGHT
DTSTART:20250330T030000
RDATE:20251026T020000
TZOFFSETFROM:+0100
TZOFFSETTO:+0200
TZNAME:Europe/Berlin CEST
END:DAYLIGHT
BEGIN:DAYLIGHT
DTSTART:20260329T030000
RDATE:20261025T020000
TZOFFSETFROM:+0100
TZOFFSETTO:+0200
TZNAME:Europe/Berlin CEST
END:DAYLIGHT
BEGIN:DAYLIGHT
DTSTART:20270328T030000
RDATE:20271031T020000
TZOFFSETFROM:+0100
TZOFFSETTO:+0200
TZNAME:Europe/Berlin CEST
END:DAYLIGHT
END:VTIMEZONE
BEGIN:VEVENT
UID:a6defa53ee13ebbf2ad719607c972ed3
CATEGORIES:ESG
CREATED:20140120T113448
SUMMARY:Führung in der Gedenkstätte Hinzert
LOCATION:Ehemaliges SS-Sonderlager/KZ-Hinzert
URL;VALUE=URI:https://www.esg-trier.de/veranstaltungskalender/eventeinzelheiten/2191/-/fü
 hrung-in-der-gedenkstätte-hinzert?tmpl=component
DESCRIPTION:Im SS-Sonderlager/KZ-Hinzert wurden rund 13.600 Gefangene eingesperrt. Viel
 e davon waren Widerstandskämpfer aus den Nachbarländern. Hunger, Folter, ha
 rte Zwangsarbeit und Entwürdigung durch die SS-Wachmannschaften waren an de
 r Tagesordung. Für nachweislich mindestens 321 Männer endete ihr Leidensweg
  bereits in Hinzert mit dem Tod. Viele andere wurden von hier in andere deu
 tsche Haftstätten und KZ verschleppt.\nFührung 14:00 Uhr (Abfahrt ESG 13:30
  Uhr)\nAnmeldung: Diese E-Mail-Adresse ist vor Spambots geschützt! Zur Anze
 ige muss JavaScript eingeschaltet sein.\n \nInfos über die anderen Veransta
 ltungen der Reihe zum 27. Januar 2014 gibt es hier: (Seite 1, Seite 2 (imag
 es/ESG_Folder_2014-2web.pdf))\n This event was imported from: https://www.e
 sg-trier.de/veranstaltungskalender/eventeinzelheiten/2191/-/führung-in-der-
 gedenkstätte-hinzert?tmpl=component
X-ALT-DESC;FMTTYPE=text/html:<p>Im SS-Sonderlager/KZ-Hinzert wurden rund 13.600 Gefangene eingesperrt. V
 iele davon waren Widerstandskämpfer aus den Nachbarländern. Hunger, Folter,
  harte Zwangsarbeit und Entwürdigung durch die SS-Wachmannschaften waren an
  der Tagesordung. Für nachweislich mindestens 321 Männer endete ihr Leidens
 weg bereits in Hinzert mit dem Tod. Viele andere wurden von hier in andere 
 deutsche Haftstätten und KZ verschleppt.</p><p>Führung 14:00 Uhr (Abfahrt E
 SG 13:30 Uhr)</p><p>Anmeldung: <joomla-hidden-mail  is-link="1" is-email="1
 " first="ZXNn" last="dW5pLXRyaWVyLmRl" text="ZXNnQHVuaS10cmllci5kZQ==" base
 ="" >Diese E-Mail-Adresse ist vor Spambots geschützt! Zur Anzeige muss Java
 Script eingeschaltet sein.</joomla-hidden-mail></p><p> </p><p>Infos über di
 e anderen <em>Veranstaltungen der Reihe zum 27. Januar 2014</em> gibt es hi
 er: (<a href="https://www.esg-trier.de/images/ESG_Folder_2014-1web.pdf" tar
 get="_blank">Seite 1</a>, <a href="https://www.esg-trier.de/images/ESG_Fold
 er_2014-2web.pdf" target="_blank">Seite 2</a>)</p> <a href="https://www.esg
 -trier.de/veranstaltungskalender/eventeinzelheiten/2191/-/führung-in-der-ge
 denkstätte-hinzert?tmpl=component">This event was imported from: https://ww
 w.esg-trier.de/veranstaltungskalender/eventeinzelheiten/2191/-/führung-in-d
 er-gedenkstätte-hinzert?tmpl=component</a>DTSTAMP:20260425T165556
DTSTART;TZID=Europe/Berlin:20140126T140000
DTEND;TZID=Europe/Berlin:20140126T160000
SEQUENCE:0
TRANSP:OPAQUE
END:VEVENT
END:VCALENDAR