BEGIN:VCALENDAR
VERSION:2.0
PRODID:-//jEvents 2.0 for Joomla//EN
CALSCALE:GREGORIAN
METHOD:PUBLISH
BEGIN:VTIMEZONE
TZID:Europe/Berlin
BEGIN:STANDARD
DTSTART:20130128T190000
RDATE:20130331T030000
TZOFFSETFROM:+0200
TZOFFSETTO:+0100
TZNAME:Europe/Berlin CET
END:STANDARD
BEGIN:STANDARD
DTSTART:20131027T020000
RDATE:20140330T030000
TZOFFSETFROM:+0200
TZOFFSETTO:+0100
TZNAME:Europe/Berlin CET
END:STANDARD
BEGIN:STANDARD
DTSTART:20141026T020000
RDATE:20150329T030000
TZOFFSETFROM:+0200
TZOFFSETTO:+0100
TZNAME:Europe/Berlin CET
END:STANDARD
BEGIN:STANDARD
DTSTART:20151025T020000
RDATE:20160327T030000
TZOFFSETFROM:+0200
TZOFFSETTO:+0100
TZNAME:Europe/Berlin CET
END:STANDARD
BEGIN:STANDARD
DTSTART:20161030T020000
RDATE:20170326T030000
TZOFFSETFROM:+0200
TZOFFSETTO:+0100
TZNAME:Europe/Berlin CET
END:STANDARD
BEGIN:STANDARD
DTSTART:20171029T020000
RDATE:20180325T030000
TZOFFSETFROM:+0200
TZOFFSETTO:+0100
TZNAME:Europe/Berlin CET
END:STANDARD
BEGIN:STANDARD
DTSTART:20181028T020000
RDATE:20190331T030000
TZOFFSETFROM:+0200
TZOFFSETTO:+0100
TZNAME:Europe/Berlin CET
END:STANDARD
BEGIN:STANDARD
DTSTART:20191027T020000
RDATE:20200329T030000
TZOFFSETFROM:+0200
TZOFFSETTO:+0100
TZNAME:Europe/Berlin CET
END:STANDARD
BEGIN:STANDARD
DTSTART:20201025T020000
RDATE:20210328T030000
TZOFFSETFROM:+0200
TZOFFSETTO:+0100
TZNAME:Europe/Berlin CET
END:STANDARD
BEGIN:STANDARD
DTSTART:20211031T020000
RDATE:20220327T030000
TZOFFSETFROM:+0200
TZOFFSETTO:+0100
TZNAME:Europe/Berlin CET
END:STANDARD
BEGIN:STANDARD
DTSTART:20221030T020000
RDATE:20230326T030000
TZOFFSETFROM:+0200
TZOFFSETTO:+0100
TZNAME:Europe/Berlin CET
END:STANDARD
BEGIN:STANDARD
DTSTART:20231029T020000
RDATE:20240331T030000
TZOFFSETFROM:+0200
TZOFFSETTO:+0100
TZNAME:Europe/Berlin CET
END:STANDARD
BEGIN:STANDARD
DTSTART:20241027T020000
RDATE:20250330T030000
TZOFFSETFROM:+0200
TZOFFSETTO:+0100
TZNAME:Europe/Berlin CET
END:STANDARD
BEGIN:STANDARD
DTSTART:20251026T020000
RDATE:20260329T030000
TZOFFSETFROM:+0200
TZOFFSETTO:+0100
TZNAME:Europe/Berlin CET
END:STANDARD
BEGIN:STANDARD
DTSTART:20261025T020000
RDATE:20270328T030000
TZOFFSETFROM:+0200
TZOFFSETTO:+0100
TZNAME:Europe/Berlin CET
END:STANDARD
BEGIN:STANDARD
DTSTART:20271031T020000
RDATE:20280326T030000
TZOFFSETFROM:+0200
TZOFFSETTO:+0100
TZNAME:Europe/Berlin CET
END:STANDARD
BEGIN:DAYLIGHT
DTSTART:20130331T030000
RDATE:20131027T020000
TZOFFSETFROM:+0100
TZOFFSETTO:+0200
TZNAME:Europe/Berlin CEST
END:DAYLIGHT
BEGIN:DAYLIGHT
DTSTART:20140330T030000
RDATE:20141026T020000
TZOFFSETFROM:+0100
TZOFFSETTO:+0200
TZNAME:Europe/Berlin CEST
END:DAYLIGHT
BEGIN:DAYLIGHT
DTSTART:20150329T030000
RDATE:20151025T020000
TZOFFSETFROM:+0100
TZOFFSETTO:+0200
TZNAME:Europe/Berlin CEST
END:DAYLIGHT
BEGIN:DAYLIGHT
DTSTART:20160327T030000
RDATE:20161030T020000
TZOFFSETFROM:+0100
TZOFFSETTO:+0200
TZNAME:Europe/Berlin CEST
END:DAYLIGHT
BEGIN:DAYLIGHT
DTSTART:20170326T030000
RDATE:20171029T020000
TZOFFSETFROM:+0100
TZOFFSETTO:+0200
TZNAME:Europe/Berlin CEST
END:DAYLIGHT
BEGIN:DAYLIGHT
DTSTART:20180325T030000
RDATE:20181028T020000
TZOFFSETFROM:+0100
TZOFFSETTO:+0200
TZNAME:Europe/Berlin CEST
END:DAYLIGHT
BEGIN:DAYLIGHT
DTSTART:20190331T030000
RDATE:20191027T020000
TZOFFSETFROM:+0100
TZOFFSETTO:+0200
TZNAME:Europe/Berlin CEST
END:DAYLIGHT
BEGIN:DAYLIGHT
DTSTART:20200329T030000
RDATE:20201025T020000
TZOFFSETFROM:+0100
TZOFFSETTO:+0200
TZNAME:Europe/Berlin CEST
END:DAYLIGHT
BEGIN:DAYLIGHT
DTSTART:20210328T030000
RDATE:20211031T020000
TZOFFSETFROM:+0100
TZOFFSETTO:+0200
TZNAME:Europe/Berlin CEST
END:DAYLIGHT
BEGIN:DAYLIGHT
DTSTART:20220327T030000
RDATE:20221030T020000
TZOFFSETFROM:+0100
TZOFFSETTO:+0200
TZNAME:Europe/Berlin CEST
END:DAYLIGHT
BEGIN:DAYLIGHT
DTSTART:20230326T030000
RDATE:20231029T020000
TZOFFSETFROM:+0100
TZOFFSETTO:+0200
TZNAME:Europe/Berlin CEST
END:DAYLIGHT
BEGIN:DAYLIGHT
DTSTART:20240331T030000
RDATE:20241027T020000
TZOFFSETFROM:+0100
TZOFFSETTO:+0200
TZNAME:Europe/Berlin CEST
END:DAYLIGHT
BEGIN:DAYLIGHT
DTSTART:20250330T030000
RDATE:20251026T020000
TZOFFSETFROM:+0100
TZOFFSETTO:+0200
TZNAME:Europe/Berlin CEST
END:DAYLIGHT
BEGIN:DAYLIGHT
DTSTART:20260329T030000
RDATE:20261025T020000
TZOFFSETFROM:+0100
TZOFFSETTO:+0200
TZNAME:Europe/Berlin CEST
END:DAYLIGHT
BEGIN:DAYLIGHT
DTSTART:20270328T030000
RDATE:20271031T020000
TZOFFSETFROM:+0100
TZOFFSETTO:+0200
TZNAME:Europe/Berlin CEST
END:DAYLIGHT
END:VTIMEZONE
BEGIN:VEVENT
UID:cdbd4da65c9deac510a18abff67a7815
CATEGORIES:ESG
CREATED:20140120T120228
SUMMARY:Jugend und Jugendwiderstand im Nationalsozialismus
LOCATION:Domfreihof 1b\, Raum 5
URL;VALUE=URI:https://www.esg-trier.de/veranstaltungskalender/eventeinzelheiten/2194/-/ju
 gend-und-jugendwiderstand-im-nationalsozialismus?tmpl=component
DESCRIPTION:<p>Die Jugend war für Nationalsozialisten eine sehr wichtige Zielgruppe. Si
 e wurde von Anfang an hofiert ("Macht Platz ihr Alten!"). Damit einher ging
  eine beispielose Indoktrination und Disziplinierung. Alle sollten für die 
 Nazis marschieren. Wer nicht mitmachte, dem wurde "so lange in die Hacken g
 etreten, bis er marschierte" - so der Führer der "Deutschen Arbeitsfront", 
 Robert Ley.</p><p>Der Koblenzer Jurist und "Gedenkarbeiter" Joachim Henning
  schildert vor diesen Hintergrund die Geschichte der Hitlerjugend, des Reic
 hsarbeitsdienstes, die Gleichschaltung der Jugendverbände und -bünde sowie 
 die Verfolgung und den Widerstand von Jugendlichen im nördlichen Rheinland-
 Pfalz und von jungen Luxenburgern. Im Mittelpunkt steht hierbei die Burg St
 ahleck bei Bacharach am Rhein.</p><p> </p><p>Infos über die anderen <em>Ver
 anstaltungen der Reihe zum 27. Januar 2014</em> gibt es hier: (<a href="ima
 ges/ESG_Folder_2014-1web.pdf" target="_blank">Seite 1</a>, <a href="images/
 ESG_Folder_2014-2web.pdf" target="_blank">Seite 2</a>)</p> <a href="https:/
 /www.esg-trier.de/veranstaltungskalender/eventeinzelheiten/2194/-/jugend-un
 d-jugendwiderstand-im-nationalsozialismus?tmpl=component">This event was im
 ported from: https://www.esg-trier.de/veranstaltungskalender/eventeinzelhei
 ten/2194/-/jugend-und-jugendwiderstand-im-nationalsozialismus?tmpl=componen
 t</a>
X-ALT-DESC;FMTTYPE=text/html:<p>Die Jugend war für Nationalsozialisten eine sehr wichtige Zielgruppe. Si
 e wurde von Anfang an hofiert ("Macht Platz ihr Alten!"). Damit einher ging
  eine beispielose Indoktrination und Disziplinierung. Alle sollten für die 
 Nazis marschieren. Wer nicht mitmachte, dem wurde "so lange in die Hacken g
 etreten, bis er marschierte" - so der Führer der "Deutschen Arbeitsfront", 
 Robert Ley.</p><p>Der Koblenzer Jurist und "Gedenkarbeiter" Joachim Henning
  schildert vor diesen Hintergrund die Geschichte der Hitlerjugend, des Reic
 hsarbeitsdienstes, die Gleichschaltung der Jugendverbände und -bünde sowie 
 die Verfolgung und den Widerstand von Jugendlichen im nördlichen Rheinland-
 Pfalz und von jungen Luxenburgern. Im Mittelpunkt steht hierbei die Burg St
 ahleck bei Bacharach am Rhein.</p><p> </p><p>Infos über die anderen <em>Ver
 anstaltungen der Reihe zum 27. Januar 2014</em> gibt es hier: (<a href="htt
 ps://www.esg-trier.de/images/ESG_Folder_2014-1web.pdf" target="_blank">Seit
 e 1</a>, <a href="https://www.esg-trier.de/images/ESG_Folder_2014-2web.pdf"
  target="_blank">Seite 2</a>)</p> <a href="https://www.esg-trier.de/veranst
 altungskalender/eventeinzelheiten/2194/-/jugend-und-jugendwiderstand-im-nat
 ionalsozialismus?tmpl=component">This event was imported from: https://www.
 esg-trier.de/veranstaltungskalender/eventeinzelheiten/2194/-/jugend-und-jug
 endwiderstand-im-nationalsozialismus?tmpl=component</a>DTSTAMP:20260425T024400
DTSTART;TZID=Europe/Berlin:20140129T190000
SEQUENCE:0
TRANSP:OPAQUE
END:VEVENT
END:VCALENDAR