BEGIN:VCALENDAR
VERSION:2.0
PRODID:-//jEvents 2.0 for Joomla//EN
CALSCALE:GREGORIAN
METHOD:PUBLISH
BEGIN:VTIMEZONE
TZID:Europe/Berlin
BEGIN:STANDARD
DTSTART:20131027T020000
RDATE:20140330T030000
TZOFFSETFROM:+0200
TZOFFSETTO:+0100
TZNAME:Europe/Berlin CET
END:STANDARD
BEGIN:STANDARD
DTSTART:20141026T020000
RDATE:20150329T030000
TZOFFSETFROM:+0200
TZOFFSETTO:+0100
TZNAME:Europe/Berlin CET
END:STANDARD
BEGIN:STANDARD
DTSTART:20151025T020000
RDATE:20160327T030000
TZOFFSETFROM:+0200
TZOFFSETTO:+0100
TZNAME:Europe/Berlin CET
END:STANDARD
BEGIN:STANDARD
DTSTART:20161030T020000
RDATE:20170326T030000
TZOFFSETFROM:+0200
TZOFFSETTO:+0100
TZNAME:Europe/Berlin CET
END:STANDARD
BEGIN:STANDARD
DTSTART:20171029T020000
RDATE:20180325T030000
TZOFFSETFROM:+0200
TZOFFSETTO:+0100
TZNAME:Europe/Berlin CET
END:STANDARD
BEGIN:STANDARD
DTSTART:20181028T020000
RDATE:20190331T030000
TZOFFSETFROM:+0200
TZOFFSETTO:+0100
TZNAME:Europe/Berlin CET
END:STANDARD
BEGIN:STANDARD
DTSTART:20191027T020000
RDATE:20200329T030000
TZOFFSETFROM:+0200
TZOFFSETTO:+0100
TZNAME:Europe/Berlin CET
END:STANDARD
BEGIN:STANDARD
DTSTART:20201025T020000
RDATE:20210328T030000
TZOFFSETFROM:+0200
TZOFFSETTO:+0100
TZNAME:Europe/Berlin CET
END:STANDARD
BEGIN:STANDARD
DTSTART:20211031T020000
RDATE:20220327T030000
TZOFFSETFROM:+0200
TZOFFSETTO:+0100
TZNAME:Europe/Berlin CET
END:STANDARD
BEGIN:STANDARD
DTSTART:20221030T020000
RDATE:20230326T030000
TZOFFSETFROM:+0200
TZOFFSETTO:+0100
TZNAME:Europe/Berlin CET
END:STANDARD
BEGIN:STANDARD
DTSTART:20231029T020000
RDATE:20240331T030000
TZOFFSETFROM:+0200
TZOFFSETTO:+0100
TZNAME:Europe/Berlin CET
END:STANDARD
BEGIN:STANDARD
DTSTART:20241027T020000
RDATE:20250330T030000
TZOFFSETFROM:+0200
TZOFFSETTO:+0100
TZNAME:Europe/Berlin CET
END:STANDARD
BEGIN:STANDARD
DTSTART:20251026T020000
RDATE:20260329T030000
TZOFFSETFROM:+0200
TZOFFSETTO:+0100
TZNAME:Europe/Berlin CET
END:STANDARD
BEGIN:STANDARD
DTSTART:20261025T020000
RDATE:20270328T030000
TZOFFSETFROM:+0200
TZOFFSETTO:+0100
TZNAME:Europe/Berlin CET
END:STANDARD
BEGIN:STANDARD
DTSTART:20271031T020000
RDATE:20280326T030000
TZOFFSETFROM:+0200
TZOFFSETTO:+0100
TZNAME:Europe/Berlin CET
END:STANDARD
BEGIN:DAYLIGHT
DTSTART:20130511T161500
RDATE:20131027T020000
TZOFFSETFROM:+0100
TZOFFSETTO:+0200
TZNAME:Europe/Berlin CEST
END:DAYLIGHT
BEGIN:DAYLIGHT
DTSTART:20140330T030000
RDATE:20141026T020000
TZOFFSETFROM:+0100
TZOFFSETTO:+0200
TZNAME:Europe/Berlin CEST
END:DAYLIGHT
BEGIN:DAYLIGHT
DTSTART:20150329T030000
RDATE:20151025T020000
TZOFFSETFROM:+0100
TZOFFSETTO:+0200
TZNAME:Europe/Berlin CEST
END:DAYLIGHT
BEGIN:DAYLIGHT
DTSTART:20160327T030000
RDATE:20161030T020000
TZOFFSETFROM:+0100
TZOFFSETTO:+0200
TZNAME:Europe/Berlin CEST
END:DAYLIGHT
BEGIN:DAYLIGHT
DTSTART:20170326T030000
RDATE:20171029T020000
TZOFFSETFROM:+0100
TZOFFSETTO:+0200
TZNAME:Europe/Berlin CEST
END:DAYLIGHT
BEGIN:DAYLIGHT
DTSTART:20180325T030000
RDATE:20181028T020000
TZOFFSETFROM:+0100
TZOFFSETTO:+0200
TZNAME:Europe/Berlin CEST
END:DAYLIGHT
BEGIN:DAYLIGHT
DTSTART:20190331T030000
RDATE:20191027T020000
TZOFFSETFROM:+0100
TZOFFSETTO:+0200
TZNAME:Europe/Berlin CEST
END:DAYLIGHT
BEGIN:DAYLIGHT
DTSTART:20200329T030000
RDATE:20201025T020000
TZOFFSETFROM:+0100
TZOFFSETTO:+0200
TZNAME:Europe/Berlin CEST
END:DAYLIGHT
BEGIN:DAYLIGHT
DTSTART:20210328T030000
RDATE:20211031T020000
TZOFFSETFROM:+0100
TZOFFSETTO:+0200
TZNAME:Europe/Berlin CEST
END:DAYLIGHT
BEGIN:DAYLIGHT
DTSTART:20220327T030000
RDATE:20221030T020000
TZOFFSETFROM:+0100
TZOFFSETTO:+0200
TZNAME:Europe/Berlin CEST
END:DAYLIGHT
BEGIN:DAYLIGHT
DTSTART:20230326T030000
RDATE:20231029T020000
TZOFFSETFROM:+0100
TZOFFSETTO:+0200
TZNAME:Europe/Berlin CEST
END:DAYLIGHT
BEGIN:DAYLIGHT
DTSTART:20240331T030000
RDATE:20241027T020000
TZOFFSETFROM:+0100
TZOFFSETTO:+0200
TZNAME:Europe/Berlin CEST
END:DAYLIGHT
BEGIN:DAYLIGHT
DTSTART:20250330T030000
RDATE:20251026T020000
TZOFFSETFROM:+0100
TZOFFSETTO:+0200
TZNAME:Europe/Berlin CEST
END:DAYLIGHT
BEGIN:DAYLIGHT
DTSTART:20260329T030000
RDATE:20261025T020000
TZOFFSETFROM:+0100
TZOFFSETTO:+0200
TZNAME:Europe/Berlin CEST
END:DAYLIGHT
BEGIN:DAYLIGHT
DTSTART:20270328T030000
RDATE:20271031T020000
TZOFFSETFROM:+0100
TZOFFSETTO:+0200
TZNAME:Europe/Berlin CEST
END:DAYLIGHT
END:VTIMEZONE
BEGIN:VEVENT
UID:89b0194b5b973d3e847830172e7716ac
CATEGORIES:ESG
CREATED:20140412T213757
SUMMARY:Kräuterseminar II - Leider alle Plätze belegt!
LOCATION:ESG Trier\, Clubraum und rund um den Unisee
URL;VALUE=URI:https://www.esg-trier.de/veranstaltungskalender/eventeinzelheiten/2293/-/kr
 äuterseminar-ii-leider-alle-plätze-belegt?tmpl=component
DESCRIPTION:Wildkräuterseminar IIWildkräuter - das erste Grün für Suppe und Salat.Bei e
 inem Rundgang in Uni-Nähe werden wir uns von der Vielfalt der  essbaren Wil
 dpflanzen überraschen lassen. \nLernt die Pflanzen sicher zu  erkennen, zu 
 sammeln und zu verarbeiten. \n\nGemeinsam rühren wir einen  Wildkräutersnac
 k an - ein Überraschungstrunk rundet den informativen Nachmittag auch zu ei
 nem kulinarischen Ereignis ab. \n\nReferentin:\nMartina Zipf (http://www.ma
 rtinazipf.de), Sozialpädagogin\n\nca. 3 Stunden\nTeilnehmerInnen: max. 12  
   \nTeilnahmebeitrag: 4,-€\n\nAnmeldung in der ESG bis zum 05.05.2014\n\n T
 his event was imported from: https://www.esg-trier.de/veranstaltungskalende
 r/eventeinzelheiten/2293/-/kräuterseminar-ii-leider-alle-plätze-belegt?tmpl
 =component (https://www.esg-trier.de/veranstaltungskalender/eventeinzelheit
 en/2293/-/kräuterseminar-ii-leider-alle-plätze-belegt?tmpl=component)
X-ALT-DESC;FMTTYPE=text/html:<h1>Wildkräuterseminar II</h1><h2>Wildkräuter - das erste Grün für Suppe un
 d Salat.</h2><p>Bei einem Rundgang in Uni-Nähe werden wir uns von der Vielf
 alt der  essbaren Wildpflanzen überraschen lassen. <br />Lernt die Pflanzen
  sicher zu  erkennen, zu sammeln und zu verarbeiten. <br /><br />Gemeinsam 
 rühren wir einen  Wildkräutersnack an - ein Überraschungstrunk rundet den i
 nformativen Nachmittag auch zu einem kulinarischen Ereignis ab. </p><p><br 
 />Referentin:<br /><a target="_blank" title="Mehr zur Referentin" href="htt
 p://www.martinazipf.de">Martina Zipf</a>, Sozialpädagogin<br /><br />ca. 3 
 Stunden<br />TeilnehmerInnen: <strong>max. 12</strong>    <br />Teilnahmebe
 itrag: 4,-€<br /><br /><strong>Anmeldung in der ESG bis zum 05.05.2014<br /
 ></strong></p> <a href="https://www.esg-trier.de/veranstaltungskalender/eve
 nteinzelheiten/2293/-/kräuterseminar-ii-leider-alle-plätze-belegt?tmpl=comp
 onent">This event was imported from: https://www.esg-trier.de/veranstaltung
 skalender/eventeinzelheiten/2293/-/kräuterseminar-ii-leider-alle-plätze-bel
 egt?tmpl=component</a>DTSTAMP:20260424T103638
DTSTART;TZID=Europe/Berlin:20140512T161500
DTEND;TZID=Europe/Berlin:20140512T190000
SEQUENCE:0
TRANSP:OPAQUE
END:VEVENT
END:VCALENDAR