BEGIN:VCALENDAR
VERSION:2.0
PRODID:-//jEvents 2.0 for Joomla//EN
CALSCALE:GREGORIAN
METHOD:PUBLISH
BEGIN:VTIMEZONE
TZID:Europe/Berlin
BEGIN:STANDARD
DTSTART:20131027T020000
RDATE:20140330T030000
TZOFFSETFROM:+0200
TZOFFSETTO:+0100
TZNAME:Europe/Berlin CET
END:STANDARD
BEGIN:STANDARD
DTSTART:20141026T020000
RDATE:20150329T030000
TZOFFSETFROM:+0200
TZOFFSETTO:+0100
TZNAME:Europe/Berlin CET
END:STANDARD
BEGIN:STANDARD
DTSTART:20151025T020000
RDATE:20160327T030000
TZOFFSETFROM:+0200
TZOFFSETTO:+0100
TZNAME:Europe/Berlin CET
END:STANDARD
BEGIN:STANDARD
DTSTART:20161030T020000
RDATE:20170326T030000
TZOFFSETFROM:+0200
TZOFFSETTO:+0100
TZNAME:Europe/Berlin CET
END:STANDARD
BEGIN:STANDARD
DTSTART:20171029T020000
RDATE:20180325T030000
TZOFFSETFROM:+0200
TZOFFSETTO:+0100
TZNAME:Europe/Berlin CET
END:STANDARD
BEGIN:STANDARD
DTSTART:20181028T020000
RDATE:20190331T030000
TZOFFSETFROM:+0200
TZOFFSETTO:+0100
TZNAME:Europe/Berlin CET
END:STANDARD
BEGIN:STANDARD
DTSTART:20191027T020000
RDATE:20200329T030000
TZOFFSETFROM:+0200
TZOFFSETTO:+0100
TZNAME:Europe/Berlin CET
END:STANDARD
BEGIN:STANDARD
DTSTART:20201025T020000
RDATE:20210328T030000
TZOFFSETFROM:+0200
TZOFFSETTO:+0100
TZNAME:Europe/Berlin CET
END:STANDARD
BEGIN:STANDARD
DTSTART:20211031T020000
RDATE:20220327T030000
TZOFFSETFROM:+0200
TZOFFSETTO:+0100
TZNAME:Europe/Berlin CET
END:STANDARD
BEGIN:STANDARD
DTSTART:20221030T020000
RDATE:20230326T030000
TZOFFSETFROM:+0200
TZOFFSETTO:+0100
TZNAME:Europe/Berlin CET
END:STANDARD
BEGIN:STANDARD
DTSTART:20231029T020000
RDATE:20240331T030000
TZOFFSETFROM:+0200
TZOFFSETTO:+0100
TZNAME:Europe/Berlin CET
END:STANDARD
BEGIN:STANDARD
DTSTART:20241027T020000
RDATE:20250330T030000
TZOFFSETFROM:+0200
TZOFFSETTO:+0100
TZNAME:Europe/Berlin CET
END:STANDARD
BEGIN:STANDARD
DTSTART:20251026T020000
RDATE:20260329T030000
TZOFFSETFROM:+0200
TZOFFSETTO:+0100
TZNAME:Europe/Berlin CET
END:STANDARD
BEGIN:STANDARD
DTSTART:20261025T020000
RDATE:20270328T030000
TZOFFSETFROM:+0200
TZOFFSETTO:+0100
TZNAME:Europe/Berlin CET
END:STANDARD
BEGIN:STANDARD
DTSTART:20271031T020000
RDATE:20280326T030000
TZOFFSETFROM:+0200
TZOFFSETTO:+0100
TZNAME:Europe/Berlin CET
END:STANDARD
BEGIN:DAYLIGHT
DTSTART:20130518T191500
RDATE:20131027T020000
TZOFFSETFROM:+0100
TZOFFSETTO:+0200
TZNAME:Europe/Berlin CEST
END:DAYLIGHT
BEGIN:DAYLIGHT
DTSTART:20140330T030000
RDATE:20141026T020000
TZOFFSETFROM:+0100
TZOFFSETTO:+0200
TZNAME:Europe/Berlin CEST
END:DAYLIGHT
BEGIN:DAYLIGHT
DTSTART:20150329T030000
RDATE:20151025T020000
TZOFFSETFROM:+0100
TZOFFSETTO:+0200
TZNAME:Europe/Berlin CEST
END:DAYLIGHT
BEGIN:DAYLIGHT
DTSTART:20160327T030000
RDATE:20161030T020000
TZOFFSETFROM:+0100
TZOFFSETTO:+0200
TZNAME:Europe/Berlin CEST
END:DAYLIGHT
BEGIN:DAYLIGHT
DTSTART:20170326T030000
RDATE:20171029T020000
TZOFFSETFROM:+0100
TZOFFSETTO:+0200
TZNAME:Europe/Berlin CEST
END:DAYLIGHT
BEGIN:DAYLIGHT
DTSTART:20180325T030000
RDATE:20181028T020000
TZOFFSETFROM:+0100
TZOFFSETTO:+0200
TZNAME:Europe/Berlin CEST
END:DAYLIGHT
BEGIN:DAYLIGHT
DTSTART:20190331T030000
RDATE:20191027T020000
TZOFFSETFROM:+0100
TZOFFSETTO:+0200
TZNAME:Europe/Berlin CEST
END:DAYLIGHT
BEGIN:DAYLIGHT
DTSTART:20200329T030000
RDATE:20201025T020000
TZOFFSETFROM:+0100
TZOFFSETTO:+0200
TZNAME:Europe/Berlin CEST
END:DAYLIGHT
BEGIN:DAYLIGHT
DTSTART:20210328T030000
RDATE:20211031T020000
TZOFFSETFROM:+0100
TZOFFSETTO:+0200
TZNAME:Europe/Berlin CEST
END:DAYLIGHT
BEGIN:DAYLIGHT
DTSTART:20220327T030000
RDATE:20221030T020000
TZOFFSETFROM:+0100
TZOFFSETTO:+0200
TZNAME:Europe/Berlin CEST
END:DAYLIGHT
BEGIN:DAYLIGHT
DTSTART:20230326T030000
RDATE:20231029T020000
TZOFFSETFROM:+0100
TZOFFSETTO:+0200
TZNAME:Europe/Berlin CEST
END:DAYLIGHT
BEGIN:DAYLIGHT
DTSTART:20240331T030000
RDATE:20241027T020000
TZOFFSETFROM:+0100
TZOFFSETTO:+0200
TZNAME:Europe/Berlin CEST
END:DAYLIGHT
BEGIN:DAYLIGHT
DTSTART:20250330T030000
RDATE:20251026T020000
TZOFFSETFROM:+0100
TZOFFSETTO:+0200
TZNAME:Europe/Berlin CEST
END:DAYLIGHT
BEGIN:DAYLIGHT
DTSTART:20260329T030000
RDATE:20261025T020000
TZOFFSETFROM:+0100
TZOFFSETTO:+0200
TZNAME:Europe/Berlin CEST
END:DAYLIGHT
BEGIN:DAYLIGHT
DTSTART:20270328T030000
RDATE:20271031T020000
TZOFFSETFROM:+0100
TZOFFSETTO:+0200
TZNAME:Europe/Berlin CEST
END:DAYLIGHT
END:VTIMEZONE
BEGIN:VEVENT
UID:d95957ff9576e4c1239d8a51c0895454
CATEGORIES:Gruppen
CREATED:20140413T172716
SUMMARY:Männerselbsterfahrungsgruppe
LOCATION:Clubraum\, ESG
URL;VALUE=URI:https://www.esg-trier.de/veranstaltungskalender/eventeinzelheiten/2395/-/mä
 nnerselbsterfahrungsgruppe?tmpl=component
DESCRIPTION:Die Gruppe versteht sich als ein Raum, in dem sich Männer über ihre  Bedürf
 nisse und Nöte, Sorgen und Freuden austauschen können. Eigenverantwortung, 
 sowie ein ehrlicher und wertschätzender Umgang miteinander sind uns ebenso 
 wichtig, wie die Bereitschaft zur persönlichen  Veränderung hin zu mehr Leb
 ensfreude, unabhängig vom gesellschaftlich normierten Männerbild. Ziele sin
 d die Stärkung des Selbstwertgefühls, die Unterstützung des persönlichen Wa
 chstums, aber auch die Bearbeitung persönlicher Konflikte. Wir erleben in u
 nserem Zusammensein, bei gemeinsamen Aktivitäten und gegenseitiger Unterstü
 tzung über die wöchentlichen Treffen hinaus viel Freude und Spaß miteinande
 r.\n    Die Gruppe ist offen für Interessenten.\n     \nBei Interesse bitte
  Kontakt mit Karsten Steil-Wilke aufnehmen. \nTel.: 0651 – 1490413 (10x kli
 ngeln lassen und auf AB sprechen)\nDie Gruppe trifft sich montags 19.15 Uhr
 , 14tägig in der ESG zu festgelegten Terminen.\nDiese E-Mail-Adresse ist vo
 r Spambots geschützt! Zur Anzeige muss JavaScript eingeschaltet sein.\n\nww
 w.mrt-trier.de (http://www.mrt-trier.de)\n This event was imported from: ht
 tps://www.esg-trier.de/veranstaltungskalender/eventeinzelheiten/2395/-/männ
 erselbsterfahrungsgruppe?tmpl=component (https://www.esg-trier.de/veranstal
 tungskalender/eventeinzelheiten/2395/-/männerselbsterfahrungsgruppe?tmpl=co
 mponent)
X-ALT-DESC;FMTTYPE=text/html:<p>Die Gruppe versteht sich als ein Raum, in dem sich Männer über ihre  Bed
 ürfnisse und Nöte, Sorgen und Freuden austauschen können. Eigenverantwortun
 g, sowie ein ehrlicher und wertschätzender Umgang miteinander sind uns eben
 so wichtig, wie die Bereitschaft zur persönlichen  Veränderung hin zu mehr 
 Lebensfreude, unabhängig vom gesellschaftlich normierten Männerbild. Ziele 
 sind die Stärkung des Selbstwertgefühls, die Unterstützung des persönlichen
  Wachstums, aber auch die Bearbeitung persönlicher Konflikte. Wir erleben i
 n unserem Zusammensein, bei gemeinsamen Aktivitäten und gegenseitiger Unter
 stützung über die wöchentlichen Treffen hinaus viel Freude und Spaß miteina
 nder.</p><p>    Die Gruppe ist offen für Interessenten.<br />     <br />Bei
  Interesse bitte Kontakt mit Karsten Steil-Wilke aufnehmen. <br />Tel.: 065
 1 – 1490413 (10x klingeln lassen und auf AB sprechen)</p><p>Die Gruppe trif
 ft sich montags 19.15 Uhr, 14tägig in der ESG zu festgelegten Terminen.</p>
 <p><joomla-hidden-mail  is-link="1" is-email="1" first="TVJUX1RSSUVSXzI=" l
 ast="eWFob29ncm91cHMuZGU=" text="TVJUX1RSSUVSXzJAeWFob29ncm91cHMuZGU=" base
 ="" >Diese E-Mail-Adresse ist vor Spambots geschützt! Zur Anzeige muss Java
 Script eingeschaltet sein.</joomla-hidden-mail></p><p><br /><a target="_bla
 nk" title="zur Homepage" href="http://www.mrt-trier.de">www.mrt-trier.de</a
 ></p> <a href="https://www.esg-trier.de/veranstaltungskalender/eventeinzelh
 eiten/2395/-/männerselbsterfahrungsgruppe?tmpl=component">This event was im
 ported from: https://www.esg-trier.de/veranstaltungskalender/eventeinzelhei
 ten/2395/-/männerselbsterfahrungsgruppe?tmpl=component</a>DTSTAMP:20260424T103623
DTSTART;TZID=Europe/Berlin:20140519T191500
SEQUENCE:0
TRANSP:OPAQUE
END:VEVENT
END:VCALENDAR