BEGIN:VCALENDAR
VERSION:2.0
PRODID:-//jEvents 2.0 for Joomla//EN
CALSCALE:GREGORIAN
METHOD:PUBLISH
BEGIN:VTIMEZONE
TZID:Europe/Berlin
BEGIN:STANDARD
DTSTART:20121028T020000
RDATE:20130331T030000
TZOFFSETFROM:+0200
TZOFFSETTO:+0100
TZNAME:Europe/Berlin CET
END:STANDARD
BEGIN:STANDARD
DTSTART:20131027T020000
RDATE:20140330T030000
TZOFFSETFROM:+0200
TZOFFSETTO:+0100
TZNAME:Europe/Berlin CET
END:STANDARD
BEGIN:STANDARD
DTSTART:20141026T020000
RDATE:20150329T030000
TZOFFSETFROM:+0200
TZOFFSETTO:+0100
TZNAME:Europe/Berlin CET
END:STANDARD
BEGIN:STANDARD
DTSTART:20151025T020000
RDATE:20160327T030000
TZOFFSETFROM:+0200
TZOFFSETTO:+0100
TZNAME:Europe/Berlin CET
END:STANDARD
BEGIN:STANDARD
DTSTART:20161030T020000
RDATE:20170326T030000
TZOFFSETFROM:+0200
TZOFFSETTO:+0100
TZNAME:Europe/Berlin CET
END:STANDARD
BEGIN:STANDARD
DTSTART:20171029T020000
RDATE:20180325T030000
TZOFFSETFROM:+0200
TZOFFSETTO:+0100
TZNAME:Europe/Berlin CET
END:STANDARD
BEGIN:STANDARD
DTSTART:20181028T020000
RDATE:20190331T030000
TZOFFSETFROM:+0200
TZOFFSETTO:+0100
TZNAME:Europe/Berlin CET
END:STANDARD
BEGIN:STANDARD
DTSTART:20191027T020000
RDATE:20200329T030000
TZOFFSETFROM:+0200
TZOFFSETTO:+0100
TZNAME:Europe/Berlin CET
END:STANDARD
BEGIN:STANDARD
DTSTART:20201025T020000
RDATE:20210328T030000
TZOFFSETFROM:+0200
TZOFFSETTO:+0100
TZNAME:Europe/Berlin CET
END:STANDARD
BEGIN:STANDARD
DTSTART:20211031T020000
RDATE:20220327T030000
TZOFFSETFROM:+0200
TZOFFSETTO:+0100
TZNAME:Europe/Berlin CET
END:STANDARD
BEGIN:STANDARD
DTSTART:20221030T020000
RDATE:20230326T030000
TZOFFSETFROM:+0200
TZOFFSETTO:+0100
TZNAME:Europe/Berlin CET
END:STANDARD
BEGIN:STANDARD
DTSTART:20231029T020000
RDATE:20240331T030000
TZOFFSETFROM:+0200
TZOFFSETTO:+0100
TZNAME:Europe/Berlin CET
END:STANDARD
BEGIN:STANDARD
DTSTART:20241027T020000
RDATE:20250330T030000
TZOFFSETFROM:+0200
TZOFFSETTO:+0100
TZNAME:Europe/Berlin CET
END:STANDARD
BEGIN:STANDARD
DTSTART:20251026T020000
RDATE:20260329T030000
TZOFFSETFROM:+0200
TZOFFSETTO:+0100
TZNAME:Europe/Berlin CET
END:STANDARD
BEGIN:STANDARD
DTSTART:20261025T020000
RDATE:20270328T030000
TZOFFSETFROM:+0200
TZOFFSETTO:+0100
TZNAME:Europe/Berlin CET
END:STANDARD
BEGIN:STANDARD
DTSTART:20271031T020000
RDATE:20280326T030000
TZOFFSETFROM:+0200
TZOFFSETTO:+0100
TZNAME:Europe/Berlin CET
END:STANDARD
BEGIN:DAYLIGHT
DTSTART:20120420T143000
RDATE:20121028T020000
TZOFFSETFROM:+0100
TZOFFSETTO:+0200
TZNAME:Europe/Berlin CEST
END:DAYLIGHT
BEGIN:DAYLIGHT
DTSTART:20130331T030000
RDATE:20131027T020000
TZOFFSETFROM:+0100
TZOFFSETTO:+0200
TZNAME:Europe/Berlin CEST
END:DAYLIGHT
BEGIN:DAYLIGHT
DTSTART:20140330T030000
RDATE:20141026T020000
TZOFFSETFROM:+0100
TZOFFSETTO:+0200
TZNAME:Europe/Berlin CEST
END:DAYLIGHT
BEGIN:DAYLIGHT
DTSTART:20150329T030000
RDATE:20151025T020000
TZOFFSETFROM:+0100
TZOFFSETTO:+0200
TZNAME:Europe/Berlin CEST
END:DAYLIGHT
BEGIN:DAYLIGHT
DTSTART:20160327T030000
RDATE:20161030T020000
TZOFFSETFROM:+0100
TZOFFSETTO:+0200
TZNAME:Europe/Berlin CEST
END:DAYLIGHT
BEGIN:DAYLIGHT
DTSTART:20170326T030000
RDATE:20171029T020000
TZOFFSETFROM:+0100
TZOFFSETTO:+0200
TZNAME:Europe/Berlin CEST
END:DAYLIGHT
BEGIN:DAYLIGHT
DTSTART:20180325T030000
RDATE:20181028T020000
TZOFFSETFROM:+0100
TZOFFSETTO:+0200
TZNAME:Europe/Berlin CEST
END:DAYLIGHT
BEGIN:DAYLIGHT
DTSTART:20190331T030000
RDATE:20191027T020000
TZOFFSETFROM:+0100
TZOFFSETTO:+0200
TZNAME:Europe/Berlin CEST
END:DAYLIGHT
BEGIN:DAYLIGHT
DTSTART:20200329T030000
RDATE:20201025T020000
TZOFFSETFROM:+0100
TZOFFSETTO:+0200
TZNAME:Europe/Berlin CEST
END:DAYLIGHT
BEGIN:DAYLIGHT
DTSTART:20210328T030000
RDATE:20211031T020000
TZOFFSETFROM:+0100
TZOFFSETTO:+0200
TZNAME:Europe/Berlin CEST
END:DAYLIGHT
BEGIN:DAYLIGHT
DTSTART:20220327T030000
RDATE:20221030T020000
TZOFFSETFROM:+0100
TZOFFSETTO:+0200
TZNAME:Europe/Berlin CEST
END:DAYLIGHT
BEGIN:DAYLIGHT
DTSTART:20230326T030000
RDATE:20231029T020000
TZOFFSETFROM:+0100
TZOFFSETTO:+0200
TZNAME:Europe/Berlin CEST
END:DAYLIGHT
BEGIN:DAYLIGHT
DTSTART:20240331T030000
RDATE:20241027T020000
TZOFFSETFROM:+0100
TZOFFSETTO:+0200
TZNAME:Europe/Berlin CEST
END:DAYLIGHT
BEGIN:DAYLIGHT
DTSTART:20250330T030000
RDATE:20251026T020000
TZOFFSETFROM:+0100
TZOFFSETTO:+0200
TZNAME:Europe/Berlin CEST
END:DAYLIGHT
BEGIN:DAYLIGHT
DTSTART:20260329T030000
RDATE:20261025T020000
TZOFFSETFROM:+0100
TZOFFSETTO:+0200
TZNAME:Europe/Berlin CEST
END:DAYLIGHT
BEGIN:DAYLIGHT
DTSTART:20270328T030000
RDATE:20271031T020000
TZOFFSETFROM:+0100
TZOFFSETTO:+0200
TZNAME:Europe/Berlin CEST
END:DAYLIGHT
END:VTIMEZONE
BEGIN:VEVENT
UID:e1488e60b6289d10cae95e8c4ee3bf8c
CATEGORIES:Gruppen
CREATED:20130326T213112
SUMMARY:BROT STATT STEINE - Gottesdienst für verstorbene Kinder
LOCATION:St. Augustin\, Trier
URL;VALUE=URI:https://www.esg-trier.de/veranstaltungskalender/eventeinzelheiten/290/-/bro
 t-statt-steine-gottesdienst-für-verstorbene-kinder?tmpl=component
DESCRIPTION:<h2>BROT STATT STEINE</h2><h3>Gottesdienst für verstorbene Kinder</h3><p>Fü
 r alle, die den Tod eines Kindes beklagen <br />(Eltern, Großeltern, Paten,
  Verwandte, Nachbarn, Freundinnen und Freunde)</p><p> </p><p>Im Anschluss: 
 Angebot zum gemeinsamen Beisammensein<br />Johannes Metzdorf-Schmithüsen, P
 fr. em. und Vorbereitungsgruppe</p><p> </p><p>Sonntag, 21.04.  14.30 Uhr <b
 r />St. Augustinus, Im Treff 15, 54296 Trier</p><p><a target="_blank" href=
 "images/flippingbook/ProgrammSoSe2013/SoSe%2013%20web%20021.jpg">(Siehe Sei
 te 22)</a></p><p> </p><p>Mitarbeitende Selbsthilfegruppen:<br /><a target="
 _blank" href="images/flippingbook/ProgrammSoSe2013/SoSe%2013%20web075.jpg">
 S.T.I.L.L.E.</a><br /><a target="_blank" href="images/flippingbook/Programm
 SoSe2013/SoSe%2013%20web075.jpg">Gute Hoffnung - Jähes Ende</a></p><p> </p>
 <p>Mehr Infos auch unter: <a target="_blank" href="http://www.trauer-in-tri
 er.de">www.trauer-in-trier.de</a></p> <a href="https://www.esg-trier.de/ver
 anstaltungskalender/eventeinzelheiten/290/-/brot-statt-steine-gottesdienst-
 für-verstorbene-kinder?tmpl=component">This event was imported from: https:
 //www.esg-trier.de/veranstaltungskalender/eventeinzelheiten/290/-/brot-stat
 t-steine-gottesdienst-für-verstorbene-kinder?tmpl=component</a>
X-ALT-DESC;FMTTYPE=text/html:<h2>BROT STATT STEINE</h2><h3>Gottesdienst für verstorbene Kinder</h3><p>Fü
 r alle, die den Tod eines Kindes beklagen <br />(Eltern, Großeltern, Paten,
  Verwandte, Nachbarn, Freundinnen und Freunde)</p><p> </p><p>Im Anschluss: 
 Angebot zum gemeinsamen Beisammensein<br />Johannes Metzdorf-Schmithüsen, P
 fr. em. und Vorbereitungsgruppe</p><p> </p><p>Sonntag, 21.04.  14.30 Uhr <b
 r />St. Augustinus, Im Treff 15, 54296 Trier</p><p><a target="_blank" href=
 "https://www.esg-trier.de/images/flippingbook/ProgrammSoSe2013/SoSe%2013%20
 web%20021.jpg">(Siehe Seite 22)</a></p><p> </p><p>Mitarbeitende Selbsthilfe
 gruppen:<br /><a target="_blank" href="https://www.esg-trier.de/images/flip
 pingbook/ProgrammSoSe2013/SoSe%2013%20web075.jpg">S.T.I.L.L.E.</a><br /><a 
 target="_blank" href="https://www.esg-trier.de/images/flippingbook/Programm
 SoSe2013/SoSe%2013%20web075.jpg">Gute Hoffnung - Jähes Ende</a></p><p> </p>
 <p>Mehr Infos auch unter: <a target="_blank" href="http://www.trauer-in-tri
 er.de">www.trauer-in-trier.de</a></p> <a href="https://www.esg-trier.de/ver
 anstaltungskalender/eventeinzelheiten/290/-/brot-statt-steine-gottesdienst-
 für-verstorbene-kinder?tmpl=component">This event was imported from: https:
 //www.esg-trier.de/veranstaltungskalender/eventeinzelheiten/290/-/brot-stat
 t-steine-gottesdienst-für-verstorbene-kinder?tmpl=component</a>DTSTAMP:20260422T183856
DTSTART;TZID=Europe/Berlin:20130421T143000
DTEND;TZID=Europe/Berlin:20130421T163000
SEQUENCE:0
TRANSP:OPAQUE
END:VEVENT
END:VCALENDAR