BEGIN:VCALENDAR
VERSION:2.0
PRODID:-//jEvents 2.0 for Joomla//EN
CALSCALE:GREGORIAN
METHOD:PUBLISH
BEGIN:VTIMEZONE
TZID:Europe/Berlin
BEGIN:STANDARD
DTSTART:20121028T020000
RDATE:20130331T030000
TZOFFSETFROM:+0200
TZOFFSETTO:+0100
TZNAME:Europe/Berlin CET
END:STANDARD
BEGIN:STANDARD
DTSTART:20131027T020000
RDATE:20140330T030000
TZOFFSETFROM:+0200
TZOFFSETTO:+0100
TZNAME:Europe/Berlin CET
END:STANDARD
BEGIN:STANDARD
DTSTART:20141026T020000
RDATE:20150329T030000
TZOFFSETFROM:+0200
TZOFFSETTO:+0100
TZNAME:Europe/Berlin CET
END:STANDARD
BEGIN:STANDARD
DTSTART:20151025T020000
RDATE:20160327T030000
TZOFFSETFROM:+0200
TZOFFSETTO:+0100
TZNAME:Europe/Berlin CET
END:STANDARD
BEGIN:STANDARD
DTSTART:20161030T020000
RDATE:20170326T030000
TZOFFSETFROM:+0200
TZOFFSETTO:+0100
TZNAME:Europe/Berlin CET
END:STANDARD
BEGIN:STANDARD
DTSTART:20171029T020000
RDATE:20180325T030000
TZOFFSETFROM:+0200
TZOFFSETTO:+0100
TZNAME:Europe/Berlin CET
END:STANDARD
BEGIN:STANDARD
DTSTART:20181028T020000
RDATE:20190331T030000
TZOFFSETFROM:+0200
TZOFFSETTO:+0100
TZNAME:Europe/Berlin CET
END:STANDARD
BEGIN:STANDARD
DTSTART:20191027T020000
RDATE:20200329T030000
TZOFFSETFROM:+0200
TZOFFSETTO:+0100
TZNAME:Europe/Berlin CET
END:STANDARD
BEGIN:STANDARD
DTSTART:20201025T020000
RDATE:20210328T030000
TZOFFSETFROM:+0200
TZOFFSETTO:+0100
TZNAME:Europe/Berlin CET
END:STANDARD
BEGIN:STANDARD
DTSTART:20211031T020000
RDATE:20220327T030000
TZOFFSETFROM:+0200
TZOFFSETTO:+0100
TZNAME:Europe/Berlin CET
END:STANDARD
BEGIN:STANDARD
DTSTART:20221030T020000
RDATE:20230326T030000
TZOFFSETFROM:+0200
TZOFFSETTO:+0100
TZNAME:Europe/Berlin CET
END:STANDARD
BEGIN:STANDARD
DTSTART:20231029T020000
RDATE:20240331T030000
TZOFFSETFROM:+0200
TZOFFSETTO:+0100
TZNAME:Europe/Berlin CET
END:STANDARD
BEGIN:STANDARD
DTSTART:20241027T020000
RDATE:20250330T030000
TZOFFSETFROM:+0200
TZOFFSETTO:+0100
TZNAME:Europe/Berlin CET
END:STANDARD
BEGIN:STANDARD
DTSTART:20251026T020000
RDATE:20260329T030000
TZOFFSETFROM:+0200
TZOFFSETTO:+0100
TZNAME:Europe/Berlin CET
END:STANDARD
BEGIN:STANDARD
DTSTART:20261025T020000
RDATE:20270328T030000
TZOFFSETFROM:+0200
TZOFFSETTO:+0100
TZNAME:Europe/Berlin CET
END:STANDARD
BEGIN:STANDARD
DTSTART:20271031T020000
RDATE:20280326T030000
TZOFFSETFROM:+0200
TZOFFSETTO:+0100
TZNAME:Europe/Berlin CET
END:STANDARD
BEGIN:DAYLIGHT
DTSTART:20120514T193000
RDATE:20121028T020000
TZOFFSETFROM:+0100
TZOFFSETTO:+0200
TZNAME:Europe/Berlin CEST
END:DAYLIGHT
BEGIN:DAYLIGHT
DTSTART:20130331T030000
RDATE:20131027T020000
TZOFFSETFROM:+0100
TZOFFSETTO:+0200
TZNAME:Europe/Berlin CEST
END:DAYLIGHT
BEGIN:DAYLIGHT
DTSTART:20140330T030000
RDATE:20141026T020000
TZOFFSETFROM:+0100
TZOFFSETTO:+0200
TZNAME:Europe/Berlin CEST
END:DAYLIGHT
BEGIN:DAYLIGHT
DTSTART:20150329T030000
RDATE:20151025T020000
TZOFFSETFROM:+0100
TZOFFSETTO:+0200
TZNAME:Europe/Berlin CEST
END:DAYLIGHT
BEGIN:DAYLIGHT
DTSTART:20160327T030000
RDATE:20161030T020000
TZOFFSETFROM:+0100
TZOFFSETTO:+0200
TZNAME:Europe/Berlin CEST
END:DAYLIGHT
BEGIN:DAYLIGHT
DTSTART:20170326T030000
RDATE:20171029T020000
TZOFFSETFROM:+0100
TZOFFSETTO:+0200
TZNAME:Europe/Berlin CEST
END:DAYLIGHT
BEGIN:DAYLIGHT
DTSTART:20180325T030000
RDATE:20181028T020000
TZOFFSETFROM:+0100
TZOFFSETTO:+0200
TZNAME:Europe/Berlin CEST
END:DAYLIGHT
BEGIN:DAYLIGHT
DTSTART:20190331T030000
RDATE:20191027T020000
TZOFFSETFROM:+0100
TZOFFSETTO:+0200
TZNAME:Europe/Berlin CEST
END:DAYLIGHT
BEGIN:DAYLIGHT
DTSTART:20200329T030000
RDATE:20201025T020000
TZOFFSETFROM:+0100
TZOFFSETTO:+0200
TZNAME:Europe/Berlin CEST
END:DAYLIGHT
BEGIN:DAYLIGHT
DTSTART:20210328T030000
RDATE:20211031T020000
TZOFFSETFROM:+0100
TZOFFSETTO:+0200
TZNAME:Europe/Berlin CEST
END:DAYLIGHT
BEGIN:DAYLIGHT
DTSTART:20220327T030000
RDATE:20221030T020000
TZOFFSETFROM:+0100
TZOFFSETTO:+0200
TZNAME:Europe/Berlin CEST
END:DAYLIGHT
BEGIN:DAYLIGHT
DTSTART:20230326T030000
RDATE:20231029T020000
TZOFFSETFROM:+0100
TZOFFSETTO:+0200
TZNAME:Europe/Berlin CEST
END:DAYLIGHT
BEGIN:DAYLIGHT
DTSTART:20240331T030000
RDATE:20241027T020000
TZOFFSETFROM:+0100
TZOFFSETTO:+0200
TZNAME:Europe/Berlin CEST
END:DAYLIGHT
BEGIN:DAYLIGHT
DTSTART:20250330T030000
RDATE:20251026T020000
TZOFFSETFROM:+0100
TZOFFSETTO:+0200
TZNAME:Europe/Berlin CEST
END:DAYLIGHT
BEGIN:DAYLIGHT
DTSTART:20260329T030000
RDATE:20261025T020000
TZOFFSETFROM:+0100
TZOFFSETTO:+0200
TZNAME:Europe/Berlin CEST
END:DAYLIGHT
BEGIN:DAYLIGHT
DTSTART:20270328T030000
RDATE:20271031T020000
TZOFFSETFROM:+0100
TZOFFSETTO:+0200
TZNAME:Europe/Berlin CEST
END:DAYLIGHT
END:VTIMEZONE
BEGIN:VEVENT
UID:4698b660f2b46127ce58fe9cbaab9cbb
CATEGORIES:ESG
CREATED:20130326T224514
SUMMARY:Zwangsgeranisierung - Lesung mit Frank P. Meyer
LOCATION:Buchhandlung Stephanus\, Im Treff
URL;VALUE=URI:https://www.esg-trier.de/veranstaltungskalender/eventeinzelheiten/317/-/zwa
 ngsgeranisierung-lesung-mit-frank-p-meyer?tmpl=component
DESCRIPTION:Lesung in Kooperation mit 16vorliebe e.V. und Buchhandlung StephanusFrank P
 . Meyer\nZwangsgeranisierung\nDie Trierer Stadtschreiberkolumnen 2012Mit of
 fenen Augen, spitzer Zunge und Abenteuerlust erobert sich der Saarländer Me
 yer die älteste Stadt Deutschlands. Selten hat jemand so frisch, respektlos
  und gleichzeitig liebevoll auf die Bischofs- und Universitätsstadt geblick
 t. Selbst für eingefleischte Trierer bieten seine Entdeckungen noch Überras
 chungen, sei es nun, dass er den Heilig-Rock-Funkern die Codeworte ablausch
 t, eine echte Erdbeerkönigin trifft, in einem wunderbar angestaubten Hutges
 chäft fündig wird, Minivibratoren im Automat auf dem Damenklo entdeckt oder
  beim Gang durch die Fußgängerzone Fremdsprachenbrocken einsammelt. Im Inte
 rnetmagazin www.16vor.de hat der Trierer Stadtschreiber 2012 sein Publikum 
 in 25 Kolumnen begeistert – jetzt gibt es sie als Buch.\n\n\nEintritt 2,50 
 €*\nVVK bei Stephanus\n* Kann mit Kauf des Buches während der Veranstaltung
  verrechnet werden.\n\n\nBuchhandlung Stephanus (http://www.stephanus.de) (
 Im Treff 23/ an der Uni)\n \n(siehe auch Seite 30) (images/flippingbook/Pro
 grammSoSe2013/SoSe%2013%20web%20029.jpg)\n \n This event was imported from:
  https://www.esg-trier.de/veranstaltungskalender/eventeinzelheiten/317/-/zw
 angsgeranisierung-lesung-mit-frank-p-meyer?tmpl=component
X-ALT-DESC;FMTTYPE=text/html:<h2>Lesung in Kooperation mit <em>16vorliebe e.V.</em> und<em> Buchhandlung
  Stephanus</em></h2><h3>Frank P. Meyer<br />Zwangsgeranisierung<br />Die Tr
 ierer Stadtschreiberkolumnen 2012</h3><p>Mit offenen Augen, spitzer Zunge u
 nd Abenteuerlust erobert sich der Saarländer Meyer die älteste Stadt Deutsc
 hlands. Selten hat jemand so frisch, respektlos und gleichzeitig liebevoll 
 auf die Bischofs- und Universitätsstadt geblickt. Selbst für eingefleischte
  Trierer bieten seine Entdeckungen noch Überraschungen, sei es nun, dass er
  den Heilig-Rock-Funkern die Codeworte ablauscht, eine echte Erdbeerkönigin
  trifft, in einem wunderbar angestaubten Hutgeschäft fündig wird, Minivibra
 toren im Automat auf dem Damenklo entdeckt oder beim Gang durch die Fußgäng
 erzone Fremdsprachenbrocken einsammelt. Im Internetmagazin <a target="_blan
 k" href="http://www.16vor.de">www.16vor.de</a> hat der Trierer Stadtschreib
 er 2012 sein Publikum in 25 Kolumnen begeistert – jetzt gibt es sie als Buc
 h.<br /><br /></p><p>Eintritt 2,50 €*<br />VVK bei Stephanus<br />* Kann mi
 t Kauf des Buches während der Veranstaltung verrechnet werden.<br /><br /><
 /p><p><a target="_blank" href="http://www.stephanus.de">Buchhandlung Stepha
 nus</a> (Im Treff 23/ an der Uni)</p><p> </p><p><a target="_blank" href="ht
 tps://www.esg-trier.de/images/flippingbook/ProgrammSoSe2013/SoSe%2013%20web
 %20029.jpg">(siehe auch Seite 30)</a></p><p> </p> <a href="https://www.esg-
 trier.de/veranstaltungskalender/eventeinzelheiten/317/-/zwangsgeranisierung
 -lesung-mit-frank-p-meyer?tmpl=component">This event was imported from: htt
 ps://www.esg-trier.de/veranstaltungskalender/eventeinzelheiten/317/-/zwangs
 geranisierung-lesung-mit-frank-p-meyer?tmpl=component</a>DTSTAMP:20260425T165611
DTSTART;TZID=Europe/Berlin:20130515T193000
DTEND;TZID=Europe/Berlin:20130515T210000
SEQUENCE:0
TRANSP:OPAQUE
END:VEVENT
END:VCALENDAR