BEGIN:VCALENDAR
VERSION:2.0
PRODID:-//jEvents 2.0 for Joomla//EN
CALSCALE:GREGORIAN
METHOD:PUBLISH
BEGIN:VTIMEZONE
TZID:Europe/Berlin
BEGIN:STANDARD
DTSTART:20121028T020000
RDATE:20130331T030000
TZOFFSETFROM:+0200
TZOFFSETTO:+0100
TZNAME:Europe/Berlin CET
END:STANDARD
BEGIN:STANDARD
DTSTART:20131027T020000
RDATE:20140330T030000
TZOFFSETFROM:+0200
TZOFFSETTO:+0100
TZNAME:Europe/Berlin CET
END:STANDARD
BEGIN:STANDARD
DTSTART:20141026T020000
RDATE:20150329T030000
TZOFFSETFROM:+0200
TZOFFSETTO:+0100
TZNAME:Europe/Berlin CET
END:STANDARD
BEGIN:STANDARD
DTSTART:20151025T020000
RDATE:20160327T030000
TZOFFSETFROM:+0200
TZOFFSETTO:+0100
TZNAME:Europe/Berlin CET
END:STANDARD
BEGIN:STANDARD
DTSTART:20161030T020000
RDATE:20170326T030000
TZOFFSETFROM:+0200
TZOFFSETTO:+0100
TZNAME:Europe/Berlin CET
END:STANDARD
BEGIN:STANDARD
DTSTART:20171029T020000
RDATE:20180325T030000
TZOFFSETFROM:+0200
TZOFFSETTO:+0100
TZNAME:Europe/Berlin CET
END:STANDARD
BEGIN:STANDARD
DTSTART:20181028T020000
RDATE:20190331T030000
TZOFFSETFROM:+0200
TZOFFSETTO:+0100
TZNAME:Europe/Berlin CET
END:STANDARD
BEGIN:STANDARD
DTSTART:20191027T020000
RDATE:20200329T030000
TZOFFSETFROM:+0200
TZOFFSETTO:+0100
TZNAME:Europe/Berlin CET
END:STANDARD
BEGIN:STANDARD
DTSTART:20201025T020000
RDATE:20210328T030000
TZOFFSETFROM:+0200
TZOFFSETTO:+0100
TZNAME:Europe/Berlin CET
END:STANDARD
BEGIN:STANDARD
DTSTART:20211031T020000
RDATE:20220327T030000
TZOFFSETFROM:+0200
TZOFFSETTO:+0100
TZNAME:Europe/Berlin CET
END:STANDARD
BEGIN:STANDARD
DTSTART:20221030T020000
RDATE:20230326T030000
TZOFFSETFROM:+0200
TZOFFSETTO:+0100
TZNAME:Europe/Berlin CET
END:STANDARD
BEGIN:STANDARD
DTSTART:20231029T020000
RDATE:20240331T030000
TZOFFSETFROM:+0200
TZOFFSETTO:+0100
TZNAME:Europe/Berlin CET
END:STANDARD
BEGIN:STANDARD
DTSTART:20241027T020000
RDATE:20250330T030000
TZOFFSETFROM:+0200
TZOFFSETTO:+0100
TZNAME:Europe/Berlin CET
END:STANDARD
BEGIN:STANDARD
DTSTART:20251026T020000
RDATE:20260329T030000
TZOFFSETFROM:+0200
TZOFFSETTO:+0100
TZNAME:Europe/Berlin CET
END:STANDARD
BEGIN:STANDARD
DTSTART:20261025T020000
RDATE:20270328T030000
TZOFFSETFROM:+0200
TZOFFSETTO:+0100
TZNAME:Europe/Berlin CET
END:STANDARD
BEGIN:STANDARD
DTSTART:20271031T020000
RDATE:20280326T030000
TZOFFSETFROM:+0200
TZOFFSETTO:+0100
TZNAME:Europe/Berlin CET
END:STANDARD
BEGIN:DAYLIGHT
DTSTART:20120623T133000
RDATE:20121028T020000
TZOFFSETFROM:+0100
TZOFFSETTO:+0200
TZNAME:Europe/Berlin CEST
END:DAYLIGHT
BEGIN:DAYLIGHT
DTSTART:20130331T030000
RDATE:20131027T020000
TZOFFSETFROM:+0100
TZOFFSETTO:+0200
TZNAME:Europe/Berlin CEST
END:DAYLIGHT
BEGIN:DAYLIGHT
DTSTART:20140330T030000
RDATE:20141026T020000
TZOFFSETFROM:+0100
TZOFFSETTO:+0200
TZNAME:Europe/Berlin CEST
END:DAYLIGHT
BEGIN:DAYLIGHT
DTSTART:20150329T030000
RDATE:20151025T020000
TZOFFSETFROM:+0100
TZOFFSETTO:+0200
TZNAME:Europe/Berlin CEST
END:DAYLIGHT
BEGIN:DAYLIGHT
DTSTART:20160327T030000
RDATE:20161030T020000
TZOFFSETFROM:+0100
TZOFFSETTO:+0200
TZNAME:Europe/Berlin CEST
END:DAYLIGHT
BEGIN:DAYLIGHT
DTSTART:20170326T030000
RDATE:20171029T020000
TZOFFSETFROM:+0100
TZOFFSETTO:+0200
TZNAME:Europe/Berlin CEST
END:DAYLIGHT
BEGIN:DAYLIGHT
DTSTART:20180325T030000
RDATE:20181028T020000
TZOFFSETFROM:+0100
TZOFFSETTO:+0200
TZNAME:Europe/Berlin CEST
END:DAYLIGHT
BEGIN:DAYLIGHT
DTSTART:20190331T030000
RDATE:20191027T020000
TZOFFSETFROM:+0100
TZOFFSETTO:+0200
TZNAME:Europe/Berlin CEST
END:DAYLIGHT
BEGIN:DAYLIGHT
DTSTART:20200329T030000
RDATE:20201025T020000
TZOFFSETFROM:+0100
TZOFFSETTO:+0200
TZNAME:Europe/Berlin CEST
END:DAYLIGHT
BEGIN:DAYLIGHT
DTSTART:20210328T030000
RDATE:20211031T020000
TZOFFSETFROM:+0100
TZOFFSETTO:+0200
TZNAME:Europe/Berlin CEST
END:DAYLIGHT
BEGIN:DAYLIGHT
DTSTART:20220327T030000
RDATE:20221030T020000
TZOFFSETFROM:+0100
TZOFFSETTO:+0200
TZNAME:Europe/Berlin CEST
END:DAYLIGHT
BEGIN:DAYLIGHT
DTSTART:20230326T030000
RDATE:20231029T020000
TZOFFSETFROM:+0100
TZOFFSETTO:+0200
TZNAME:Europe/Berlin CEST
END:DAYLIGHT
BEGIN:DAYLIGHT
DTSTART:20240331T030000
RDATE:20241027T020000
TZOFFSETFROM:+0100
TZOFFSETTO:+0200
TZNAME:Europe/Berlin CEST
END:DAYLIGHT
BEGIN:DAYLIGHT
DTSTART:20250330T030000
RDATE:20251026T020000
TZOFFSETFROM:+0100
TZOFFSETTO:+0200
TZNAME:Europe/Berlin CEST
END:DAYLIGHT
BEGIN:DAYLIGHT
DTSTART:20260329T030000
RDATE:20261025T020000
TZOFFSETFROM:+0100
TZOFFSETTO:+0200
TZNAME:Europe/Berlin CEST
END:DAYLIGHT
BEGIN:DAYLIGHT
DTSTART:20270328T030000
RDATE:20271031T020000
TZOFFSETFROM:+0100
TZOFFSETTO:+0200
TZNAME:Europe/Berlin CEST
END:DAYLIGHT
END:VTIMEZONE
BEGIN:VEVENT
UID:1c1e47a564011aa3870a5caa63f5cf46
CATEGORIES:ESG
CREATED:20130326T234100
SUMMARY:Zum Nachtisch Politik - Die Grünen
LOCATION:ESG\, Versammlungsraum
URL;VALUE=URI:https://www.esg-trier.de/veranstaltungskalender/eventeinzelheiten/322/-/zum
 -nachtisch-politik-die-grünen?tmpl=component
DESCRIPTION:<h1>ZUM NACHTISCH POLITIK</h1><div>Seit der erfolgreichen Erstauflage zur K
 ommunalwahl 2009 gehen wir mit dem Format „Zum Nachtisch Politik“ nun in di
 e 4. Runde. Denn:<br /><br /><strong>Am 22. September 2013 wird in Deutschl
 and </strong><strong>ein neuer Bundestag gewählt.</strong> <br /><br />Die 
 ESG möchte euch diesmal 12 Wochen vor dem Wahltermin die Möglichkeit eröffn
 en, die Parteien und dabei vor allem ihre „Trierer“ DirektkandidatInnen zu 
 ihren Motivationen, Zielen und Plänen zu befragen. Und das in der klassisch
 en Lernpause am Mittag.</div><div><br />An sechs Terminen haben wir die Par
 teien, mit der größten Aussicht in den Bundestag einzuziehen, eingeladen. W
 ir haben ihre DirektkandidatInnen gebeten, sich selbst und die Programme ih
 rer Parteien vorzustellen. Jede Partei wird an einem anderen Termin in der 
 ESG zu Gast sein. So verhindern wir den „Talkshow-Effekt“ des gegenseitigen
  Schlag-abtausches und ermöglichen konkrete Aussagen zu den  Programm-inhal
 ten der jeweils anwesenden Partei.<br />Damit es im Rahmen eurer Lernpause 
 bleibt, wird die Selbstdar-stellung auf 10 Minuten begrenzt. So bleiben wei
 tere 20 Minuten für Fragen an die KandidatInnen bei gleichzeitigem Genuss d
 es original Mensa-Nachtisches. <br /><br />Wir freuen uns auf euch !<br /><
 br /></div><p>Montag   24.06.13 - Corinna Rüffer - <strong>Bündnis90/Die Gr
 ünen</strong><br /><br />Dienstag 25.06.13 -  Andreas Brühl - <strong>Pirat
 en Partei</strong><br /><br />Montag   01.07.13 - Bernhard Kaster - <strong
 >CDU</strong><br /><br />Dienstag 02.07.13 - Katarina Barley - <strong>SPD<
 /strong><br /><br />Mittwoch 03.07.13 - Henrick Meine - <strong>FDP</strong
 ><br /><br />Montag   08.07.13 - Katrin Werner - <strong>Die Linke</strong>
 </p><p> </p><p>Den Nachtisch an den einzelnen Terminen entnehmt bitte den j
 eweiligen Veranstaltungsplakaten. Natürlich ist auch die Schoko-Banane dabe
 i! <br /><br />Schon jetzt ein Danke  an das <a target="_blank" href="http:
 //www.studiwerk.de">Studierendenwerk Trier</a>.</p><p> </p><p>(Siehe auch S
 eite <a target="_blank" href="images/flippingbook/ProgrammSoSe2013/SoSe%201
 3%20web051.jpg">52</a> und <a target="_blank" href="images/flippingbook/Pro
 grammSoSe2013/SoSe%2013%20web052.jpg">53</a>)</p><p> </p> <a href="https://
 www.esg-trier.de/veranstaltungskalender/eventeinzelheiten/322/-/zum-nachtis
 ch-politik-die-grünen?tmpl=component">This event was imported from: https:/
 /www.esg-trier.de/veranstaltungskalender/eventeinzelheiten/322/-/zum-nachti
 sch-politik-die-grünen?tmpl=component</a>
X-ALT-DESC;FMTTYPE=text/html:<h1>ZUM NACHTISCH POLITIK</h1><div>Seit der erfolgreichen Erstauflage zur K
 ommunalwahl 2009 gehen wir mit dem Format „Zum Nachtisch Politik“ nun in di
 e 4. Runde. Denn:<br /><br /><strong>Am 22. September 2013 wird in Deutschl
 and </strong><strong>ein neuer Bundestag gewählt.</strong> <br /><br />Die 
 ESG möchte euch diesmal 12 Wochen vor dem Wahltermin die Möglichkeit eröffn
 en, die Parteien und dabei vor allem ihre „Trierer“ DirektkandidatInnen zu 
 ihren Motivationen, Zielen und Plänen zu befragen. Und das in der klassisch
 en Lernpause am Mittag.</div><div><br />An sechs Terminen haben wir die Par
 teien, mit der größten Aussicht in den Bundestag einzuziehen, eingeladen. W
 ir haben ihre DirektkandidatInnen gebeten, sich selbst und die Programme ih
 rer Parteien vorzustellen. Jede Partei wird an einem anderen Termin in der 
 ESG zu Gast sein. So verhindern wir den „Talkshow-Effekt“ des gegenseitigen
  Schlag-abtausches und ermöglichen konkrete Aussagen zu den  Programm-inhal
 ten der jeweils anwesenden Partei.<br />Damit es im Rahmen eurer Lernpause 
 bleibt, wird die Selbstdar-stellung auf 10 Minuten begrenzt. So bleiben wei
 tere 20 Minuten für Fragen an die KandidatInnen bei gleichzeitigem Genuss d
 es original Mensa-Nachtisches. <br /><br />Wir freuen uns auf euch !<br /><
 br /></div><p>Montag   24.06.13 - Corinna Rüffer - <strong>Bündnis90/Die Gr
 ünen</strong><br /><br />Dienstag 25.06.13 -  Andreas Brühl - <strong>Pirat
 en Partei</strong><br /><br />Montag   01.07.13 - Bernhard Kaster - <strong
 >CDU</strong><br /><br />Dienstag 02.07.13 - Katarina Barley - <strong>SPD<
 /strong><br /><br />Mittwoch 03.07.13 - Henrick Meine - <strong>FDP</strong
 ><br /><br />Montag   08.07.13 - Katrin Werner - <strong>Die Linke</strong>
 </p><p> </p><p>Den Nachtisch an den einzelnen Terminen entnehmt bitte den j
 eweiligen Veranstaltungsplakaten. Natürlich ist auch die Schoko-Banane dabe
 i! <br /><br />Schon jetzt ein Danke  an das <a target="_blank" href="http:
 //www.studiwerk.de">Studierendenwerk Trier</a>.</p><p> </p><p>(Siehe auch S
 eite <a target="_blank" href="https://www.esg-trier.de/images/flippingbook/
 ProgrammSoSe2013/SoSe%2013%20web051.jpg">52</a> und <a target="_blank" href
 ="https://www.esg-trier.de/images/flippingbook/ProgrammSoSe2013/SoSe%2013%2
 0web052.jpg">53</a>)</p><p> </p> <a href="https://www.esg-trier.de/veransta
 ltungskalender/eventeinzelheiten/322/-/zum-nachtisch-politik-die-grünen?tmp
 l=component">This event was imported from: https://www.esg-trier.de/veranst
 altungskalender/eventeinzelheiten/322/-/zum-nachtisch-politik-die-grünen?tm
 pl=component</a>DTSTAMP:20260425T170854
DTSTART;TZID=Europe/Berlin:20130624T133000
DTEND;TZID=Europe/Berlin:20130624T140000
SEQUENCE:0
TRANSP:OPAQUE
END:VEVENT
END:VCALENDAR