BEGIN:VCALENDAR
VERSION:2.0
PRODID:-//jEvents 2.0 for Joomla//EN
CALSCALE:GREGORIAN
METHOD:PUBLISH
BEGIN:VTIMEZONE
TZID:Europe/Berlin
BEGIN:STANDARD
DTSTART:20121028T020000
RDATE:20130331T030000
TZOFFSETFROM:+0200
TZOFFSETTO:+0100
TZNAME:Europe/Berlin CET
END:STANDARD
BEGIN:STANDARD
DTSTART:20131027T020000
RDATE:20140330T030000
TZOFFSETFROM:+0200
TZOFFSETTO:+0100
TZNAME:Europe/Berlin CET
END:STANDARD
BEGIN:STANDARD
DTSTART:20141026T020000
RDATE:20150329T030000
TZOFFSETFROM:+0200
TZOFFSETTO:+0100
TZNAME:Europe/Berlin CET
END:STANDARD
BEGIN:STANDARD
DTSTART:20151025T020000
RDATE:20160327T030000
TZOFFSETFROM:+0200
TZOFFSETTO:+0100
TZNAME:Europe/Berlin CET
END:STANDARD
BEGIN:STANDARD
DTSTART:20161030T020000
RDATE:20170326T030000
TZOFFSETFROM:+0200
TZOFFSETTO:+0100
TZNAME:Europe/Berlin CET
END:STANDARD
BEGIN:STANDARD
DTSTART:20171029T020000
RDATE:20180325T030000
TZOFFSETFROM:+0200
TZOFFSETTO:+0100
TZNAME:Europe/Berlin CET
END:STANDARD
BEGIN:STANDARD
DTSTART:20181028T020000
RDATE:20190331T030000
TZOFFSETFROM:+0200
TZOFFSETTO:+0100
TZNAME:Europe/Berlin CET
END:STANDARD
BEGIN:STANDARD
DTSTART:20191027T020000
RDATE:20200329T030000
TZOFFSETFROM:+0200
TZOFFSETTO:+0100
TZNAME:Europe/Berlin CET
END:STANDARD
BEGIN:STANDARD
DTSTART:20201025T020000
RDATE:20210328T030000
TZOFFSETFROM:+0200
TZOFFSETTO:+0100
TZNAME:Europe/Berlin CET
END:STANDARD
BEGIN:STANDARD
DTSTART:20211031T020000
RDATE:20220327T030000
TZOFFSETFROM:+0200
TZOFFSETTO:+0100
TZNAME:Europe/Berlin CET
END:STANDARD
BEGIN:STANDARD
DTSTART:20221030T020000
RDATE:20230326T030000
TZOFFSETFROM:+0200
TZOFFSETTO:+0100
TZNAME:Europe/Berlin CET
END:STANDARD
BEGIN:STANDARD
DTSTART:20231029T020000
RDATE:20240331T030000
TZOFFSETFROM:+0200
TZOFFSETTO:+0100
TZNAME:Europe/Berlin CET
END:STANDARD
BEGIN:STANDARD
DTSTART:20241027T020000
RDATE:20250330T030000
TZOFFSETFROM:+0200
TZOFFSETTO:+0100
TZNAME:Europe/Berlin CET
END:STANDARD
BEGIN:STANDARD
DTSTART:20251026T020000
RDATE:20260329T030000
TZOFFSETFROM:+0200
TZOFFSETTO:+0100
TZNAME:Europe/Berlin CET
END:STANDARD
BEGIN:STANDARD
DTSTART:20261025T020000
RDATE:20270328T030000
TZOFFSETFROM:+0200
TZOFFSETTO:+0100
TZNAME:Europe/Berlin CET
END:STANDARD
BEGIN:STANDARD
DTSTART:20271031T020000
RDATE:20280326T030000
TZOFFSETFROM:+0200
TZOFFSETTO:+0100
TZNAME:Europe/Berlin CET
END:STANDARD
BEGIN:DAYLIGHT
DTSTART:20120428T161500
RDATE:20121028T020000
TZOFFSETFROM:+0100
TZOFFSETTO:+0200
TZNAME:Europe/Berlin CEST
END:DAYLIGHT
BEGIN:DAYLIGHT
DTSTART:20130331T030000
RDATE:20131027T020000
TZOFFSETFROM:+0100
TZOFFSETTO:+0200
TZNAME:Europe/Berlin CEST
END:DAYLIGHT
BEGIN:DAYLIGHT
DTSTART:20140330T030000
RDATE:20141026T020000
TZOFFSETFROM:+0100
TZOFFSETTO:+0200
TZNAME:Europe/Berlin CEST
END:DAYLIGHT
BEGIN:DAYLIGHT
DTSTART:20150329T030000
RDATE:20151025T020000
TZOFFSETFROM:+0100
TZOFFSETTO:+0200
TZNAME:Europe/Berlin CEST
END:DAYLIGHT
BEGIN:DAYLIGHT
DTSTART:20160327T030000
RDATE:20161030T020000
TZOFFSETFROM:+0100
TZOFFSETTO:+0200
TZNAME:Europe/Berlin CEST
END:DAYLIGHT
BEGIN:DAYLIGHT
DTSTART:20170326T030000
RDATE:20171029T020000
TZOFFSETFROM:+0100
TZOFFSETTO:+0200
TZNAME:Europe/Berlin CEST
END:DAYLIGHT
BEGIN:DAYLIGHT
DTSTART:20180325T030000
RDATE:20181028T020000
TZOFFSETFROM:+0100
TZOFFSETTO:+0200
TZNAME:Europe/Berlin CEST
END:DAYLIGHT
BEGIN:DAYLIGHT
DTSTART:20190331T030000
RDATE:20191027T020000
TZOFFSETFROM:+0100
TZOFFSETTO:+0200
TZNAME:Europe/Berlin CEST
END:DAYLIGHT
BEGIN:DAYLIGHT
DTSTART:20200329T030000
RDATE:20201025T020000
TZOFFSETFROM:+0100
TZOFFSETTO:+0200
TZNAME:Europe/Berlin CEST
END:DAYLIGHT
BEGIN:DAYLIGHT
DTSTART:20210328T030000
RDATE:20211031T020000
TZOFFSETFROM:+0100
TZOFFSETTO:+0200
TZNAME:Europe/Berlin CEST
END:DAYLIGHT
BEGIN:DAYLIGHT
DTSTART:20220327T030000
RDATE:20221030T020000
TZOFFSETFROM:+0100
TZOFFSETTO:+0200
TZNAME:Europe/Berlin CEST
END:DAYLIGHT
BEGIN:DAYLIGHT
DTSTART:20230326T030000
RDATE:20231029T020000
TZOFFSETFROM:+0100
TZOFFSETTO:+0200
TZNAME:Europe/Berlin CEST
END:DAYLIGHT
BEGIN:DAYLIGHT
DTSTART:20240331T030000
RDATE:20241027T020000
TZOFFSETFROM:+0100
TZOFFSETTO:+0200
TZNAME:Europe/Berlin CEST
END:DAYLIGHT
BEGIN:DAYLIGHT
DTSTART:20250330T030000
RDATE:20251026T020000
TZOFFSETFROM:+0100
TZOFFSETTO:+0200
TZNAME:Europe/Berlin CEST
END:DAYLIGHT
BEGIN:DAYLIGHT
DTSTART:20260329T030000
RDATE:20261025T020000
TZOFFSETFROM:+0100
TZOFFSETTO:+0200
TZNAME:Europe/Berlin CEST
END:DAYLIGHT
BEGIN:DAYLIGHT
DTSTART:20270328T030000
RDATE:20271031T020000
TZOFFSETFROM:+0100
TZOFFSETTO:+0200
TZNAME:Europe/Berlin CEST
END:DAYLIGHT
END:VTIMEZONE
BEGIN:VEVENT
UID:e95547c8acc7fdd01cbaae28216c8a95
CATEGORIES:ESG
CREATED:20130416T114309
SUMMARY:Kräuterseminar II
LOCATION:ESG Trier\, Clubraum und rund um den Unisee
URL;VALUE=URI:https://www.esg-trier.de/veranstaltungskalender/eventeinzelheiten/426/-/krä
 uterseminar-ii?tmpl=component
DESCRIPTION:Das erste Wildkräuterseminar ist bereits ausgebucht. Daher hier ein Zusatza
 ngebot:Wildkräuterseminar IIWildkräuter - das erste Grün für Suppe und Sala
 t.Bei einem Rundgang in Uni-Nähe werden wir uns von der Vielfalt der  essba
 ren Wildpflanzen überraschen lassen. \nLernt die Pflanzen sicher zu  erkenn
 en, zu sammeln und zu verarbeiten. \n\nGemeinsam rühren wir einen  Wildkräu
 tersnack an - ein Überraschungstrunk rundet den informativen Nachmittag auc
 h zu einem kulinarischen Ereignis ab. \n\nReferentin:\nMartina Zipf (http:/
 /www.martinazipf.de), Sozialpädagogin\n\nca. 3 Stunden\nTeilnehmerInnen: ma
 x. 12    \nTeilnahmebeitrag: 4,-€\n\nAnmeldung in der ESG bis zum 25.04.201
 3\n\n This event was imported from: https://www.esg-trier.de/veranstaltungs
 kalender/eventeinzelheiten/426/-/kräuterseminar-ii?tmpl=component (https://
 www.esg-trier.de/veranstaltungskalender/eventeinzelheiten/426/-/kräutersemi
 nar-ii?tmpl=component)
X-ALT-DESC;FMTTYPE=text/html:<div>Das erste Wildkräuterseminar ist bereits ausgebucht. Daher hier ein Zu
 satzangebot:</div><h1>Wildkräuterseminar II</h1><h2>Wildkräuter - das erste
  Grün für Suppe und Salat.</h2><p>Bei einem Rundgang in Uni-Nähe werden wir
  uns von der Vielfalt der  essbaren Wildpflanzen überraschen lassen. <br />
 Lernt die Pflanzen sicher zu  erkennen, zu sammeln und zu verarbeiten. <br 
 /><br />Gemeinsam rühren wir einen  Wildkräutersnack an - ein Überraschungs
 trunk rundet den informativen Nachmittag auch zu einem kulinarischen Ereign
 is ab. </p><p><br />Referentin:<br /><a target="_blank" title="Mehr zur Ref
 erentin" href="http://www.martinazipf.de">Martina Zipf</a>, Sozialpädagogin
 <br /><br />ca. 3 Stunden<br />TeilnehmerInnen: <strong>max. 12</strong>   
  <br />Teilnahmebeitrag: 4,-€<br /><br /><strong>Anmeldung in der ESG bis z
 um 25.04.2013<br /></strong></p> <a href="https://www.esg-trier.de/veransta
 ltungskalender/eventeinzelheiten/426/-/kräuterseminar-ii?tmpl=component">Th
 is event was imported from: https://www.esg-trier.de/veranstaltungskalender
 /eventeinzelheiten/426/-/kräuterseminar-ii?tmpl=component</a>DTSTAMP:20260424T130729
DTSTART;TZID=Europe/Berlin:20130429T161500
DTEND;TZID=Europe/Berlin:20130429T190000
SEQUENCE:0
TRANSP:OPAQUE
END:VEVENT
END:VCALENDAR