BEGIN:VCALENDAR
VERSION:2.0
PRODID:-//jEvents 2.0 for Joomla//EN
CALSCALE:GREGORIAN
METHOD:PUBLISH
BEGIN:VTIMEZONE
TZID:Europe/Berlin
BEGIN:STANDARD
DTSTART:20121216T181500
RDATE:20130331T030000
TZOFFSETFROM:+0200
TZOFFSETTO:+0100
TZNAME:Europe/Berlin CET
END:STANDARD
BEGIN:STANDARD
DTSTART:20131027T020000
RDATE:20140330T030000
TZOFFSETFROM:+0200
TZOFFSETTO:+0100
TZNAME:Europe/Berlin CET
END:STANDARD
BEGIN:STANDARD
DTSTART:20141026T020000
RDATE:20150329T030000
TZOFFSETFROM:+0200
TZOFFSETTO:+0100
TZNAME:Europe/Berlin CET
END:STANDARD
BEGIN:STANDARD
DTSTART:20151025T020000
RDATE:20160327T030000
TZOFFSETFROM:+0200
TZOFFSETTO:+0100
TZNAME:Europe/Berlin CET
END:STANDARD
BEGIN:STANDARD
DTSTART:20161030T020000
RDATE:20170326T030000
TZOFFSETFROM:+0200
TZOFFSETTO:+0100
TZNAME:Europe/Berlin CET
END:STANDARD
BEGIN:STANDARD
DTSTART:20171029T020000
RDATE:20180325T030000
TZOFFSETFROM:+0200
TZOFFSETTO:+0100
TZNAME:Europe/Berlin CET
END:STANDARD
BEGIN:STANDARD
DTSTART:20181028T020000
RDATE:20190331T030000
TZOFFSETFROM:+0200
TZOFFSETTO:+0100
TZNAME:Europe/Berlin CET
END:STANDARD
BEGIN:STANDARD
DTSTART:20191027T020000
RDATE:20200329T030000
TZOFFSETFROM:+0200
TZOFFSETTO:+0100
TZNAME:Europe/Berlin CET
END:STANDARD
BEGIN:STANDARD
DTSTART:20201025T020000
RDATE:20210328T030000
TZOFFSETFROM:+0200
TZOFFSETTO:+0100
TZNAME:Europe/Berlin CET
END:STANDARD
BEGIN:STANDARD
DTSTART:20211031T020000
RDATE:20220327T030000
TZOFFSETFROM:+0200
TZOFFSETTO:+0100
TZNAME:Europe/Berlin CET
END:STANDARD
BEGIN:STANDARD
DTSTART:20221030T020000
RDATE:20230326T030000
TZOFFSETFROM:+0200
TZOFFSETTO:+0100
TZNAME:Europe/Berlin CET
END:STANDARD
BEGIN:STANDARD
DTSTART:20231029T020000
RDATE:20240331T030000
TZOFFSETFROM:+0200
TZOFFSETTO:+0100
TZNAME:Europe/Berlin CET
END:STANDARD
BEGIN:STANDARD
DTSTART:20241027T020000
RDATE:20250330T030000
TZOFFSETFROM:+0200
TZOFFSETTO:+0100
TZNAME:Europe/Berlin CET
END:STANDARD
BEGIN:STANDARD
DTSTART:20251026T020000
RDATE:20260329T030000
TZOFFSETFROM:+0200
TZOFFSETTO:+0100
TZNAME:Europe/Berlin CET
END:STANDARD
BEGIN:STANDARD
DTSTART:20261025T020000
RDATE:20270328T030000
TZOFFSETFROM:+0200
TZOFFSETTO:+0100
TZNAME:Europe/Berlin CET
END:STANDARD
BEGIN:STANDARD
DTSTART:20271031T020000
RDATE:20280326T030000
TZOFFSETFROM:+0200
TZOFFSETTO:+0100
TZNAME:Europe/Berlin CET
END:STANDARD
BEGIN:DAYLIGHT
DTSTART:20130331T030000
RDATE:20131027T020000
TZOFFSETFROM:+0100
TZOFFSETTO:+0200
TZNAME:Europe/Berlin CEST
END:DAYLIGHT
BEGIN:DAYLIGHT
DTSTART:20140330T030000
RDATE:20141026T020000
TZOFFSETFROM:+0100
TZOFFSETTO:+0200
TZNAME:Europe/Berlin CEST
END:DAYLIGHT
BEGIN:DAYLIGHT
DTSTART:20150329T030000
RDATE:20151025T020000
TZOFFSETFROM:+0100
TZOFFSETTO:+0200
TZNAME:Europe/Berlin CEST
END:DAYLIGHT
BEGIN:DAYLIGHT
DTSTART:20160327T030000
RDATE:20161030T020000
TZOFFSETFROM:+0100
TZOFFSETTO:+0200
TZNAME:Europe/Berlin CEST
END:DAYLIGHT
BEGIN:DAYLIGHT
DTSTART:20170326T030000
RDATE:20171029T020000
TZOFFSETFROM:+0100
TZOFFSETTO:+0200
TZNAME:Europe/Berlin CEST
END:DAYLIGHT
BEGIN:DAYLIGHT
DTSTART:20180325T030000
RDATE:20181028T020000
TZOFFSETFROM:+0100
TZOFFSETTO:+0200
TZNAME:Europe/Berlin CEST
END:DAYLIGHT
BEGIN:DAYLIGHT
DTSTART:20190331T030000
RDATE:20191027T020000
TZOFFSETFROM:+0100
TZOFFSETTO:+0200
TZNAME:Europe/Berlin CEST
END:DAYLIGHT
BEGIN:DAYLIGHT
DTSTART:20200329T030000
RDATE:20201025T020000
TZOFFSETFROM:+0100
TZOFFSETTO:+0200
TZNAME:Europe/Berlin CEST
END:DAYLIGHT
BEGIN:DAYLIGHT
DTSTART:20210328T030000
RDATE:20211031T020000
TZOFFSETFROM:+0100
TZOFFSETTO:+0200
TZNAME:Europe/Berlin CEST
END:DAYLIGHT
BEGIN:DAYLIGHT
DTSTART:20220327T030000
RDATE:20221030T020000
TZOFFSETFROM:+0100
TZOFFSETTO:+0200
TZNAME:Europe/Berlin CEST
END:DAYLIGHT
BEGIN:DAYLIGHT
DTSTART:20230326T030000
RDATE:20231029T020000
TZOFFSETFROM:+0100
TZOFFSETTO:+0200
TZNAME:Europe/Berlin CEST
END:DAYLIGHT
BEGIN:DAYLIGHT
DTSTART:20240331T030000
RDATE:20241027T020000
TZOFFSETFROM:+0100
TZOFFSETTO:+0200
TZNAME:Europe/Berlin CEST
END:DAYLIGHT
BEGIN:DAYLIGHT
DTSTART:20250330T030000
RDATE:20251026T020000
TZOFFSETFROM:+0100
TZOFFSETTO:+0200
TZNAME:Europe/Berlin CEST
END:DAYLIGHT
BEGIN:DAYLIGHT
DTSTART:20260329T030000
RDATE:20261025T020000
TZOFFSETFROM:+0100
TZOFFSETTO:+0200
TZNAME:Europe/Berlin CEST
END:DAYLIGHT
BEGIN:DAYLIGHT
DTSTART:20270328T030000
RDATE:20271031T020000
TZOFFSETFROM:+0100
TZOFFSETTO:+0200
TZNAME:Europe/Berlin CEST
END:DAYLIGHT
END:VTIMEZONE
BEGIN:VEVENT
UID:3df3aae42c7901803ae12d9b4af91bec
CATEGORIES:ESG
CREATED:20130912T134320
SUMMARY:Lebendiger Adventskalender
LOCATION:ESG Trier\, vor der Eingangstür
URL;VALUE=URI:https://www.esg-trier.de/veranstaltungskalender/eventeinzelheiten/445/-/leb
 endiger-adventskalender?tmpl=component
DESCRIPTION:<p>Adventskalender gibt es viele. Von lecker-süß bis selbst zusammengestell
 t, von täglich neu bis strategisch geplant. In diesem Jahr beteiligen wir u
 ns zum dritten Mal am <a target="_blank" title="Hier gibt´s alle Fenster 20
 13!" href="images/Lebendiger_Adventskalender_2013_mit_Rahmen.pdf">"Lebendig
 en Adventskalender" der Trierer Höhenstadtteile</a>.</p><p>Für jeden Abend 
 im Advent erklärt sich jemand bereit, vor der eigenen Haustür eine kleine A
 dventsfeier zu gestalten. Die Feier selbst dauert ca. 20 Minuten. Die Inhal
 te sind frei gestaltbar, es werden zwei bis drei Lieder gesungen, eine kurz
 e Geschichte erzählt- vielleicht passend zur Fensterdekoration.</p><p>Im An
 schluss gibt es, wenn man möchte, Kekse und Punsch. Man steht beieinander, 
 plaudert und erzählt.</p><p> </p> <a href="https://www.esg-trier.de/veranst
 altungskalender/eventeinzelheiten/445/-/lebendiger-adventskalender?tmpl=com
 ponent">This event was imported from: https://www.esg-trier.de/veranstaltun
 gskalender/eventeinzelheiten/445/-/lebendiger-adventskalender?tmpl=componen
 t</a>
X-ALT-DESC;FMTTYPE=text/html:<p>Adventskalender gibt es viele. Von lecker-süß bis selbst zusammengestell
 t, von täglich neu bis strategisch geplant. In diesem Jahr beteiligen wir u
 ns zum dritten Mal am <a target="_blank" title="Hier gibt´s alle Fenster 20
 13!" href="https://www.esg-trier.de/images/Lebendiger_Adventskalender_2013_
 mit_Rahmen.pdf">"Lebendigen Adventskalender" der Trierer Höhenstadtteile</a
 >.</p><p>Für jeden Abend im Advent erklärt sich jemand bereit, vor der eige
 nen Haustür eine kleine Adventsfeier zu gestalten. Die Feier selbst dauert 
 ca. 20 Minuten. Die Inhalte sind frei gestaltbar, es werden zwei bis drei L
 ieder gesungen, eine kurze Geschichte erzählt- vielleicht passend zur Fenst
 erdekoration.</p><p>Im Anschluss gibt es, wenn man möchte, Kekse und Punsch
 . Man steht beieinander, plaudert und erzählt.</p><p> </p> <a href="https:/
 /www.esg-trier.de/veranstaltungskalender/eventeinzelheiten/445/-/lebendiger
 -adventskalender?tmpl=component">This event was imported from: https://www.
 esg-trier.de/veranstaltungskalender/eventeinzelheiten/445/-/lebendiger-adve
 ntskalender?tmpl=component</a>DTSTAMP:20260422T195259
DTSTART;TZID=Europe/Berlin:20131217T181500
DTEND;TZID=Europe/Berlin:20131217T184500
SEQUENCE:0
TRANSP:OPAQUE
END:VEVENT
END:VCALENDAR