BEGIN:VCALENDAR
VERSION:2.0
PRODID:-//jEvents 2.0 for Joomla//EN
CALSCALE:GREGORIAN
METHOD:PUBLISH
BEGIN:VTIMEZONE
TZID:Europe/Berlin
BEGIN:STANDARD
DTSTART:20221030T020000
RDATE:20230326T030000
TZOFFSETFROM:+0200
TZOFFSETTO:+0100
TZNAME:Europe/Berlin CET
END:STANDARD
BEGIN:STANDARD
DTSTART:20231029T020000
RDATE:20240331T030000
TZOFFSETFROM:+0200
TZOFFSETTO:+0100
TZNAME:Europe/Berlin CET
END:STANDARD
BEGIN:STANDARD
DTSTART:20241027T020000
RDATE:20250330T030000
TZOFFSETFROM:+0200
TZOFFSETTO:+0100
TZNAME:Europe/Berlin CET
END:STANDARD
BEGIN:STANDARD
DTSTART:20251026T020000
RDATE:20260329T030000
TZOFFSETFROM:+0200
TZOFFSETTO:+0100
TZNAME:Europe/Berlin CET
END:STANDARD
BEGIN:STANDARD
DTSTART:20261025T020000
RDATE:20270328T030000
TZOFFSETFROM:+0200
TZOFFSETTO:+0100
TZNAME:Europe/Berlin CET
END:STANDARD
BEGIN:STANDARD
DTSTART:20271031T020000
RDATE:20280326T030000
TZOFFSETFROM:+0200
TZOFFSETTO:+0100
TZNAME:Europe/Berlin CET
END:STANDARD
BEGIN:DAYLIGHT
DTSTART:20220417T120000
RDATE:20221030T020000
TZOFFSETFROM:+0100
TZOFFSETTO:+0200
TZNAME:Europe/Berlin CEST
END:DAYLIGHT
BEGIN:DAYLIGHT
DTSTART:20230326T030000
RDATE:20231029T020000
TZOFFSETFROM:+0100
TZOFFSETTO:+0200
TZNAME:Europe/Berlin CEST
END:DAYLIGHT
BEGIN:DAYLIGHT
DTSTART:20240331T030000
RDATE:20241027T020000
TZOFFSETFROM:+0100
TZOFFSETTO:+0200
TZNAME:Europe/Berlin CEST
END:DAYLIGHT
BEGIN:DAYLIGHT
DTSTART:20250330T030000
RDATE:20251026T020000
TZOFFSETFROM:+0100
TZOFFSETTO:+0200
TZNAME:Europe/Berlin CEST
END:DAYLIGHT
BEGIN:DAYLIGHT
DTSTART:20260329T030000
RDATE:20261025T020000
TZOFFSETFROM:+0100
TZOFFSETTO:+0200
TZNAME:Europe/Berlin CEST
END:DAYLIGHT
BEGIN:DAYLIGHT
DTSTART:20270328T030000
RDATE:20271031T020000
TZOFFSETFROM:+0100
TZOFFSETTO:+0200
TZNAME:Europe/Berlin CEST
END:DAYLIGHT
END:VTIMEZONE
BEGIN:VEVENT
UID:c585f4752acee496e73015a40ba67f97
CATEGORIES:ESG
CREATED:19700101T010000
SUMMARY:Übung Mühling Uni: Militärhistorische Schriften in der Frühen Neuzeit
URL;VALUE=URI:https://www.esg-trier.de/veranstaltungskalender/eventeinzelheiten/6554/-/üb
 ung-mühling-uni-militärhistorische-schriften-in-der-frühen-neuzeit?tmpl=com
 ponent
DESCRIPTION:<p>Zeitgenössische Texte über den Frieden, den Krieg – und wie wir miteinan
 der leben können.</p> <a href="https://www.esg-trier.de/veranstaltungskalen
 der/eventeinzelheiten/6554/-/übung-mühling-uni-militärhistorische-schriften
 -in-der-frühen-neuzeit?tmpl=component">This event was imported from: https:
 //www.esg-trier.de/veranstaltungskalender/eventeinzelheiten/6554/-/übung-mü
 hling-uni-militärhistorische-schriften-in-der-frühen-neuzeit?tmpl=component
 </a>DTSTAMP:20260419T180320
DTSTART;TZID=Europe/Berlin:20230418T120000
DTEND;TZID=Europe/Berlin:20230418T140000
SEQUENCE:0
RRULE:FREQ=WEEKLY;UNTIL=20230723T000000Z;INTERVAL=1;BYDAY=TU
EXDATE;TZID=Europe/Berlin:20230530T120000
TRANSP:OPAQUE
END:VEVENT
END:VCALENDAR