BEGIN:VCALENDAR
VERSION:2.0
PRODID:-//jEvents 2.0 for Joomla//EN
CALSCALE:GREGORIAN
METHOD:PUBLISH
BEGIN:VTIMEZONE
TZID:Europe/Berlin
BEGIN:STANDARD
DTSTART:20221122T180000
RDATE:20230326T030000
TZOFFSETFROM:+0200
TZOFFSETTO:+0100
TZNAME:Europe/Berlin CET
END:STANDARD
BEGIN:STANDARD
DTSTART:20231029T020000
RDATE:20240331T030000
TZOFFSETFROM:+0200
TZOFFSETTO:+0100
TZNAME:Europe/Berlin CET
END:STANDARD
BEGIN:STANDARD
DTSTART:20241027T020000
RDATE:20250330T030000
TZOFFSETFROM:+0200
TZOFFSETTO:+0100
TZNAME:Europe/Berlin CET
END:STANDARD
BEGIN:STANDARD
DTSTART:20251026T020000
RDATE:20260329T030000
TZOFFSETFROM:+0200
TZOFFSETTO:+0100
TZNAME:Europe/Berlin CET
END:STANDARD
BEGIN:STANDARD
DTSTART:20261025T020000
RDATE:20270328T030000
TZOFFSETFROM:+0200
TZOFFSETTO:+0100
TZNAME:Europe/Berlin CET
END:STANDARD
BEGIN:STANDARD
DTSTART:20271031T020000
RDATE:20280326T030000
TZOFFSETFROM:+0200
TZOFFSETTO:+0100
TZNAME:Europe/Berlin CET
END:STANDARD
BEGIN:DAYLIGHT
DTSTART:20230326T030000
RDATE:20231029T020000
TZOFFSETFROM:+0100
TZOFFSETTO:+0200
TZNAME:Europe/Berlin CEST
END:DAYLIGHT
BEGIN:DAYLIGHT
DTSTART:20240331T030000
RDATE:20241027T020000
TZOFFSETFROM:+0100
TZOFFSETTO:+0200
TZNAME:Europe/Berlin CEST
END:DAYLIGHT
BEGIN:DAYLIGHT
DTSTART:20250330T030000
RDATE:20251026T020000
TZOFFSETFROM:+0100
TZOFFSETTO:+0200
TZNAME:Europe/Berlin CEST
END:DAYLIGHT
BEGIN:DAYLIGHT
DTSTART:20260329T030000
RDATE:20261025T020000
TZOFFSETFROM:+0100
TZOFFSETTO:+0200
TZNAME:Europe/Berlin CEST
END:DAYLIGHT
BEGIN:DAYLIGHT
DTSTART:20270328T030000
RDATE:20271031T020000
TZOFFSETFROM:+0100
TZOFFSETTO:+0200
TZNAME:Europe/Berlin CEST
END:DAYLIGHT
END:VTIMEZONE
BEGIN:VEVENT
UID:06473837245daa42a681448f2dcd9989
CATEGORIES:ESG
CREATED:20231018T215832
SUMMARY:Andacht -  „Zwischen Zweifel und Zuversicht“
URL;VALUE=URI:https://www.esg-trier.de/veranstaltungskalender/eventeinzelheiten/7413/-/an
 dacht-„zwischen-zweifel-und-zuversicht“?tmpl=component
DESCRIPTION:Nach Corona, Inflation, Klimakrise und Ukrainekrieg ist vieles nicht mehr s
 o, wie es einmal war. Doch wie geht Zuversicht inmitten der Zweifel? Die An
 dachten greifen diese Frage auf.\nJeweils 18.00 Uhr in der „Kirche im Kelle
 r“\nDienstag, 24. Oktober: Jeremia\nDonnerstag, 23. November: Die Jünger au
 f dem See\nDonnerstag, 11. Januar: Die Hirten auf dem Felde\nDienstag, 15. 
 Februar: Der ungläubige Thomas\n This event was imported from: https://www.
 esg-trier.de/veranstaltungskalender/eventeinzelheiten/7413/-/andacht-„zwisc
 hen-zweifel-und-zuversicht“?tmpl=component
X-ALT-DESC;FMTTYPE=text/html:<p>Nach Corona, Inflation, Klimakrise und Ukrainekrieg ist vieles nicht meh
 r so, wie es einmal war. Doch wie geht Zuversicht inmitten der Zweifel? Die
  Andachten greifen diese Frage auf.</p><p>Jeweils 18.00 Uhr in der „Kirche 
 im Keller“</p><p>Dienstag, 24. Oktober: Jeremia</p><p>Donnerstag, 23. Novem
 ber: Die Jünger auf dem See</p><p>Donnerstag, 11. Januar: Die Hirten auf de
 m Felde</p><p>Dienstag, 15. Februar: Der ungläubige Thomas</p> <a href="htt
 ps://www.esg-trier.de/veranstaltungskalender/eventeinzelheiten/7413/-/andac
 ht-„zwischen-zweifel-und-zuversicht“?tmpl=component">This event was importe
 d from: https://www.esg-trier.de/veranstaltungskalender/eventeinzelheiten/7
 413/-/andacht-„zwischen-zweifel-und-zuversicht“?tmpl=component</a>DTSTAMP:20260419T163608
DTSTART;TZID=Europe/Berlin:20231123T180000
DTEND;TZID=Europe/Berlin:20231123T183000
SEQUENCE:0
TRANSP:OPAQUE
END:VEVENT
END:VCALENDAR