BEGIN:VCALENDAR
VERSION:2.0
PRODID:-//jEvents 2.0 for Joomla//EN
CALSCALE:GREGORIAN
METHOD:PUBLISH
BEGIN:VTIMEZONE
TZID:Europe/Berlin
BEGIN:STANDARD
DTSTART:20241027T020000
RDATE:20250330T030000
TZOFFSETFROM:+0200
TZOFFSETTO:+0100
TZNAME:Europe/Berlin CET
END:STANDARD
BEGIN:STANDARD
DTSTART:20251026T020000
RDATE:20260329T030000
TZOFFSETFROM:+0200
TZOFFSETTO:+0100
TZNAME:Europe/Berlin CET
END:STANDARD
BEGIN:STANDARD
DTSTART:20261025T020000
RDATE:20270328T030000
TZOFFSETFROM:+0200
TZOFFSETTO:+0100
TZNAME:Europe/Berlin CET
END:STANDARD
BEGIN:STANDARD
DTSTART:20271031T020000
RDATE:20280326T030000
TZOFFSETFROM:+0200
TZOFFSETTO:+0100
TZNAME:Europe/Berlin CET
END:STANDARD
BEGIN:DAYLIGHT
DTSTART:20240526T150000
RDATE:20241027T020000
TZOFFSETFROM:+0100
TZOFFSETTO:+0200
TZNAME:Europe/Berlin CEST
END:DAYLIGHT
BEGIN:DAYLIGHT
DTSTART:20250330T030000
RDATE:20251026T020000
TZOFFSETFROM:+0100
TZOFFSETTO:+0200
TZNAME:Europe/Berlin CEST
END:DAYLIGHT
BEGIN:DAYLIGHT
DTSTART:20260329T030000
RDATE:20261025T020000
TZOFFSETFROM:+0100
TZOFFSETTO:+0200
TZNAME:Europe/Berlin CEST
END:DAYLIGHT
BEGIN:DAYLIGHT
DTSTART:20270328T030000
RDATE:20271031T020000
TZOFFSETFROM:+0100
TZOFFSETTO:+0200
TZNAME:Europe/Berlin CEST
END:DAYLIGHT
END:VTIMEZONE
BEGIN:VEVENT
UID:e2e6e15e5c1bbcadf19e0fe1ddac85cb
CATEGORIES:Gruppen
CREATED:20250320T133231
SUMMARY:Stiller Stern "Sterne basteln"
URL;VALUE=URI:https://www.esg-trier.de/veranstaltungskalender/eventeinzelheiten/9332/-/st
 iller-stern-sterne-basteln?tmpl=component
DESCRIPTION: This event was imported from: https://www.esg-trier.de/veranstaltungskalen
 der/eventeinzelheiten/9332/-/stiller-stern-sterne-basteln?tmpl=component (h
 ttps://www.esg-trier.de/veranstaltungskalender/eventeinzelheiten/9332/-/sti
 ller-stern-sterne-basteln?tmpl=component)
X-ALT-DESC;FMTTYPE=text/html: <a href="https://www.esg-trier.de/veranstaltungskalender/eventeinzelheiten
 /9332/-/stiller-stern-sterne-basteln?tmpl=component">This event was importe
 d from: https://www.esg-trier.de/veranstaltungskalender/eventeinzelheiten/9
 332/-/stiller-stern-sterne-basteln?tmpl=component</a>DTSTAMP:20260423T060112
DTSTART;TZID=Europe/Berlin:20250527T150000
DTEND;TZID=Europe/Berlin:20250527T190000
SEQUENCE:0
TRANSP:OPAQUE
END:VEVENT
END:VCALENDAR