BEGIN:VCALENDAR
VERSION:2.0
PRODID:-//jEvents 2.0 for Joomla//EN
CALSCALE:GREGORIAN
METHOD:PUBLISH
BEGIN:VTIMEZONE
TZID:Europe/Berlin
BEGIN:STANDARD
DTSTART:20241027T020000
RDATE:20250330T030000
TZOFFSETFROM:+0200
TZOFFSETTO:+0100
TZNAME:Europe/Berlin CET
END:STANDARD
BEGIN:STANDARD
DTSTART:20251026T020000
RDATE:20260329T030000
TZOFFSETFROM:+0200
TZOFFSETTO:+0100
TZNAME:Europe/Berlin CET
END:STANDARD
BEGIN:STANDARD
DTSTART:20261025T020000
RDATE:20270328T030000
TZOFFSETFROM:+0200
TZOFFSETTO:+0100
TZNAME:Europe/Berlin CET
END:STANDARD
BEGIN:STANDARD
DTSTART:20271031T020000
RDATE:20280326T030000
TZOFFSETFROM:+0200
TZOFFSETTO:+0100
TZNAME:Europe/Berlin CET
END:STANDARD
BEGIN:DAYLIGHT
DTSTART:20240501T170000
RDATE:20241027T020000
TZOFFSETFROM:+0100
TZOFFSETTO:+0200
TZNAME:Europe/Berlin CEST
END:DAYLIGHT
BEGIN:DAYLIGHT
DTSTART:20250330T030000
RDATE:20251026T020000
TZOFFSETFROM:+0100
TZOFFSETTO:+0200
TZNAME:Europe/Berlin CEST
END:DAYLIGHT
BEGIN:DAYLIGHT
DTSTART:20260329T030000
RDATE:20261025T020000
TZOFFSETFROM:+0100
TZOFFSETTO:+0200
TZNAME:Europe/Berlin CEST
END:DAYLIGHT
BEGIN:DAYLIGHT
DTSTART:20270328T030000
RDATE:20271031T020000
TZOFFSETFROM:+0100
TZOFFSETTO:+0200
TZNAME:Europe/Berlin CEST
END:DAYLIGHT
END:VTIMEZONE
BEGIN:VEVENT
UID:a0df0252acd307c8ff104805d0440eb4
CATEGORIES:Gruppen
CREATED:19700101T010000
SUMMARY:Lesekreis FSR-Philosophie
URL;VALUE=URI:https://www.esg-trier.de/veranstaltungskalender/eventeinzelheiten/9440/-/le
 sekreis-fsr-philosophie?tmpl=component
DESCRIPTION: <a href="https://www.esg-trier.de/veranstaltungskalender/eventeinzelheiten
 /9440/-/lesekreis-fsr-philosophie?tmpl=component">This event was imported f
 rom: https://www.esg-trier.de/veranstaltungskalender/eventeinzelheiten/9440
 /-/lesekreis-fsr-philosophie?tmpl=component</a>DTSTAMP:20260423T110131
DTSTART;TZID=Europe/Berlin:20250502T170000
SEQUENCE:0
RRULE:FREQ=WEEKLY;UNTIL=20250711T000000Z;INTERVAL=2;BYDAY=FR
TRANSP:OPAQUE
END:VEVENT
END:VCALENDAR