BEGIN:VCALENDAR
VERSION:2.0
PRODID:-//jEvents 2.0 for Joomla//EN
CALSCALE:GREGORIAN
METHOD:PUBLISH
BEGIN:VTIMEZONE
TZID:Europe/Berlin
BEGIN:STANDARD
DTSTART:20241027T020000
RDATE:20250330T030000
TZOFFSETFROM:+0200
TZOFFSETTO:+0100
TZNAME:Europe/Berlin CET
END:STANDARD
BEGIN:STANDARD
DTSTART:20251026T020000
RDATE:20260329T030000
TZOFFSETFROM:+0200
TZOFFSETTO:+0100
TZNAME:Europe/Berlin CET
END:STANDARD
BEGIN:STANDARD
DTSTART:20261025T020000
RDATE:20270328T030000
TZOFFSETFROM:+0200
TZOFFSETTO:+0100
TZNAME:Europe/Berlin CET
END:STANDARD
BEGIN:STANDARD
DTSTART:20271031T020000
RDATE:20280326T030000
TZOFFSETFROM:+0200
TZOFFSETTO:+0100
TZNAME:Europe/Berlin CET
END:STANDARD
BEGIN:DAYLIGHT
DTSTART:20240902T090000
RDATE:20241027T020000
TZOFFSETFROM:+0100
TZOFFSETTO:+0200
TZNAME:Europe/Berlin CEST
END:DAYLIGHT
BEGIN:DAYLIGHT
DTSTART:20250330T030000
RDATE:20251026T020000
TZOFFSETFROM:+0100
TZOFFSETTO:+0200
TZNAME:Europe/Berlin CEST
END:DAYLIGHT
BEGIN:DAYLIGHT
DTSTART:20260329T030000
RDATE:20261025T020000
TZOFFSETFROM:+0100
TZOFFSETTO:+0200
TZNAME:Europe/Berlin CEST
END:DAYLIGHT
BEGIN:DAYLIGHT
DTSTART:20270328T030000
RDATE:20271031T020000
TZOFFSETFROM:+0100
TZOFFSETTO:+0200
TZNAME:Europe/Berlin CEST
END:DAYLIGHT
END:VTIMEZONE
BEGIN:VEVENT
UID:c5b906361594a23a275b69ea5609b2fa
CATEGORIES:Gruppen
CREATED:20250715T122043
SUMMARY:Teamtage der Kita Schneidershof
URL;VALUE=URI:https://www.esg-trier.de/veranstaltungskalender/eventeinzelheiten/9473/-/te
 amtage-der-kita-schneidershof?tmpl=component
DESCRIPTION: This event was imported from: https://www.esg-trier.de/veranstaltungskalen
 der/eventeinzelheiten/9473/-/teamtage-der-kita-schneidershof?tmpl=component
  (https://www.esg-trier.de/veranstaltungskalender/eventeinzelheiten/9473/-/
 teamtage-der-kita-schneidershof?tmpl=component)
X-ALT-DESC;FMTTYPE=text/html: <a href="https://www.esg-trier.de/veranstaltungskalender/eventeinzelheiten
 /9473/-/teamtage-der-kita-schneidershof?tmpl=component">This event was impo
 rted from: https://www.esg-trier.de/veranstaltungskalender/eventeinzelheite
 n/9473/-/teamtage-der-kita-schneidershof?tmpl=component</a>DTSTAMP:20260423T002317
DTSTART;TZID=Europe/Berlin:20250903T090000
DTEND;TZID=Europe/Berlin:20250903T160000
SEQUENCE:0
TRANSP:OPAQUE
END:VEVENT
END:VCALENDAR