BEGIN:VCALENDAR
VERSION:2.0
PRODID:-//jEvents 2.0 for Joomla//EN
CALSCALE:GREGORIAN
METHOD:PUBLISH
BEGIN:VTIMEZONE
TZID:Europe/Berlin
BEGIN:STANDARD
DTSTART:20130114T180000
RDATE:20130331T030000
TZOFFSETFROM:+0200
TZOFFSETTO:+0100
TZNAME:Europe/Berlin CET
END:STANDARD
BEGIN:STANDARD
DTSTART:20131027T020000
RDATE:20140330T030000
TZOFFSETFROM:+0200
TZOFFSETTO:+0100
TZNAME:Europe/Berlin CET
END:STANDARD
BEGIN:STANDARD
DTSTART:20141026T020000
RDATE:20150329T030000
TZOFFSETFROM:+0200
TZOFFSETTO:+0100
TZNAME:Europe/Berlin CET
END:STANDARD
BEGIN:STANDARD
DTSTART:20151025T020000
RDATE:20160327T030000
TZOFFSETFROM:+0200
TZOFFSETTO:+0100
TZNAME:Europe/Berlin CET
END:STANDARD
BEGIN:STANDARD
DTSTART:20161030T020000
RDATE:20170326T030000
TZOFFSETFROM:+0200
TZOFFSETTO:+0100
TZNAME:Europe/Berlin CET
END:STANDARD
BEGIN:STANDARD
DTSTART:20171029T020000
RDATE:20180325T030000
TZOFFSETFROM:+0200
TZOFFSETTO:+0100
TZNAME:Europe/Berlin CET
END:STANDARD
BEGIN:STANDARD
DTSTART:20181028T020000
RDATE:20190331T030000
TZOFFSETFROM:+0200
TZOFFSETTO:+0100
TZNAME:Europe/Berlin CET
END:STANDARD
BEGIN:STANDARD
DTSTART:20191027T020000
RDATE:20200329T030000
TZOFFSETFROM:+0200
TZOFFSETTO:+0100
TZNAME:Europe/Berlin CET
END:STANDARD
BEGIN:STANDARD
DTSTART:20201025T020000
RDATE:20210328T030000
TZOFFSETFROM:+0200
TZOFFSETTO:+0100
TZNAME:Europe/Berlin CET
END:STANDARD
BEGIN:STANDARD
DTSTART:20211031T020000
RDATE:20220327T030000
TZOFFSETFROM:+0200
TZOFFSETTO:+0100
TZNAME:Europe/Berlin CET
END:STANDARD
BEGIN:STANDARD
DTSTART:20221030T020000
RDATE:20230326T030000
TZOFFSETFROM:+0200
TZOFFSETTO:+0100
TZNAME:Europe/Berlin CET
END:STANDARD
BEGIN:STANDARD
DTSTART:20231029T020000
RDATE:20240331T030000
TZOFFSETFROM:+0200
TZOFFSETTO:+0100
TZNAME:Europe/Berlin CET
END:STANDARD
BEGIN:STANDARD
DTSTART:20241027T020000
RDATE:20250330T030000
TZOFFSETFROM:+0200
TZOFFSETTO:+0100
TZNAME:Europe/Berlin CET
END:STANDARD
BEGIN:STANDARD
DTSTART:20251026T020000
RDATE:20260329T030000
TZOFFSETFROM:+0200
TZOFFSETTO:+0100
TZNAME:Europe/Berlin CET
END:STANDARD
BEGIN:STANDARD
DTSTART:20261025T020000
RDATE:20270328T030000
TZOFFSETFROM:+0200
TZOFFSETTO:+0100
TZNAME:Europe/Berlin CET
END:STANDARD
BEGIN:STANDARD
DTSTART:20271031T020000
RDATE:20280326T030000
TZOFFSETFROM:+0200
TZOFFSETTO:+0100
TZNAME:Europe/Berlin CET
END:STANDARD
BEGIN:DAYLIGHT
DTSTART:20130331T030000
RDATE:20131027T020000
TZOFFSETFROM:+0100
TZOFFSETTO:+0200
TZNAME:Europe/Berlin CEST
END:DAYLIGHT
BEGIN:DAYLIGHT
DTSTART:20140330T030000
RDATE:20141026T020000
TZOFFSETFROM:+0100
TZOFFSETTO:+0200
TZNAME:Europe/Berlin CEST
END:DAYLIGHT
BEGIN:DAYLIGHT
DTSTART:20150329T030000
RDATE:20151025T020000
TZOFFSETFROM:+0100
TZOFFSETTO:+0200
TZNAME:Europe/Berlin CEST
END:DAYLIGHT
BEGIN:DAYLIGHT
DTSTART:20160327T030000
RDATE:20161030T020000
TZOFFSETFROM:+0100
TZOFFSETTO:+0200
TZNAME:Europe/Berlin CEST
END:DAYLIGHT
BEGIN:DAYLIGHT
DTSTART:20170326T030000
RDATE:20171029T020000
TZOFFSETFROM:+0100
TZOFFSETTO:+0200
TZNAME:Europe/Berlin CEST
END:DAYLIGHT
BEGIN:DAYLIGHT
DTSTART:20180325T030000
RDATE:20181028T020000
TZOFFSETFROM:+0100
TZOFFSETTO:+0200
TZNAME:Europe/Berlin CEST
END:DAYLIGHT
BEGIN:DAYLIGHT
DTSTART:20190331T030000
RDATE:20191027T020000
TZOFFSETFROM:+0100
TZOFFSETTO:+0200
TZNAME:Europe/Berlin CEST
END:DAYLIGHT
BEGIN:DAYLIGHT
DTSTART:20200329T030000
RDATE:20201025T020000
TZOFFSETFROM:+0100
TZOFFSETTO:+0200
TZNAME:Europe/Berlin CEST
END:DAYLIGHT
BEGIN:DAYLIGHT
DTSTART:20210328T030000
RDATE:20211031T020000
TZOFFSETFROM:+0100
TZOFFSETTO:+0200
TZNAME:Europe/Berlin CEST
END:DAYLIGHT
BEGIN:DAYLIGHT
DTSTART:20220327T030000
RDATE:20221030T020000
TZOFFSETFROM:+0100
TZOFFSETTO:+0200
TZNAME:Europe/Berlin CEST
END:DAYLIGHT
BEGIN:DAYLIGHT
DTSTART:20230326T030000
RDATE:20231029T020000
TZOFFSETFROM:+0100
TZOFFSETTO:+0200
TZNAME:Europe/Berlin CEST
END:DAYLIGHT
BEGIN:DAYLIGHT
DTSTART:20240331T030000
RDATE:20241027T020000
TZOFFSETFROM:+0100
TZOFFSETTO:+0200
TZNAME:Europe/Berlin CEST
END:DAYLIGHT
BEGIN:DAYLIGHT
DTSTART:20250330T030000
RDATE:20251026T020000
TZOFFSETFROM:+0100
TZOFFSETTO:+0200
TZNAME:Europe/Berlin CEST
END:DAYLIGHT
BEGIN:DAYLIGHT
DTSTART:20260329T030000
RDATE:20261025T020000
TZOFFSETFROM:+0100
TZOFFSETTO:+0200
TZNAME:Europe/Berlin CEST
END:DAYLIGHT
BEGIN:DAYLIGHT
DTSTART:20270328T030000
RDATE:20271031T020000
TZOFFSETFROM:+0100
TZOFFSETTO:+0200
TZNAME:Europe/Berlin CEST
END:DAYLIGHT
END:VTIMEZONE
BEGIN:VEVENT
UID:253dabe30766e2131d136ce7ab071848
CATEGORIES:Gruppen
CREATED:20130929T202258
SUMMARY:Blockflötenkreis der evangelischen Kirchengemeinde Trier
LOCATION:ESG Trier\, Versammlungsraum
URL;VALUE=URI:https://www.esg-trier.de/veranstaltungskalender/eventeinzelheiten/1092/-/bl
 ockflötenkreis-der-evangelischen-kirchengemeinde-trier?tmpl=component
DESCRIPTION:Der Blockflötenkreis wurde 1999 von Hela Schmutzler ins Leben gerufen. Im A
 ugenblick treffen sich jeden Mittwoch von 18.00 - 19.30 Uhr (außer in den S
 chulferien) insgesamt acht Frauen zur gemeinsamen Probe im Versammlungsraum
 .\n\nObgleich der Flötenkreis hauptsächlich Gottesdienste mitgestaltet, ist
  das Repertoire nicht nur auf geistliche Musik beschränkt. Es umfasst vielm
 ehr geistliche und weltliche Musik von der Renaissance bis zur Gegenwart.\n
 \nNeue MitspielerInnen sind uns herzlich willkommen; eine Altersbegrenzung 
 besteht nicht und die Teilnahme ist kostenlos. Allerdings sollten Kenntniss
 e mindestens des halben Quartetts (S/A bzw. T/B) vorhanden sein. Freude an 
 der Musik und einer guten Gemeinschaft verstehen sich von selbst.\nSiehe au
 ch: http://ekkt.ekir.de/trier/1747.0.html\n This event was imported from: h
 ttps://www.esg-trier.de/veranstaltungskalender/eventeinzelheiten/1092/-/blo
 ckflötenkreis-der-evangelischen-kirchengemeinde-trier?tmpl=component
X-ALT-DESC;FMTTYPE=text/html:<p>Der Blockflötenkreis wurde 1999 von Hela Schmutzler ins Leben gerufen. I
 m Augenblick treffen sich jeden Mittwoch von 18.00 - 19.30 Uhr (außer in de
 n Schulferien) insgesamt acht Frauen zur gemeinsamen Probe im Versammlungsr
 aum.<br /><br />Obgleich der Flötenkreis hauptsächlich Gottesdienste mitges
 taltet, ist das Repertoire nicht nur auf geistliche Musik beschränkt. Es um
 fasst vielmehr geistliche und weltliche Musik von der Renaissance bis zur G
 egenwart.<br /><br />Neue MitspielerInnen sind uns herzlich willkommen; ein
 e Altersbegrenzung besteht nicht und die Teilnahme ist kostenlos. Allerding
 s sollten Kenntnisse mindestens des halben Quartetts (S/A bzw. T/B) vorhand
 en sein. Freude an der Musik und einer guten Gemeinschaft verstehen sich vo
 n selbst.</p><p>Siehe auch: <a target="_blank" title="Mehr zum Blockflötenk
 reis" href="http://ekkt.ekir.de/trier/1747.0.html">http://ekkt.ekir.de/trie
 r/1747.0.html</a></p> <a href="https://www.esg-trier.de/veranstaltungskalen
 der/eventeinzelheiten/1092/-/blockflötenkreis-der-evangelischen-kirchengeme
 inde-trier?tmpl=component">This event was imported from: https://www.esg-tr
 ier.de/veranstaltungskalender/eventeinzelheiten/1092/-/blockflötenkreis-der
 -evangelischen-kirchengemeinde-trier?tmpl=component</a>DTSTAMP:20260421T231749
DTSTART;TZID=Europe/Berlin:20140115T180000
DTEND;TZID=Europe/Berlin:20140115T193000
SEQUENCE:0
TRANSP:OPAQUE
END:VEVENT
END:VCALENDAR