BEGIN:VCALENDAR
VERSION:2.0
PRODID:-//jEvents 2.0 for Joomla//EN
CALSCALE:GREGORIAN
METHOD:PUBLISH
BEGIN:VTIMEZONE
TZID:Europe/Berlin
BEGIN:STANDARD
DTSTART:20130311T133000
RDATE:20130331T030000
TZOFFSETFROM:+0200
TZOFFSETTO:+0100
TZNAME:Europe/Berlin CET
END:STANDARD
BEGIN:STANDARD
DTSTART:20131027T020000
RDATE:20140330T030000
TZOFFSETFROM:+0200
TZOFFSETTO:+0100
TZNAME:Europe/Berlin CET
END:STANDARD
BEGIN:STANDARD
DTSTART:20141026T020000
RDATE:20150329T030000
TZOFFSETFROM:+0200
TZOFFSETTO:+0100
TZNAME:Europe/Berlin CET
END:STANDARD
BEGIN:STANDARD
DTSTART:20151025T020000
RDATE:20160327T030000
TZOFFSETFROM:+0200
TZOFFSETTO:+0100
TZNAME:Europe/Berlin CET
END:STANDARD
BEGIN:STANDARD
DTSTART:20161030T020000
RDATE:20170326T030000
TZOFFSETFROM:+0200
TZOFFSETTO:+0100
TZNAME:Europe/Berlin CET
END:STANDARD
BEGIN:STANDARD
DTSTART:20171029T020000
RDATE:20180325T030000
TZOFFSETFROM:+0200
TZOFFSETTO:+0100
TZNAME:Europe/Berlin CET
END:STANDARD
BEGIN:STANDARD
DTSTART:20181028T020000
RDATE:20190331T030000
TZOFFSETFROM:+0200
TZOFFSETTO:+0100
TZNAME:Europe/Berlin CET
END:STANDARD
BEGIN:STANDARD
DTSTART:20191027T020000
RDATE:20200329T030000
TZOFFSETFROM:+0200
TZOFFSETTO:+0100
TZNAME:Europe/Berlin CET
END:STANDARD
BEGIN:STANDARD
DTSTART:20201025T020000
RDATE:20210328T030000
TZOFFSETFROM:+0200
TZOFFSETTO:+0100
TZNAME:Europe/Berlin CET
END:STANDARD
BEGIN:STANDARD
DTSTART:20211031T020000
RDATE:20220327T030000
TZOFFSETFROM:+0200
TZOFFSETTO:+0100
TZNAME:Europe/Berlin CET
END:STANDARD
BEGIN:STANDARD
DTSTART:20221030T020000
RDATE:20230326T030000
TZOFFSETFROM:+0200
TZOFFSETTO:+0100
TZNAME:Europe/Berlin CET
END:STANDARD
BEGIN:STANDARD
DTSTART:20231029T020000
RDATE:20240331T030000
TZOFFSETFROM:+0200
TZOFFSETTO:+0100
TZNAME:Europe/Berlin CET
END:STANDARD
BEGIN:STANDARD
DTSTART:20241027T020000
RDATE:20250330T030000
TZOFFSETFROM:+0200
TZOFFSETTO:+0100
TZNAME:Europe/Berlin CET
END:STANDARD
BEGIN:STANDARD
DTSTART:20251026T020000
RDATE:20260329T030000
TZOFFSETFROM:+0200
TZOFFSETTO:+0100
TZNAME:Europe/Berlin CET
END:STANDARD
BEGIN:STANDARD
DTSTART:20261025T020000
RDATE:20270328T030000
TZOFFSETFROM:+0200
TZOFFSETTO:+0100
TZNAME:Europe/Berlin CET
END:STANDARD
BEGIN:STANDARD
DTSTART:20271031T020000
RDATE:20280326T030000
TZOFFSETFROM:+0200
TZOFFSETTO:+0100
TZNAME:Europe/Berlin CET
END:STANDARD
BEGIN:DAYLIGHT
DTSTART:20130331T030000
RDATE:20131027T020000
TZOFFSETFROM:+0100
TZOFFSETTO:+0200
TZNAME:Europe/Berlin CEST
END:DAYLIGHT
BEGIN:DAYLIGHT
DTSTART:20140330T030000
RDATE:20141026T020000
TZOFFSETFROM:+0100
TZOFFSETTO:+0200
TZNAME:Europe/Berlin CEST
END:DAYLIGHT
BEGIN:DAYLIGHT
DTSTART:20150329T030000
RDATE:20151025T020000
TZOFFSETFROM:+0100
TZOFFSETTO:+0200
TZNAME:Europe/Berlin CEST
END:DAYLIGHT
BEGIN:DAYLIGHT
DTSTART:20160327T030000
RDATE:20161030T020000
TZOFFSETFROM:+0100
TZOFFSETTO:+0200
TZNAME:Europe/Berlin CEST
END:DAYLIGHT
BEGIN:DAYLIGHT
DTSTART:20170326T030000
RDATE:20171029T020000
TZOFFSETFROM:+0100
TZOFFSETTO:+0200
TZNAME:Europe/Berlin CEST
END:DAYLIGHT
BEGIN:DAYLIGHT
DTSTART:20180325T030000
RDATE:20181028T020000
TZOFFSETFROM:+0100
TZOFFSETTO:+0200
TZNAME:Europe/Berlin CEST
END:DAYLIGHT
BEGIN:DAYLIGHT
DTSTART:20190331T030000
RDATE:20191027T020000
TZOFFSETFROM:+0100
TZOFFSETTO:+0200
TZNAME:Europe/Berlin CEST
END:DAYLIGHT
BEGIN:DAYLIGHT
DTSTART:20200329T030000
RDATE:20201025T020000
TZOFFSETFROM:+0100
TZOFFSETTO:+0200
TZNAME:Europe/Berlin CEST
END:DAYLIGHT
BEGIN:DAYLIGHT
DTSTART:20210328T030000
RDATE:20211031T020000
TZOFFSETFROM:+0100
TZOFFSETTO:+0200
TZNAME:Europe/Berlin CEST
END:DAYLIGHT
BEGIN:DAYLIGHT
DTSTART:20220327T030000
RDATE:20221030T020000
TZOFFSETFROM:+0100
TZOFFSETTO:+0200
TZNAME:Europe/Berlin CEST
END:DAYLIGHT
BEGIN:DAYLIGHT
DTSTART:20230326T030000
RDATE:20231029T020000
TZOFFSETFROM:+0100
TZOFFSETTO:+0200
TZNAME:Europe/Berlin CEST
END:DAYLIGHT
BEGIN:DAYLIGHT
DTSTART:20240331T030000
RDATE:20241027T020000
TZOFFSETFROM:+0100
TZOFFSETTO:+0200
TZNAME:Europe/Berlin CEST
END:DAYLIGHT
BEGIN:DAYLIGHT
DTSTART:20250330T030000
RDATE:20251026T020000
TZOFFSETFROM:+0100
TZOFFSETTO:+0200
TZNAME:Europe/Berlin CEST
END:DAYLIGHT
BEGIN:DAYLIGHT
DTSTART:20260329T030000
RDATE:20261025T020000
TZOFFSETFROM:+0100
TZOFFSETTO:+0200
TZNAME:Europe/Berlin CEST
END:DAYLIGHT
BEGIN:DAYLIGHT
DTSTART:20270328T030000
RDATE:20271031T020000
TZOFFSETFROM:+0100
TZOFFSETTO:+0200
TZNAME:Europe/Berlin CEST
END:DAYLIGHT
END:VTIMEZONE
BEGIN:VEVENT
UID:8448be33355f8d30bcbd694d98bb783d
CATEGORIES:ESG
CREATED:20140211T112655
SUMMARY:MKE - Tortellini-Brokkoli-Auflauf
URL;VALUE=URI:https://www.esg-trier.de/veranstaltungskalender/eventeinzelheiten/2203/-/mk
 e-tortellini-brokkoli-auflauf?tmpl=component
DESCRIPTION:<p>Wer es kennt, weiß Bescheid.</p><p>Alle anderen schauen in unserer <a ta
 rget="_blank" title="Zur ESG-Facebook-Gruppe" href="https://www.facebook.co
 m/groups/179739165386283/">Facebook-Gruppe</a> nach.</p><p>Wir wünschen: Gu
 ten Appetit!</p> <a href="https://www.esg-trier.de/veranstaltungskalender/e
 venteinzelheiten/2203/-/mke-tortellini-brokkoli-auflauf?tmpl=component">Thi
 s event was imported from: https://www.esg-trier.de/veranstaltungskalender/
 eventeinzelheiten/2203/-/mke-tortellini-brokkoli-auflauf?tmpl=component</a>DTSTAMP:20260424T041155
DTSTART;TZID=Europe/Berlin:20140312T133000
DTEND;TZID=Europe/Berlin:20140312T140000
SEQUENCE:0
RRULE:FREQ=WEEKLY;UNTIL=20140418T000000Z;INTERVAL=1;BYDAY=WE
EXDATE;TZID=Europe/Berlin:20140319T133000,20140326T133000,20140416T133000
TRANSP:OPAQUE
END:VEVENT
BEGIN:VEVENT
UID:8448be33355f8d30bcbd694d98bb783d
CATEGORIES:ESG
CREATED:20140211T112655
SUMMARY:MKE - Linsen und Spätzle (mit Würstchen)
DESCRIPTION:<p>Wer es kennt, weiß Bescheid.</p><p>Alle anderen schauen in unserer <a ta
 rget="_blank" title="Zur ESG-Facebook-Gruppe" href="https://www.facebook.co
 m/groups/179739165386283/">Facebook-Gruppe</a> nach.</p><p>Wir wünschen: Gu
 ten Appetit!</p>
URL;VALUE=URI:https://www.esg-trier.de/veranstaltungskalender/eventeinzelheiten/2199/-/mk
 e-linsen-und-spätzle-mit-würstchen?tmpl=component

DTSTAMP:20260424T041155
DTSTART;TZID=Europe/Berlin:20140212T133000
DTEND;TZID=Europe/Berlin:20140212T140000
RECURRENCE-ID;TZID=Europe/Berlin:20140212T133000
SEQUENCE:0
TRANSP:OPAQUE
END:VEVENT
BEGIN:VEVENT
UID:8448be33355f8d30bcbd694d98bb783d
CATEGORIES:ESG
CREATED:20140211T112655
SUMMARY:MKE - Tumsni Hotschmal
DESCRIPTION:<p>Wer es kennt, weiß Bescheid.</p><p>Alle anderen schauen in unserer <a ta
 rget="_blank" title="Zur ESG-Facebook-Gruppe" href="https://www.facebook.co
 m/groups/179739165386283/">Facebook-Gruppe</a> nach.</p><p>Wir wünschen: Gu
 ten Appetit!</p>
URL;VALUE=URI:https://www.esg-trier.de/veranstaltungskalender/eventeinzelheiten/2200/-/mk
 e-tumsni-hotschmal?tmpl=component

DTSTAMP:20260424T041155
DTSTART;TZID=Europe/Berlin:20140219T133000
DTEND;TZID=Europe/Berlin:20140219T140000
RECURRENCE-ID;TZID=Europe/Berlin:20140219T133000
SEQUENCE:0
TRANSP:OPAQUE
END:VEVENT
BEGIN:VEVENT
UID:8448be33355f8d30bcbd694d98bb783d
CATEGORIES:ESG
CREATED:20140211T112655
SUMMARY:MKE - Spaghetti Bolognese
DESCRIPTION:<p>Wer es kennt, weiß Bescheid.</p><p>Alle anderen schauen in unserer <a ta
 rget="_blank" title="Zur ESG-Facebook-Gruppe" href="https://www.facebook.co
 m/groups/179739165386283/">Facebook-Gruppe</a> nach.</p><p>Wir wünschen: Gu
 ten Appetit!</p>
URL;VALUE=URI:https://www.esg-trier.de/veranstaltungskalender/eventeinzelheiten/2201/-/mk
 e-spaghetti-bolognese?tmpl=component

DTSTAMP:20260424T041155
DTSTART;TZID=Europe/Berlin:20140226T133000
DTEND;TZID=Europe/Berlin:20140226T140000
RECURRENCE-ID;TZID=Europe/Berlin:20140226T133000
SEQUENCE:0
TRANSP:OPAQUE
END:VEVENT
BEGIN:VEVENT
UID:8448be33355f8d30bcbd694d98bb783d
CATEGORIES:ESG
CREATED:20140211T112655
SUMMARY:MKE - Rouladen mit Serviettenknödeln und Rotkraut
DESCRIPTION:<p>Wer es kennt, weiß Bescheid.</p><p>Alle anderen schauen in unserer <a ta
 rget="_blank" title="Zur ESG-Facebook-Gruppe" href="https://www.facebook.co
 m/groups/179739165386283/">Facebook-Gruppe</a> nach.</p><p>Wir wünschen: Gu
 ten Appetit!</p>
URL;VALUE=URI:https://www.esg-trier.de/veranstaltungskalender/eventeinzelheiten/2202/-/mk
 e-rouladen-mit-serviettenknödeln-und-rotkraut?tmpl=component

DTSTAMP:20260424T041155
DTSTART;TZID=Europe/Berlin:20140305T133000
DTEND;TZID=Europe/Berlin:20140305T140000
RECURRENCE-ID;TZID=Europe/Berlin:20140305T133000
SEQUENCE:0
TRANSP:OPAQUE
END:VEVENT
BEGIN:VEVENT
UID:8448be33355f8d30bcbd694d98bb783d
CATEGORIES:ESG
CREATED:20140211T112655
SUMMARY:MKE - Tortellini-Brokkoli-Auflauf
DESCRIPTION:<p>Wer es kennt, weiß Bescheid.</p><p>Alle anderen schauen in unserer <a ta
 rget="_blank" title="Zur ESG-Facebook-Gruppe" href="https://www.facebook.co
 m/groups/179739165386283/">Facebook-Gruppe</a> nach.</p><p>Wir wünschen: Gu
 ten Appetit!</p>
URL;VALUE=URI:https://www.esg-trier.de/veranstaltungskalender/eventeinzelheiten/2203/-/mk
 e-tortellini-brokkoli-auflauf?tmpl=component

DTSTAMP:20260424T041155
DTSTART;TZID=Europe/Berlin:20140312T133000
DTEND;TZID=Europe/Berlin:20140312T140000
RECURRENCE-ID;TZID=Europe/Berlin:20140312T133000
SEQUENCE:0
TRANSP:OPAQUE
END:VEVENT
END:VCALENDAR