BEGIN:VCALENDAR
VERSION:2.0
PRODID:-//jEvents 2.0 for Joomla//EN
CALSCALE:GREGORIAN
METHOD:PUBLISH
BEGIN:VTIMEZONE
TZID:Europe/Berlin
BEGIN:STANDARD
DTSTART:20231029T020000
RDATE:20240331T030000
TZOFFSETFROM:+0200
TZOFFSETTO:+0100
TZNAME:Europe/Berlin CET
END:STANDARD
BEGIN:STANDARD
DTSTART:20241027T020000
RDATE:20250330T030000
TZOFFSETFROM:+0200
TZOFFSETTO:+0100
TZNAME:Europe/Berlin CET
END:STANDARD
BEGIN:STANDARD
DTSTART:20251026T020000
RDATE:20260329T030000
TZOFFSETFROM:+0200
TZOFFSETTO:+0100
TZNAME:Europe/Berlin CET
END:STANDARD
BEGIN:STANDARD
DTSTART:20261025T020000
RDATE:20270328T030000
TZOFFSETFROM:+0200
TZOFFSETTO:+0100
TZNAME:Europe/Berlin CET
END:STANDARD
BEGIN:STANDARD
DTSTART:20271031T020000
RDATE:20280326T030000
TZOFFSETFROM:+0200
TZOFFSETTO:+0100
TZNAME:Europe/Berlin CET
END:STANDARD
BEGIN:DAYLIGHT
DTSTART:20230902T173000
RDATE:20231029T020000
TZOFFSETFROM:+0100
TZOFFSETTO:+0200
TZNAME:Europe/Berlin CEST
END:DAYLIGHT
BEGIN:DAYLIGHT
DTSTART:20240331T030000
RDATE:20241027T020000
TZOFFSETFROM:+0100
TZOFFSETTO:+0200
TZNAME:Europe/Berlin CEST
END:DAYLIGHT
BEGIN:DAYLIGHT
DTSTART:20250330T030000
RDATE:20251026T020000
TZOFFSETFROM:+0100
TZOFFSETTO:+0200
TZNAME:Europe/Berlin CEST
END:DAYLIGHT
BEGIN:DAYLIGHT
DTSTART:20260329T030000
RDATE:20261025T020000
TZOFFSETFROM:+0100
TZOFFSETTO:+0200
TZNAME:Europe/Berlin CEST
END:DAYLIGHT
BEGIN:DAYLIGHT
DTSTART:20270328T030000
RDATE:20271031T020000
TZOFFSETFROM:+0100
TZOFFSETTO:+0200
TZNAME:Europe/Berlin CEST
END:DAYLIGHT
END:VTIMEZONE
BEGIN:VEVENT
UID:6e7d3f6c6a2bb58fb0bb7b656af11202
CATEGORIES:Gruppen
CREATED:20240403T104000
SUMMARY:SHG Hochsensibilität
URL;VALUE=URI:https://www.esg-trier.de/veranstaltungskalender/eventeinzelheiten/7658/-/sh
 g-hochsensibilität?tmpl=component
DESCRIPTION: This event was imported from: https://www.esg-trier.de/veranstaltungskalen
 der/eventeinzelheiten/7658/-/shg-hochsensibilität?tmpl=component (https://w
 ww.esg-trier.de/veranstaltungskalender/eventeinzelheiten/7658/-/shg-hochsen
 sibilität?tmpl=component)
X-ALT-DESC;FMTTYPE=text/html: <a href="https://www.esg-trier.de/veranstaltungskalender/eventeinzelheiten
 /7658/-/shg-hochsensibilität?tmpl=component">This event was imported from: 
 https://www.esg-trier.de/veranstaltungskalender/eventeinzelheiten/7658/-/sh
 g-hochsensibilität?tmpl=component</a>DTSTAMP:20260422T012911
DTSTART;TZID=Europe/Berlin:20240902T173000
DTEND;TZID=Europe/Berlin:20240902T193000
SEQUENCE:0
TRANSP:OPAQUE
END:VEVENT
END:VCALENDAR